BEGIN:VCALENDAR
VERSION:2.0
PRODID:-//spbstu.ru//ical//RU
NAME:Расписание группы 5130901/50001
X-WR-CALNAME:Расписание группы 5130901/50001
TIMEZONE-ID:Europe/Moscow
X-WR-TIMEZONE:Europe/Moscow
BEGIN:VEVENT
UID:izsf@192.168.245.71:3006
SEQUENCE:0
DTSTAMP:20260420T221541Z
DTSTART:20260406T070000Z
DTEND:20260406T084000Z
SUMMARY:Инженерная и компьютерная графика
LOCATION:3 к. 406
END:VEVENT
BEGIN:VEVENT
UID:1myp@192.168.245.71:3006
SEQUENCE:0
DTSTAMP:20260420T221541Z
DTSTART:20260406T110000Z
DTEND:20260406T124000Z
SUMMARY:Структуры данных
LOCATION:ГЗ 237
END:VEVENT
BEGIN:VEVENT
UID:bk1a@192.168.245.71:3006
SEQUENCE:0
DTSTAMP:20260420T221541Z
DTSTART:20260407T090000Z
DTEND:20260407T104000Z
SUMMARY:Дискретная математика
LOCATION:3 к. 201
END:VEVENT
BEGIN:VEVENT
UID:wpx8@192.168.245.71:3006
SEQUENCE:0
DTSTAMP:20260420T221541Z
DTSTART:20260407T110000Z
DTEND:20260407T124000Z
SUMMARY:Дискретная математика
LOCATION:3 к. 209
END:VEVENT
BEGIN:VEVENT
UID:8d0u@192.168.245.71:3006
SEQUENCE:0
DTSTAMP:20260420T221541Z
DTSTART:20260407T130000Z
DTEND:20260407T144000Z
SUMMARY:Инженерная и компьютерная графика
LOCATION:11 к. 148
END:VEVENT
BEGIN:VEVENT
UID:id3n@192.168.245.71:3006
SEQUENCE:0
DTSTAMP:20260420T221541Z
DTSTART:20260408T050000Z
DTEND:20260408T064000Z
SUMMARY:Элективная физическая культура и спорт
LOCATION:СК Секции
END:VEVENT
BEGIN:VEVENT
UID:59ff@192.168.245.71:3006
SEQUENCE:0
DTSTAMP:20260420T221541Z
DTSTART:20260408T070000Z
DTEND:20260408T084000Z
SUMMARY:Высшая математика
LOCATION:3 к. 201
END:VEVENT
BEGIN:VEVENT
UID:ptcg@192.168.245.71:3006
SEQUENCE:0
DTSTAMP:20260420T221541Z
DTSTART:20260408T090000Z
DTEND:20260408T104000Z
SUMMARY:Физика
LOCATION:ГЗ 237
END:VEVENT
BEGIN:VEVENT
UID:d8jh@192.168.245.71:3006
SEQUENCE:0
DTSTAMP:20260420T221541Z
DTSTART:20260408T110000Z
DTEND:20260408T124000Z
SUMMARY:Структуры данных
LOCATION:3 к. 404
END:VEVENT
BEGIN:VEVENT
UID:0nqr@192.168.245.71:3006
SEQUENCE:0
DTSTAMP:20260420T221541Z
DTSTART:20260409T070000Z
DTEND:20260409T084000Z
SUMMARY:Высшая математика
LOCATION:3 к. 205
END:VEVENT
BEGIN:VEVENT
UID:ovqo@192.168.245.71:3006
SEQUENCE:0
DTSTAMP:20260420T221541Z
DTSTART:20260409T090000Z
DTEND:20260409T104000Z
SUMMARY:Физика
LOCATION:3 к. 208
END:VEVENT
BEGIN:VEVENT
UID:bxmw@192.168.245.71:3006
SEQUENCE:0
DTSTAMP:20260420T221541Z
DTSTART:20260409T110000Z
DTEND:20260409T124000Z
SUMMARY:Иностранный язык: Базовый курс
LOCATION:3 к. 204
END:VEVENT
BEGIN:VEVENT
UID:n2mg@192.168.245.71:3006
SEQUENCE:0
DTSTAMP:20260420T221541Z
DTSTART:20260409T130000Z
DTEND:20260409T144000Z
SUMMARY:История России
LOCATION:11 к. 319
END:VEVENT
BEGIN:VEVENT
UID:92g5@192.168.245.71:3006
SEQUENCE:0
DTSTAMP:20260420T221541Z
DTSTART:20260409T144000Z
DTEND:20260409T154000Z
SUMMARY:Высшая математика
LOCATION:ГЗ 237
END:VEVENT
BEGIN:VEVENT
UID:q2cj@192.168.245.71:3006
SEQUENCE:0
DTSTAMP:20260420T221541Z
DTSTART:20260410T050000Z
DTEND:20260410T064000Z
SUMMARY:Иностранный язык: Русский язык как иностранный
LOCATION:3 к. 503
END:VEVENT
BEGIN:VEVENT
UID:9fl2@192.168.245.71:3006
SEQUENCE:0
DTSTAMP:20260420T221541Z
DTSTART:20260410T070000Z
DTEND:20260410T084000Z
SUMMARY:Высшая математика
LOCATION:3 к. 215
END:VEVENT
BEGIN:VEVENT
UID:5xy0@192.168.245.71:3006
SEQUENCE:0
DTSTAMP:20260420T221541Z
DTSTART:20260410T090000Z
DTEND:20260410T104000Z
SUMMARY:Физика
LOCATION:ГЗ 237
END:VEVENT
BEGIN:VEVENT
UID:e0se@192.168.245.71:3006
SEQUENCE:0
DTSTAMP:20260420T221541Z
DTSTART:20260410T110000Z
DTEND:20260410T124000Z
SUMMARY:Физика
LOCATION:ГЗ 186 А
END:VEVENT
BEGIN:VEVENT
UID:axkp@192.168.245.71:3006
SEQUENCE:0
DTSTAMP:20260420T221541Z
DTSTART:20260410T110000Z
DTEND:20260410T124000Z
SUMMARY:Физика
LOCATION:ГЗ 186 А
END:VEVENT
BEGIN:VEVENT
UID:9e56@192.168.245.71:3006
SEQUENCE:0
DTSTAMP:20260420T221541Z
DTSTART:20260410T130000Z
DTEND:20260410T144000Z
SUMMARY:Высшая математика
LOCATION:3 к. 211
END:VEVENT
BEGIN:VEVENT
UID:oz2v@192.168.245.71:3006
SEQUENCE:0
DTSTAMP:20260420T221541Z
DTSTART:20260411T070000Z
DTEND:20260411T084000Z
SUMMARY:Элективная физическая культура и спорт
LOCATION:СК Секции
END:VEVENT
BEGIN:VEVENT
UID:iqeo@192.168.245.71:3006
SEQUENCE:0
DTSTAMP:20260420T221541Z
DTSTART:20260411T110000Z
DTEND:20260411T124000Z
SUMMARY:Иностранный язык: Русский язык как иностранный
LOCATION:3 к. 503
END:VEVENT
END:VCALENDAR