BEGIN:VCALENDAR
VERSION:2.0
PRODID:-//spbstu.ru//ical//RU
NAME:Расписание группы 5130901/50002
X-WR-CALNAME:Расписание группы 5130901/50002
TIMEZONE-ID:Europe/Moscow
X-WR-TIMEZONE:Europe/Moscow
BEGIN:VEVENT
UID:pmpu@192.168.245.71:3006
SEQUENCE:0
DTSTAMP:20260424T172547Z
DTSTART:20251013T110000Z
DTEND:20251013T124000Z
SUMMARY:Алгоритмизация и программирование
LOCATION:ГЗ 237
END:VEVENT
BEGIN:VEVENT
UID:q19v@192.168.245.71:3006
SEQUENCE:0
DTSTAMP:20260424T172547Z
DTSTART:20251014T070000Z
DTEND:20251014T084000Z
SUMMARY:Основы российской государственности
LOCATION:3 к. 501
END:VEVENT
BEGIN:VEVENT
UID:1za9@192.168.245.71:3006
SEQUENCE:0
DTSTAMP:20260424T172547Z
DTSTART:20251014T090000Z
DTEND:20251014T104000Z
SUMMARY:Алгоритмизация и программирование
LOCATION:3 к. 404
END:VEVENT
BEGIN:VEVENT
UID:2zc7@192.168.245.71:3006
SEQUENCE:0
DTSTAMP:20260424T172547Z
DTSTART:20251014T110000Z
DTEND:20251014T124000Z
SUMMARY:Алгоритмизация и программирование
LOCATION:3 к. 404
END:VEVENT
BEGIN:VEVENT
UID:6xcg@192.168.245.71:3006
SEQUENCE:0
DTSTAMP:20260424T172547Z
DTSTART:20251015T050000Z
DTEND:20251015T064000Z
SUMMARY:Элективная физическая культура и спорт
LOCATION:СК Секции
END:VEVENT
BEGIN:VEVENT
UID:fmrk@192.168.245.71:3006
SEQUENCE:0
DTSTAMP:20260424T172547Z
DTSTART:20251015T090000Z
DTEND:20251015T104000Z
SUMMARY:Физика
LOCATION:ГЗ 237
END:VEVENT
BEGIN:VEVENT
UID:jl1h@192.168.245.71:3006
SEQUENCE:0
DTSTAMP:20260424T172547Z
DTSTART:20251015T110000Z
DTEND:20251015T124000Z
SUMMARY:Высшая математика
LOCATION:3 к. 201
END:VEVENT
BEGIN:VEVENT
UID:qys6@192.168.245.71:3006
SEQUENCE:0
DTSTAMP:20260424T172547Z
DTSTART:20251015T130000Z
DTEND:20251015T144000Z
SUMMARY:Высшая математика
LOCATION:3 к. 211
END:VEVENT
BEGIN:VEVENT
UID:m4iz@192.168.245.71:3006
SEQUENCE:0
DTSTAMP:20260424T172547Z
DTSTART:20251016T090000Z
DTEND:20251016T104000Z
SUMMARY:Введение в профессиональную деятельность
LOCATION:3 к. 215
END:VEVENT
BEGIN:VEVENT
UID:oc2w@192.168.245.71:3006
SEQUENCE:0
DTSTAMP:20260424T172547Z
DTSTART:20251016T110000Z
DTEND:20251016T124000Z
SUMMARY:Физика
LOCATION:11 к. 315
END:VEVENT
BEGIN:VEVENT
UID:chj7@192.168.245.71:3006
SEQUENCE:0
DTSTAMP:20260424T172547Z
DTSTART:20251017T050000Z
DTEND:20251017T064000Z
SUMMARY:Иностранный язык: Русский язык как иностранный
LOCATION:3 к. 503
END:VEVENT
BEGIN:VEVENT
UID:4sz4@192.168.245.71:3006
SEQUENCE:0
DTSTAMP:20260424T172547Z
DTSTART:20251017T070000Z
DTEND:20251017T084000Z
SUMMARY:Высшая математика
LOCATION:3 к. 209
END:VEVENT
BEGIN:VEVENT
UID:yvre@192.168.245.71:3006
SEQUENCE:0
DTSTAMP:20260424T172547Z
DTSTART:20251017T110000Z
DTEND:20251017T124000Z
SUMMARY:Компьютерная алгебра
LOCATION:3 к. 201
END:VEVENT
BEGIN:VEVENT
UID:mpc6@192.168.245.71:3006
SEQUENCE:0
DTSTAMP:20260424T172547Z
DTSTART:20251018T070000Z
DTEND:20251018T084000Z
SUMMARY:Элективная физическая культура и спорт
LOCATION:СК Секции
END:VEVENT
BEGIN:VEVENT
UID:c73z@192.168.245.71:3006
SEQUENCE:0
DTSTAMP:20260424T172547Z
DTSTART:20251018T090000Z
DTEND:20251018T104000Z
SUMMARY:Иностранный язык: Базовый курс
LOCATION:11 к. 316
END:VEVENT
BEGIN:VEVENT
UID:6i54@192.168.245.71:3006
SEQUENCE:0
DTSTAMP:20260424T172547Z
DTSTART:20251018T130000Z
DTEND:20251018T144000Z
SUMMARY:Иностранный язык: Русский язык как иностранный
LOCATION:3 к. 211
END:VEVENT
END:VCALENDAR