BEGIN:VCALENDAR
VERSION:2.0
PRODID:-//spbstu.ru//ical//RU
NAME:Расписание группы 5130901/50002
X-WR-CALNAME:Расписание группы 5130901/50002
TIMEZONE-ID:Europe/Moscow
X-WR-TIMEZONE:Europe/Moscow
BEGIN:VEVENT
UID:uok4@192.168.245.71:3006
SEQUENCE:0
DTSTAMP:20260423T230143Z
DTSTART:20251027T110000Z
DTEND:20251027T124000Z
SUMMARY:Алгоритмизация и программирование
LOCATION:ГЗ 237
END:VEVENT
BEGIN:VEVENT
UID:r1xl@192.168.245.71:3006
SEQUENCE:0
DTSTAMP:20260423T230143Z
DTSTART:20251028T070000Z
DTEND:20251028T084000Z
SUMMARY:Основы российской государственности
LOCATION:3 к. 501
END:VEVENT
BEGIN:VEVENT
UID:17h3@192.168.245.71:3006
SEQUENCE:0
DTSTAMP:20260423T230143Z
DTSTART:20251028T090000Z
DTEND:20251028T104000Z
SUMMARY:Алгоритмизация и программирование
LOCATION:3 к. 404
END:VEVENT
BEGIN:VEVENT
UID:2bfb@192.168.245.71:3006
SEQUENCE:0
DTSTAMP:20260423T230143Z
DTSTART:20251028T110000Z
DTEND:20251028T124000Z
SUMMARY:Алгоритмизация и программирование
LOCATION:3 к. 404
END:VEVENT
BEGIN:VEVENT
UID:36iw@192.168.245.71:3006
SEQUENCE:0
DTSTAMP:20260423T230143Z
DTSTART:20251029T050000Z
DTEND:20251029T064000Z
SUMMARY:Элективная физическая культура и спорт
LOCATION:СК Секции
END:VEVENT
BEGIN:VEVENT
UID:oq79@192.168.245.71:3006
SEQUENCE:0
DTSTAMP:20260423T230143Z
DTSTART:20251029T090000Z
DTEND:20251029T104000Z
SUMMARY:Физика
LOCATION:ГЗ 237
END:VEVENT
BEGIN:VEVENT
UID:a3ck@192.168.245.71:3006
SEQUENCE:0
DTSTAMP:20260423T230143Z
DTSTART:20251029T110000Z
DTEND:20251029T124000Z
SUMMARY:Высшая математика
LOCATION:3 к. 201
END:VEVENT
BEGIN:VEVENT
UID:0sq0@192.168.245.71:3006
SEQUENCE:0
DTSTAMP:20260423T230143Z
DTSTART:20251029T130000Z
DTEND:20251029T144000Z
SUMMARY:Высшая математика
LOCATION:3 к. 211
END:VEVENT
BEGIN:VEVENT
UID:xhtg@192.168.245.71:3006
SEQUENCE:0
DTSTAMP:20260423T230143Z
DTSTART:20251030T090000Z
DTEND:20251030T104000Z
SUMMARY:Введение в профессиональную деятельность
LOCATION:3 к. 215
END:VEVENT
BEGIN:VEVENT
UID:agkz@192.168.245.71:3006
SEQUENCE:0
DTSTAMP:20260423T230143Z
DTSTART:20251030T110000Z
DTEND:20251030T124000Z
SUMMARY:Физика
LOCATION:11 к. 315
END:VEVENT
BEGIN:VEVENT
UID:wh1m@192.168.245.71:3006
SEQUENCE:0
DTSTAMP:20260423T230143Z
DTSTART:20251031T050000Z
DTEND:20251031T064000Z
SUMMARY:Иностранный язык: Русский язык как иностранный
LOCATION:3 к. 503
END:VEVENT
BEGIN:VEVENT
UID:15bh@192.168.245.71:3006
SEQUENCE:0
DTSTAMP:20260423T230143Z
DTSTART:20251031T070000Z
DTEND:20251031T084000Z
SUMMARY:Высшая математика
LOCATION:3 к. 209
END:VEVENT
BEGIN:VEVENT
UID:pq22@192.168.245.71:3006
SEQUENCE:0
DTSTAMP:20260423T230143Z
DTSTART:20251031T110000Z
DTEND:20251031T124000Z
SUMMARY:Компьютерная алгебра
LOCATION:3 к. 201
END:VEVENT
BEGIN:VEVENT
UID:rsui@192.168.245.71:3006
SEQUENCE:0
DTSTAMP:20260423T230143Z
DTSTART:20251101T070000Z
DTEND:20251101T084000Z
SUMMARY:Элективная физическая культура и спорт
LOCATION:СК Секции
END:VEVENT
BEGIN:VEVENT
UID:h2tt@192.168.245.71:3006
SEQUENCE:0
DTSTAMP:20260423T230143Z
DTSTART:20251101T090000Z
DTEND:20251101T104000Z
SUMMARY:Иностранный язык: Базовый курс
LOCATION:11 к. 316
END:VEVENT
BEGIN:VEVENT
UID:uk62@192.168.245.71:3006
SEQUENCE:0
DTSTAMP:20260423T230143Z
DTSTART:20251101T130000Z
DTEND:20251101T144000Z
SUMMARY:Иностранный язык: Русский язык как иностранный
LOCATION:3 к. 211
END:VEVENT
END:VCALENDAR