BEGIN:VCALENDAR
VERSION:2.0
PRODID:-//spbstu.ru//ical//RU
NAME:Расписание группы 5130901/50002
X-WR-CALNAME:Расписание группы 5130901/50002
TIMEZONE-ID:Europe/Moscow
X-WR-TIMEZONE:Europe/Moscow
BEGIN:VEVENT
UID:fnvh@192.168.245.71:3006
SEQUENCE:0
DTSTAMP:20260423T093621Z
DTSTART:20251110T110000Z
DTEND:20251110T124000Z
SUMMARY:Алгоритмизация и программирование
LOCATION:ГЗ 237
END:VEVENT
BEGIN:VEVENT
UID:8pb6@192.168.245.71:3006
SEQUENCE:0
DTSTAMP:20260423T093621Z
DTSTART:20251111T070000Z
DTEND:20251111T084000Z
SUMMARY:Основы российской государственности
LOCATION:3 к. 501
END:VEVENT
BEGIN:VEVENT
UID:izrx@192.168.245.71:3006
SEQUENCE:0
DTSTAMP:20260423T093621Z
DTSTART:20251111T090000Z
DTEND:20251111T104000Z
SUMMARY:Алгоритмизация и программирование
LOCATION:3 к. 404
END:VEVENT
BEGIN:VEVENT
UID:yju4@192.168.245.71:3006
SEQUENCE:0
DTSTAMP:20260423T093621Z
DTSTART:20251111T110000Z
DTEND:20251111T124000Z
SUMMARY:Алгоритмизация и программирование
LOCATION:3 к. 404
END:VEVENT
BEGIN:VEVENT
UID:ly9z@192.168.245.71:3006
SEQUENCE:0
DTSTAMP:20260423T093621Z
DTSTART:20251112T050000Z
DTEND:20251112T064000Z
SUMMARY:Элективная физическая культура и спорт
LOCATION:СК Секции
END:VEVENT
BEGIN:VEVENT
UID:mjsu@192.168.245.71:3006
SEQUENCE:0
DTSTAMP:20260423T093621Z
DTSTART:20251112T090000Z
DTEND:20251112T104000Z
SUMMARY:Физика
LOCATION:ГЗ 237
END:VEVENT
BEGIN:VEVENT
UID:61pw@192.168.245.71:3006
SEQUENCE:0
DTSTAMP:20260423T093621Z
DTSTART:20251112T110000Z
DTEND:20251112T124000Z
SUMMARY:Высшая математика
LOCATION:3 к. 201
END:VEVENT
BEGIN:VEVENT
UID:qveh@192.168.245.71:3006
SEQUENCE:0
DTSTAMP:20260423T093621Z
DTSTART:20251112T130000Z
DTEND:20251112T144000Z
SUMMARY:Высшая математика
LOCATION:3 к. 211
END:VEVENT
BEGIN:VEVENT
UID:twtd@192.168.245.71:3006
SEQUENCE:0
DTSTAMP:20260423T093621Z
DTSTART:20251113T090000Z
DTEND:20251113T104000Z
SUMMARY:Введение в профессиональную деятельность
LOCATION:3 к. 215
END:VEVENT
BEGIN:VEVENT
UID:q2zy@192.168.245.71:3006
SEQUENCE:0
DTSTAMP:20260423T093621Z
DTSTART:20251113T110000Z
DTEND:20251113T124000Z
SUMMARY:Физика
LOCATION:11 к. 315
END:VEVENT
BEGIN:VEVENT
UID:mhk8@192.168.245.71:3006
SEQUENCE:0
DTSTAMP:20260423T093621Z
DTSTART:20251114T050000Z
DTEND:20251114T064000Z
SUMMARY:Иностранный язык: Русский язык как иностранный
LOCATION:3 к. 503
END:VEVENT
BEGIN:VEVENT
UID:ewn3@192.168.245.71:3006
SEQUENCE:0
DTSTAMP:20260423T093621Z
DTSTART:20251114T070000Z
DTEND:20251114T084000Z
SUMMARY:Высшая математика
LOCATION:3 к. 209
END:VEVENT
BEGIN:VEVENT
UID:c6cv@192.168.245.71:3006
SEQUENCE:0
DTSTAMP:20260423T093621Z
DTSTART:20251114T090000Z
DTEND:20251114T104000Z
SUMMARY:Алгоритмизация и программирование
LOCATION:3 к. 402
END:VEVENT
BEGIN:VEVENT
UID:iwdc@192.168.245.71:3006
SEQUENCE:0
DTSTAMP:20260423T093621Z
DTSTART:20251114T110000Z
DTEND:20251114T124000Z
SUMMARY:Компьютерная алгебра
LOCATION:3 к. 201
END:VEVENT
BEGIN:VEVENT
UID:r060@192.168.245.71:3006
SEQUENCE:0
DTSTAMP:20260423T093621Z
DTSTART:20251115T070000Z
DTEND:20251115T084000Z
SUMMARY:Элективная физическая культура и спорт
LOCATION:СК Секции
END:VEVENT
BEGIN:VEVENT
UID:4kjt@192.168.245.71:3006
SEQUENCE:0
DTSTAMP:20260423T093621Z
DTSTART:20251115T090000Z
DTEND:20251115T104000Z
SUMMARY:Иностранный язык: Базовый курс
LOCATION:11 к. 316
END:VEVENT
BEGIN:VEVENT
UID:0ulr@192.168.245.71:3006
SEQUENCE:0
DTSTAMP:20260423T093621Z
DTSTART:20251115T130000Z
DTEND:20251115T144000Z
SUMMARY:Иностранный язык: Русский язык как иностранный
LOCATION:3 к. 211
END:VEVENT
END:VCALENDAR