BEGIN:VCALENDAR
VERSION:2.0
PRODID:-//spbstu.ru//ical//RU
NAME:Расписание группы 5130901/50002
X-WR-CALNAME:Расписание группы 5130901/50002
TIMEZONE-ID:Europe/Moscow
X-WR-TIMEZONE:Europe/Moscow
BEGIN:VEVENT
UID:yygy@192.168.245.71:3006
SEQUENCE:0
DTSTAMP:20260421T102755Z
DTSTART:20260224T090000Z
DTEND:20260224T104000Z
SUMMARY:Дискретная математика
LOCATION:3 к. 201
END:VEVENT
BEGIN:VEVENT
UID:vuva@192.168.245.71:3006
SEQUENCE:0
DTSTAMP:20260421T102755Z
DTSTART:20260224T110000Z
DTEND:20260224T124000Z
SUMMARY:Структуры данных
LOCATION:3 к. 405
END:VEVENT
BEGIN:VEVENT
UID:dq3v@192.168.245.71:3006
SEQUENCE:0
DTSTAMP:20260421T102755Z
DTSTART:20260224T130000Z
DTEND:20260224T144000Z
SUMMARY:Инженерная и компьютерная графика
LOCATION:11 к. 148
END:VEVENT
BEGIN:VEVENT
UID:ns9t@192.168.245.71:3006
SEQUENCE:0
DTSTAMP:20260421T102755Z
DTSTART:20260225T050000Z
DTEND:20260225T064000Z
SUMMARY:Элективная физическая культура и спорт
LOCATION:СК Секции
END:VEVENT
BEGIN:VEVENT
UID:wery@192.168.245.71:3006
SEQUENCE:0
DTSTAMP:20260421T102755Z
DTSTART:20260225T070000Z
DTEND:20260225T084000Z
SUMMARY:Высшая математика
LOCATION:3 к. 201
END:VEVENT
BEGIN:VEVENT
UID:2j5m@192.168.245.71:3006
SEQUENCE:0
DTSTAMP:20260421T102755Z
DTSTART:20260225T090000Z
DTEND:20260225T104000Z
SUMMARY:Физика
LOCATION:ГЗ 237
END:VEVENT
BEGIN:VEVENT
UID:cltl@192.168.245.71:3006
SEQUENCE:0
DTSTAMP:20260421T102755Z
DTSTART:20260225T130000Z
DTEND:20260225T144000Z
SUMMARY:Структуры данных
LOCATION:3 к. 404
END:VEVENT
BEGIN:VEVENT
UID:gwbe@192.168.245.71:3006
SEQUENCE:0
DTSTAMP:20260421T102755Z
DTSTART:20260225T140000Z
DTEND:20260225T164000Z
SUMMARY:Физика
LOCATION:ГЗ 237
END:VEVENT
BEGIN:VEVENT
UID:zxmc@192.168.245.71:3006
SEQUENCE:0
DTSTAMP:20260421T102755Z
DTSTART:20260226T070000Z
DTEND:20260226T084000Z
SUMMARY:Дискретная математика
LOCATION:3 к. 211
END:VEVENT
BEGIN:VEVENT
UID:e5ke@192.168.245.71:3006
SEQUENCE:0
DTSTAMP:20260421T102755Z
DTSTART:20260226T090000Z
DTEND:20260226T104000Z
SUMMARY:Высшая математика
LOCATION:3 к. 205
END:VEVENT
BEGIN:VEVENT
UID:qdc7@192.168.245.71:3006
SEQUENCE:0
DTSTAMP:20260421T102755Z
DTSTART:20260226T110000Z
DTEND:20260226T124000Z
SUMMARY:История России
LOCATION:11 к. 321
END:VEVENT
BEGIN:VEVENT
UID:bsfl@192.168.245.71:3006
SEQUENCE:0
DTSTAMP:20260421T102755Z
DTSTART:20260226T150000Z
DTEND:20260226T164000Z
SUMMARY:Высшая математика
LOCATION:3 к. 401
END:VEVENT
BEGIN:VEVENT
UID:bl0i@192.168.245.71:3006
SEQUENCE:0
DTSTAMP:20260421T102755Z
DTSTART:20260227T050000Z
DTEND:20260227T064000Z
SUMMARY:Иностранный язык: Русский язык как иностранный
LOCATION:3 к. 503
END:VEVENT
BEGIN:VEVENT
UID:ne9n@192.168.245.71:3006
SEQUENCE:0
DTSTAMP:20260421T102755Z
DTSTART:20260227T070000Z
DTEND:20260227T084000Z
SUMMARY:Высшая математика
LOCATION:3 к. 215
END:VEVENT
BEGIN:VEVENT
UID:h5fv@192.168.245.71:3006
SEQUENCE:0
DTSTAMP:20260421T102755Z
DTSTART:20260227T090000Z
DTEND:20260227T104000Z
SUMMARY:Физика
LOCATION:ГЗ 237
END:VEVENT
BEGIN:VEVENT
UID:max3@192.168.245.71:3006
SEQUENCE:0
DTSTAMP:20260421T102755Z
DTSTART:20260227T110000Z
DTEND:20260227T124000Z
SUMMARY:Высшая математика
LOCATION:3 к. 209
END:VEVENT
BEGIN:VEVENT
UID:nrge@192.168.245.71:3006
SEQUENCE:0
DTSTAMP:20260421T102755Z
DTSTART:20260227T150000Z
DTEND:20260227T164000Z
SUMMARY:Алгоритмизация и программирование
LOCATION:3 к. 505
END:VEVENT
BEGIN:VEVENT
UID:j9ax@192.168.245.71:3006
SEQUENCE:0
DTSTAMP:20260421T102755Z
DTSTART:20260228T050000Z
DTEND:20260228T064000Z
SUMMARY:Элективная физическая культура и спорт
LOCATION:СК Секции
END:VEVENT
BEGIN:VEVENT
UID:6v3i@192.168.245.71:3006
SEQUENCE:0
DTSTAMP:20260421T102755Z
DTSTART:20260228T070000Z
DTEND:20260228T084000Z
SUMMARY:Элективная физическая культура и спорт
LOCATION:СК Секции
END:VEVENT
BEGIN:VEVENT
UID:1wxz@192.168.245.71:3006
SEQUENCE:0
DTSTAMP:20260421T102755Z
DTSTART:20260228T090000Z
DTEND:20260228T104000Z
SUMMARY:Иностранный язык: Базовый курс
LOCATION:11 к. 330
END:VEVENT
BEGIN:VEVENT
UID:16xh@192.168.245.71:3006
SEQUENCE:0
DTSTAMP:20260421T102755Z
DTSTART:20260228T110000Z
DTEND:20260228T124000Z
SUMMARY:Иностранный язык: Русский язык как иностранный
LOCATION:3 к. 503
END:VEVENT
END:VCALENDAR