BEGIN:VCALENDAR
VERSION:2.0
PRODID:-//spbstu.ru//ical//RU
NAME:Расписание группы 5130901/50003
X-WR-CALNAME:Расписание группы 5130901/50003
TIMEZONE-ID:Europe/Moscow
X-WR-TIMEZONE:Europe/Moscow
BEGIN:VEVENT
UID:e8bt@192.168.245.71:3006
SEQUENCE:0
DTSTAMP:20260423T031813Z
DTSTART:20251124T070000Z
DTEND:20251124T084000Z
SUMMARY:Физика
LOCATION:ГЗ 155
END:VEVENT
BEGIN:VEVENT
UID:qgc4@192.168.245.71:3006
SEQUENCE:0
DTSTAMP:20260423T031813Z
DTSTART:20251124T070000Z
DTEND:20251124T084000Z
SUMMARY:Физика
LOCATION:ГЗ 155
END:VEVENT
BEGIN:VEVENT
UID:fhwk@192.168.245.71:3006
SEQUENCE:0
DTSTAMP:20260423T031813Z
DTSTART:20251124T110000Z
DTEND:20251124T124000Z
SUMMARY:Алгоритмизация и программирование
LOCATION:ГЗ 237
END:VEVENT
BEGIN:VEVENT
UID:dswl@192.168.245.71:3006
SEQUENCE:0
DTSTAMP:20260423T031813Z
DTSTART:20251125T070000Z
DTEND:20251125T084000Z
SUMMARY:Основы российской государственности
LOCATION:3 к. 501
END:VEVENT
BEGIN:VEVENT
UID:4kk3@192.168.245.71:3006
SEQUENCE:0
DTSTAMP:20260423T031813Z
DTSTART:20251125T110000Z
DTEND:20251125T124000Z
SUMMARY:Алгоритмизация и программирование
LOCATION:3 к. 505
END:VEVENT
BEGIN:VEVENT
UID:77fx@192.168.245.71:3006
SEQUENCE:0
DTSTAMP:20260423T031813Z
DTSTART:20251125T130000Z
DTEND:20251125T144000Z
SUMMARY:Высшая математика
LOCATION:3 к. 211
END:VEVENT
BEGIN:VEVENT
UID:xbhs@192.168.245.71:3006
SEQUENCE:0
DTSTAMP:20260423T031813Z
DTSTART:20251125T150000Z
DTEND:20251125T164000Z
SUMMARY:Факультатив по математике
LOCATION:ГЗ 235
END:VEVENT
BEGIN:VEVENT
UID:4739@192.168.245.71:3006
SEQUENCE:0
DTSTAMP:20260423T031813Z
DTSTART:20251126T050000Z
DTEND:20251126T064000Z
SUMMARY:Элективная физическая культура и спорт
LOCATION:СК Секции
END:VEVENT
BEGIN:VEVENT
UID:h03m@192.168.245.71:3006
SEQUENCE:0
DTSTAMP:20260423T031813Z
DTSTART:20251126T070000Z
DTEND:20251126T084000Z
SUMMARY:Физика
LOCATION:ГЗ 211
END:VEVENT
BEGIN:VEVENT
UID:6s5g@192.168.245.71:3006
SEQUENCE:0
DTSTAMP:20260423T031813Z
DTSTART:20251126T090000Z
DTEND:20251126T104000Z
SUMMARY:Физика
LOCATION:ГЗ 237
END:VEVENT
BEGIN:VEVENT
UID:hoar@192.168.245.71:3006
SEQUENCE:0
DTSTAMP:20260423T031813Z
DTSTART:20251126T110000Z
DTEND:20251126T124000Z
SUMMARY:Высшая математика
LOCATION:3 к. 201
END:VEVENT
BEGIN:VEVENT
UID:hlhq@192.168.245.71:3006
SEQUENCE:0
DTSTAMP:20260423T031813Z
DTSTART:20251127T090000Z
DTEND:20251127T104000Z
SUMMARY:Введение в профессиональную деятельность
LOCATION:3 к. 215
END:VEVENT
BEGIN:VEVENT
UID:zabe@192.168.245.71:3006
SEQUENCE:0
DTSTAMP:20260423T031813Z
DTSTART:20251127T110000Z
DTEND:20251127T124000Z
SUMMARY:Экономическая культура
LOCATION:3 к. 208
END:VEVENT
BEGIN:VEVENT
UID:xzk5@192.168.245.71:3006
SEQUENCE:0
DTSTAMP:20260423T031813Z
DTSTART:20251128T050000Z
DTEND:20251128T064000Z
SUMMARY:Иностранный язык: Русский язык как иностранный
LOCATION:3 к. 503
END:VEVENT
BEGIN:VEVENT
UID:nuuq@192.168.245.71:3006
SEQUENCE:0
DTSTAMP:20260423T031813Z
DTSTART:20251128T090000Z
DTEND:20251128T104000Z
SUMMARY:Компьютерная алгебра
LOCATION:3 к. 405
END:VEVENT
BEGIN:VEVENT
UID:kzri@192.168.245.71:3006
SEQUENCE:0
DTSTAMP:20260423T031813Z
DTSTART:20251128T110000Z
DTEND:20251128T124000Z
SUMMARY:Компьютерная алгебра
LOCATION:3 к. 201
END:VEVENT
BEGIN:VEVENT
UID:zuqo@192.168.245.71:3006
SEQUENCE:0
DTSTAMP:20260423T031813Z
DTSTART:20251128T130000Z
DTEND:20251128T144000Z
SUMMARY:Высшая математика
LOCATION:3 к. 211
END:VEVENT
BEGIN:VEVENT
UID:zu39@192.168.245.71:3006
SEQUENCE:0
DTSTAMP:20260423T031813Z
DTSTART:20251129T070000Z
DTEND:20251129T084000Z
SUMMARY:Элективная физическая культура и спорт
LOCATION:СК Секции
END:VEVENT
BEGIN:VEVENT
UID:wqil@192.168.245.71:3006
SEQUENCE:0
DTSTAMP:20260423T031813Z
DTSTART:20251129T090000Z
DTEND:20251129T104000Z
SUMMARY:Иностранный язык: Базовый курс
LOCATION:11 к. 309
END:VEVENT
BEGIN:VEVENT
UID:s9ew@192.168.245.71:3006
SEQUENCE:0
DTSTAMP:20260423T031813Z
DTSTART:20251129T130000Z
DTEND:20251129T144000Z
SUMMARY:Иностранный язык: Русский язык как иностранный
LOCATION:3 к. 211
END:VEVENT
END:VCALENDAR