BEGIN:VCALENDAR
VERSION:2.0
PRODID:-//spbstu.ru//ical//RU
NAME:Расписание группы 5130901/50003
X-WR-CALNAME:Расписание группы 5130901/50003
TIMEZONE-ID:Europe/Moscow
X-WR-TIMEZONE:Europe/Moscow
BEGIN:VEVENT
UID:55l8@192.168.245.71:3006
SEQUENCE:0
DTSTAMP:20260422T124332Z
DTSTART:20251215T070000Z
DTEND:20251215T084000Z
SUMMARY:Основы цифровых технологий
LOCATION:3 к. 406
END:VEVENT
BEGIN:VEVENT
UID:lvuf@192.168.245.71:3006
SEQUENCE:0
DTSTAMP:20260422T124332Z
DTSTART:20251215T110000Z
DTEND:20251215T124000Z
SUMMARY:Алгоритмизация и программирование
LOCATION:ГЗ 237
END:VEVENT
BEGIN:VEVENT
UID:3pzb@192.168.245.71:3006
SEQUENCE:0
DTSTAMP:20260422T124332Z
DTSTART:20251215T130000Z
DTEND:20251215T144000Z
SUMMARY:Творческие семестры
LOCATION:ГЗ Белый зал
END:VEVENT
BEGIN:VEVENT
UID:78mv@192.168.245.71:3006
SEQUENCE:0
DTSTAMP:20260422T124332Z
DTSTART:20251216T070000Z
DTEND:20251216T084000Z
SUMMARY:Основы российской государственности
LOCATION:3 к. 501
END:VEVENT
BEGIN:VEVENT
UID:ncar@192.168.245.71:3006
SEQUENCE:0
DTSTAMP:20260422T124332Z
DTSTART:20251216T090000Z
DTEND:20251216T104000Z
SUMMARY:Основы цифровых технологий
LOCATION:11 к. 143
END:VEVENT
BEGIN:VEVENT
UID:u7mh@192.168.245.71:3006
SEQUENCE:0
DTSTAMP:20260422T124332Z
DTSTART:20251216T110000Z
DTEND:20251216T124000Z
SUMMARY:Алгоритмизация и программирование
LOCATION:3 к. 505
END:VEVENT
BEGIN:VEVENT
UID:xnry@192.168.245.71:3006
SEQUENCE:0
DTSTAMP:20260422T124332Z
DTSTART:20251216T130000Z
DTEND:20251216T144000Z
SUMMARY:Алгоритмизация и программирование
LOCATION:3 к. 505
END:VEVENT
BEGIN:VEVENT
UID:q19r@192.168.245.71:3006
SEQUENCE:0
DTSTAMP:20260422T124332Z
DTSTART:20251216T150000Z
DTEND:20251216T164000Z
SUMMARY:Факультатив по математике
LOCATION:ГЗ 235
END:VEVENT
BEGIN:VEVENT
UID:47w0@192.168.245.71:3006
SEQUENCE:0
DTSTAMP:20260422T124332Z
DTSTART:20251217T070000Z
DTEND:20251217T094000Z
SUMMARY:Основы цифровых технологий
LOCATION:3 к. 405
END:VEVENT
BEGIN:VEVENT
UID:kh7j@192.168.245.71:3006
SEQUENCE:0
DTSTAMP:20260422T124332Z
DTSTART:20251217T100000Z
DTEND:20251217T124000Z
SUMMARY:Иностранный язык: Базовый курс
LOCATION:11 к. 324
END:VEVENT
BEGIN:VEVENT
UID:b1yt@192.168.245.71:3006
SEQUENCE:0
DTSTAMP:20260422T124332Z
DTSTART:20251217T130000Z
DTEND:20251217T144000Z
SUMMARY:Физика
LOCATION:ГЗ 225
END:VEVENT
BEGIN:VEVENT
UID:7jxi@192.168.245.71:3006
SEQUENCE:0
DTSTAMP:20260422T124332Z
DTSTART:20251219T080000Z
DTEND:20251219T094000Z
SUMMARY:Высшая математика
LOCATION:3 к. 211
END:VEVENT
BEGIN:VEVENT
UID:ww0n@192.168.245.71:3006
SEQUENCE:0
DTSTAMP:20260422T124332Z
DTSTART:20251219T100000Z
DTEND:20251219T124000Z
SUMMARY:Иностранный язык: Русский язык как иностранный
LOCATION:11 к. 326
END:VEVENT
END:VCALENDAR