BEGIN:VCALENDAR
VERSION:2.0
PRODID:-//spbstu.ru//ical//RU
NAME:Расписание группы 5130901/50003
X-WR-CALNAME:Расписание группы 5130901/50003
TIMEZONE-ID:Europe/Moscow
X-WR-TIMEZONE:Europe/Moscow
BEGIN:VEVENT
UID:904d@192.168.245.71:3006
SEQUENCE:0
DTSTAMP:20260422T014331Z
DTSTART:20260119T070000Z
DTEND:20260119T140000Z
SUMMARY:Высшая математика
LOCATION:3 к. 211
END:VEVENT
BEGIN:VEVENT
UID:z9t6@192.168.245.71:3006
SEQUENCE:0
DTSTAMP:20260422T014331Z
DTSTART:20260122T130000Z
DTEND:20260122T134000Z
SUMMARY:Алгоритмизация и программирование
LOCATION:DL Дистанционно
END:VEVENT
BEGIN:VEVENT
UID:mm1l@192.168.245.71:3006
SEQUENCE:0
DTSTAMP:20260422T014331Z
DTSTART:20260123T070000Z
DTEND:20260123T140000Z
SUMMARY:Алгоритмизация и программирование
LOCATION:ГЗ 237
END:VEVENT
END:VCALENDAR