BEGIN:VCALENDAR
VERSION:2.0
PRODID:-//spbstu.ru//ical//RU
NAME:Расписание группы 5130901/50004
X-WR-CALNAME:Расписание группы 5130901/50004
TIMEZONE-ID:Europe/Moscow
X-WR-TIMEZONE:Europe/Moscow
BEGIN:VEVENT
UID:qq8m@192.168.245.71:3006
SEQUENCE:0
DTSTAMP:20260421T001344Z
DTSTART:20260413T070000Z
DTEND:20260413T084000Z
SUMMARY:Инженерная и компьютерная графика
LOCATION:3 к. 404а
END:VEVENT
BEGIN:VEVENT
UID:40ec@192.168.245.71:3006
SEQUENCE:0
DTSTAMP:20260421T001344Z
DTSTART:20260413T090000Z
DTEND:20260413T104000Z
SUMMARY:Физика
LOCATION:11 к. 315
END:VEVENT
BEGIN:VEVENT
UID:wed3@192.168.245.71:3006
SEQUENCE:0
DTSTAMP:20260421T001344Z
DTSTART:20260413T090000Z
DTEND:20260413T104000Z
SUMMARY:Компьютерная алгебра
LOCATION:3 к. 405
END:VEVENT
BEGIN:VEVENT
UID:287e@192.168.245.71:3006
SEQUENCE:0
DTSTAMP:20260421T001344Z
DTSTART:20260413T110000Z
DTEND:20260413T124000Z
SUMMARY:Структуры данных
LOCATION:ГЗ 237
END:VEVENT
BEGIN:VEVENT
UID:vqmf@192.168.245.71:3006
SEQUENCE:0
DTSTAMP:20260421T001344Z
DTSTART:20260413T130000Z
DTEND:20260413T144000Z
SUMMARY:Иностранный язык: Базовый курс
LOCATION:11 к. 321
END:VEVENT
BEGIN:VEVENT
UID:gjg5@192.168.245.71:3006
SEQUENCE:0
DTSTAMP:20260421T001344Z
DTSTART:20260414T090000Z
DTEND:20260414T104000Z
SUMMARY:Дискретная математика
LOCATION:3 к. 201
END:VEVENT
BEGIN:VEVENT
UID:mr40@192.168.245.71:3006
SEQUENCE:0
DTSTAMP:20260421T001344Z
DTSTART:20260414T110000Z
DTEND:20260414T124000Z
SUMMARY:Физика
LOCATION:ГЗ 186 А
END:VEVENT
BEGIN:VEVENT
UID:0fna@192.168.245.71:3006
SEQUENCE:0
DTSTAMP:20260421T001344Z
DTSTART:20260414T110000Z
DTEND:20260414T124000Z
SUMMARY:Физика
LOCATION:ГЗ 186 А
END:VEVENT
BEGIN:VEVENT
UID:q4rc@192.168.245.71:3006
SEQUENCE:0
DTSTAMP:20260421T001344Z
DTSTART:20260414T130000Z
DTEND:20260414T144000Z
SUMMARY:Инженерная и компьютерная графика
LOCATION:11 к. 148
END:VEVENT
BEGIN:VEVENT
UID:7mbz@192.168.245.71:3006
SEQUENCE:0
DTSTAMP:20260421T001344Z
DTSTART:20260415T050000Z
DTEND:20260415T064000Z
SUMMARY:Элективная физическая культура и спорт
LOCATION:СК Секции
END:VEVENT
BEGIN:VEVENT
UID:1orh@192.168.245.71:3006
SEQUENCE:0
DTSTAMP:20260421T001344Z
DTSTART:20260415T090000Z
DTEND:20260415T104000Z
SUMMARY:Физика
LOCATION:ГЗ 237
END:VEVENT
BEGIN:VEVENT
UID:lt97@192.168.245.71:3006
SEQUENCE:0
DTSTAMP:20260421T001344Z
DTSTART:20260415T130000Z
DTEND:20260415T144000Z
SUMMARY:Высшая математика
LOCATION:3 к. 211
END:VEVENT
BEGIN:VEVENT
UID:jtl9@192.168.245.71:3006
SEQUENCE:0
DTSTAMP:20260421T001344Z
DTSTART:20260415T144000Z
DTEND:20260415T154000Z
SUMMARY:Физика
LOCATION:ГЗ 232
END:VEVENT
BEGIN:VEVENT
UID:8yh8@192.168.245.71:3006
SEQUENCE:0
DTSTAMP:20260421T001344Z
DTSTART:20260416T090000Z
DTEND:20260416T104000Z
SUMMARY:Дискретная математика
LOCATION:3 к. 211
END:VEVENT
BEGIN:VEVENT
UID:xmkn@192.168.245.71:3006
SEQUENCE:0
DTSTAMP:20260421T001344Z
DTSTART:20260416T110000Z
DTEND:20260416T124000Z
SUMMARY:Структуры данных
LOCATION:3 к. 505
END:VEVENT
BEGIN:VEVENT
UID:jt8f@192.168.245.71:3006
SEQUENCE:0
DTSTAMP:20260421T001344Z
DTSTART:20260416T130000Z
DTEND:20260416T144000Z
SUMMARY:Высшая математика
LOCATION:3 к. 205
END:VEVENT
BEGIN:VEVENT
UID:bkol@192.168.245.71:3006
SEQUENCE:0
DTSTAMP:20260421T001344Z
DTSTART:20260417T050000Z
DTEND:20260417T064000Z
SUMMARY:Иностранный язык: Русский язык как иностранный
LOCATION:3 к. 503
END:VEVENT
BEGIN:VEVENT
UID:yzqs@192.168.245.71:3006
SEQUENCE:0
DTSTAMP:20260421T001344Z
DTSTART:20260417T070000Z
DTEND:20260417T084000Z
SUMMARY:Высшая математика
LOCATION:3 к. 215
END:VEVENT
BEGIN:VEVENT
UID:q5so@192.168.245.71:3006
SEQUENCE:0
DTSTAMP:20260421T001344Z
DTSTART:20260417T110000Z
DTEND:20260417T124000Z
SUMMARY:История России
LOCATION:ГЗ 237
END:VEVENT
BEGIN:VEVENT
UID:z7po@192.168.245.71:3006
SEQUENCE:0
DTSTAMP:20260421T001344Z
DTSTART:20260417T130000Z
DTEND:20260417T144000Z
SUMMARY:История России
LOCATION:11 к. 309
END:VEVENT
BEGIN:VEVENT
UID:7ekl@192.168.245.71:3006
SEQUENCE:0
DTSTAMP:20260421T001344Z
DTSTART:20260418T070000Z
DTEND:20260418T084000Z
SUMMARY:Элективная физическая культура и спорт
LOCATION:СК Секции
END:VEVENT
BEGIN:VEVENT
UID:jf4e@192.168.245.71:3006
SEQUENCE:0
DTSTAMP:20260421T001344Z
DTSTART:20260418T110000Z
DTEND:20260418T124000Z
SUMMARY:Иностранный язык: Русский язык как иностранный
LOCATION:3 к. 503
END:VEVENT
END:VCALENDAR