BEGIN:VCALENDAR
VERSION:2.0
PRODID:-//spbstu.ru//ical//RU
NAME:Расписание группы 5130901/51001
X-WR-CALNAME:Расписание группы 5130901/51001
TIMEZONE-ID:Europe/Moscow
X-WR-TIMEZONE:Europe/Moscow
BEGIN:VEVENT
UID:xnbx@192.168.245.71:3006
SEQUENCE:0
DTSTAMP:20260425T020825Z
DTSTART:20250915T110000Z
DTEND:20250915T124000Z
SUMMARY:Алгоритмизация и программирование
LOCATION:ГЗ 237
END:VEVENT
BEGIN:VEVENT
UID:8tjq@192.168.245.71:3006
SEQUENCE:0
DTSTAMP:20260425T020825Z
DTSTART:20250916T060000Z
DTEND:20250916T084000Z
SUMMARY:Алгоритмизация и программирование
LOCATION:3 к. 404а
END:VEVENT
BEGIN:VEVENT
UID:c2fu@192.168.245.71:3006
SEQUENCE:0
DTSTAMP:20260425T020825Z
DTSTART:20250916T090000Z
DTEND:20250916T104000Z
SUMMARY:Основы российской государственности
LOCATION:3 к. 209
END:VEVENT
BEGIN:VEVENT
UID:9qun@192.168.245.71:3006
SEQUENCE:0
DTSTAMP:20260425T020825Z
DTSTART:20250916T110000Z
DTEND:20250916T124000Z
SUMMARY:Введение в профессиональную деятельность
LOCATION:3 к. 402
END:VEVENT
BEGIN:VEVENT
UID:pgu5@192.168.245.71:3006
SEQUENCE:0
DTSTAMP:20260425T020825Z
DTSTART:20250917T050000Z
DTEND:20250917T064000Z
SUMMARY:Элективная физическая культура и спорт
LOCATION:СК Секции
END:VEVENT
BEGIN:VEVENT
UID:wnde@192.168.245.71:3006
SEQUENCE:0
DTSTAMP:20260425T020825Z
DTSTART:20250917T070000Z
DTEND:20250917T084000Z
SUMMARY:Физика
LOCATION:ГЗ 237
END:VEVENT
BEGIN:VEVENT
UID:dds4@192.168.245.71:3006
SEQUENCE:0
DTSTAMP:20260425T020825Z
DTSTART:20250917T110000Z
DTEND:20250917T124000Z
SUMMARY:Физика
LOCATION:11 к. 315
END:VEVENT
BEGIN:VEVENT
UID:yjlv@192.168.245.71:3006
SEQUENCE:0
DTSTAMP:20260425T020825Z
DTSTART:20250918T090000Z
DTEND:20250918T104000Z
SUMMARY:Введение в профессиональную деятельность
LOCATION:3 к. 215
END:VEVENT
BEGIN:VEVENT
UID:7xou@192.168.245.71:3006
SEQUENCE:0
DTSTAMP:20260425T020825Z
DTSTART:20250918T110000Z
DTEND:20250918T124000Z
SUMMARY:Высшая математика
LOCATION:11 к. 319
END:VEVENT
BEGIN:VEVENT
UID:5ndk@192.168.245.71:3006
SEQUENCE:0
DTSTAMP:20260425T020825Z
DTSTART:20250918T130000Z
DTEND:20250918T144000Z
SUMMARY:Высшая математика
LOCATION:11 к. 319
END:VEVENT
BEGIN:VEVENT
UID:hhta@192.168.245.71:3006
SEQUENCE:0
DTSTAMP:20260425T020825Z
DTSTART:20250919T070000Z
DTEND:20250919T084000Z
SUMMARY:Физика
LOCATION:ГЗ 155
END:VEVENT
BEGIN:VEVENT
UID:0xgg@192.168.245.71:3006
SEQUENCE:0
DTSTAMP:20260425T020825Z
DTSTART:20250919T070000Z
DTEND:20250919T084000Z
SUMMARY:Физика
LOCATION:ГЗ 155
END:VEVENT
BEGIN:VEVENT
UID:mk4v@192.168.245.71:3006
SEQUENCE:0
DTSTAMP:20260425T020825Z
DTSTART:20250919T090000Z
DTEND:20250919T104000Z
SUMMARY:Физика
LOCATION:ГЗ 237
END:VEVENT
BEGIN:VEVENT
UID:gsdn@192.168.245.71:3006
SEQUENCE:0
DTSTAMP:20260425T020825Z
DTSTART:20250919T110000Z
DTEND:20250919T124000Z
SUMMARY:Компьютерная алгебра
LOCATION:3 к. 201
END:VEVENT
BEGIN:VEVENT
UID:l7qs@192.168.245.71:3006
SEQUENCE:0
DTSTAMP:20260425T020825Z
DTSTART:20250920T070000Z
DTEND:20250920T084000Z
SUMMARY:Элективная физическая культура и спорт
LOCATION:СК Секции
END:VEVENT
BEGIN:VEVENT
UID:b251@192.168.245.71:3006
SEQUENCE:0
DTSTAMP:20260425T020825Z
DTSTART:20250920T090000Z
DTEND:20250920T104000Z
SUMMARY:Иностранный язык: Базовый курс
LOCATION:11 к. 330
END:VEVENT
BEGIN:VEVENT
UID:q3ip@192.168.245.71:3006
SEQUENCE:0
DTSTAMP:20260425T020825Z
DTSTART:20250920T110000Z
DTEND:20250920T124000Z
SUMMARY:Системное программное обеспечение GNU/Linux
LOCATION:DL Дистанционно
END:VEVENT
BEGIN:VEVENT
UID:q7kz@192.168.245.71:3006
SEQUENCE:0
DTSTAMP:20260425T020825Z
DTSTART:20250920T130000Z
DTEND:20250920T144000Z
SUMMARY:Системное программное обеспечение GNU/Linux
LOCATION:DL Дистанционно
END:VEVENT
END:VCALENDAR