BEGIN:VCALENDAR
VERSION:2.0
PRODID:-//spbstu.ru//ical//RU
NAME:Расписание группы 5130901/51001
X-WR-CALNAME:Расписание группы 5130901/51001
TIMEZONE-ID:Europe/Moscow
X-WR-TIMEZONE:Europe/Moscow
BEGIN:VEVENT
UID:7qd1@192.168.245.71:3006
SEQUENCE:0
DTSTAMP:20260421T115143Z
DTSTART:20260518T070000Z
DTEND:20260518T084000Z
SUMMARY:Структуры данных
LOCATION:3 к. 111
END:VEVENT
BEGIN:VEVENT
UID:qj3j@192.168.245.71:3006
SEQUENCE:0
DTSTAMP:20260421T115143Z
DTSTART:20260518T090000Z
DTEND:20260518T104000Z
SUMMARY:Структуры данных
LOCATION:3 к. 111
END:VEVENT
BEGIN:VEVENT
UID:eygu@192.168.245.71:3006
SEQUENCE:0
DTSTAMP:20260421T115143Z
DTSTART:20260518T110000Z
DTEND:20260518T124000Z
SUMMARY:Структуры данных
LOCATION:3 к. 201
END:VEVENT
BEGIN:VEVENT
UID:at09@192.168.245.71:3006
SEQUENCE:0
DTSTAMP:20260421T115143Z
DTSTART:20260518T130000Z
DTEND:20260518T144000Z
SUMMARY:Системное программное обеспечение GNU/Linux
LOCATION:3 к. 202
END:VEVENT
BEGIN:VEVENT
UID:uydr@192.168.245.71:3006
SEQUENCE:0
DTSTAMP:20260421T115143Z
DTSTART:20260519T110000Z
DTEND:20260519T140000Z
SUMMARY:Высшая математика
LOCATION:3 к. 215
END:VEVENT
BEGIN:VEVENT
UID:348g@192.168.245.71:3006
SEQUENCE:0
DTSTAMP:20260421T115143Z
DTSTART:20260520T070000Z
DTEND:20260520T084000Z
SUMMARY:Физика
LOCATION:ГЗ 237
END:VEVENT
BEGIN:VEVENT
UID:kcdv@192.168.245.71:3006
SEQUENCE:0
DTSTAMP:20260421T115143Z
DTSTART:20260520T090000Z
DTEND:20260520T104000Z
SUMMARY:Высшая математика
LOCATION:ГЗ 244
END:VEVENT
BEGIN:VEVENT
UID:9k4f@192.168.245.71:3006
SEQUENCE:0
DTSTAMP:20260421T115143Z
DTSTART:20260521T090000Z
DTEND:20260521T104000Z
SUMMARY:Высшая математика
LOCATION:3 к. 204
END:VEVENT
BEGIN:VEVENT
UID:yyz0@192.168.245.71:3006
SEQUENCE:0
DTSTAMP:20260421T115143Z
DTSTART:20260523T090000Z
DTEND:20260523T104000Z
SUMMARY:Дискретная математика
LOCATION:3 к. 401
END:VEVENT
END:VCALENDAR