BEGIN:VCALENDAR
VERSION:2.0
PRODID:-//spbstu.ru//ical//RU
NAME:Расписание группы 5130901/51001
X-WR-CALNAME:Расписание группы 5130901/51001
TIMEZONE-ID:Europe/Moscow
X-WR-TIMEZONE:Europe/Moscow
BEGIN:VEVENT
UID:dyxp@192.168.245.71:3006
SEQUENCE:0
DTSTAMP:20260421T070632Z
DTSTART:20260504T070000Z
DTEND:20260504T084000Z
SUMMARY:Структуры данных
LOCATION:3 к. 111
END:VEVENT
BEGIN:VEVENT
UID:6jy2@192.168.245.71:3006
SEQUENCE:0
DTSTAMP:20260421T070632Z
DTSTART:20260504T090000Z
DTEND:20260504T104000Z
SUMMARY:Структуры данных
LOCATION:3 к. 111
END:VEVENT
BEGIN:VEVENT
UID:r78w@192.168.245.71:3006
SEQUENCE:0
DTSTAMP:20260421T070632Z
DTSTART:20260504T110000Z
DTEND:20260504T124000Z
SUMMARY:Структуры данных
LOCATION:3 к. 201
END:VEVENT
BEGIN:VEVENT
UID:ulyv@192.168.245.71:3006
SEQUENCE:0
DTSTAMP:20260421T070632Z
DTSTART:20260504T130000Z
DTEND:20260504T144000Z
SUMMARY:Системное программное обеспечение GNU/Linux
LOCATION:3 к. 202
END:VEVENT
BEGIN:VEVENT
UID:e2rt@192.168.245.71:3006
SEQUENCE:0
DTSTAMP:20260421T070632Z
DTSTART:20260505T070000Z
DTEND:20260505T084000Z
SUMMARY:Ознакомительная практика
LOCATION:3 к. 507
END:VEVENT
BEGIN:VEVENT
UID:dkre@192.168.245.71:3006
SEQUENCE:0
DTSTAMP:20260421T070632Z
DTSTART:20260505T090000Z
DTEND:20260505T104000Z
SUMMARY:Дискретная математика
LOCATION:3 к. 201
END:VEVENT
BEGIN:VEVENT
UID:8nqp@192.168.245.71:3006
SEQUENCE:0
DTSTAMP:20260421T070632Z
DTSTART:20260505T110000Z
DTEND:20260505T140000Z
SUMMARY:Высшая математика
LOCATION:3 к. 215
END:VEVENT
BEGIN:VEVENT
UID:hfqm@192.168.245.71:3006
SEQUENCE:0
DTSTAMP:20260421T070632Z
DTSTART:20260506T050000Z
DTEND:20260506T064000Z
SUMMARY:Элективная физическая культура и спорт
LOCATION:СК Секции
END:VEVENT
BEGIN:VEVENT
UID:rtbl@192.168.245.71:3006
SEQUENCE:0
DTSTAMP:20260421T070632Z
DTSTART:20260506T070000Z
DTEND:20260506T084000Z
SUMMARY:Физика
LOCATION:ГЗ 237
END:VEVENT
BEGIN:VEVENT
UID:3o6j@192.168.245.71:3006
SEQUENCE:0
DTSTAMP:20260421T070632Z
DTSTART:20260506T090000Z
DTEND:20260506T104000Z
SUMMARY:Высшая математика
LOCATION:ГЗ 244
END:VEVENT
BEGIN:VEVENT
UID:vgs7@192.168.245.71:3006
SEQUENCE:0
DTSTAMP:20260421T070632Z
DTSTART:20260506T110000Z
DTEND:20260506T124000Z
SUMMARY:Иностранный язык: Базовый курс
LOCATION:3 к. 209
END:VEVENT
BEGIN:VEVENT
UID:m6sk@192.168.245.71:3006
SEQUENCE:0
DTSTAMP:20260421T070632Z
DTSTART:20260507T070000Z
DTEND:20260507T084000Z
SUMMARY:Физика
LOCATION:3 к. 204
END:VEVENT
BEGIN:VEVENT
UID:rx5n@192.168.245.71:3006
SEQUENCE:0
DTSTAMP:20260421T070632Z
DTSTART:20260507T090000Z
DTEND:20260507T104000Z
SUMMARY:Высшая математика
LOCATION:11 к. 309
END:VEVENT
BEGIN:VEVENT
UID:8awj@192.168.245.71:3006
SEQUENCE:0
DTSTAMP:20260421T070632Z
DTSTART:20260507T130000Z
DTEND:20260507T144000Z
SUMMARY:История России
LOCATION:11 к. 319
END:VEVENT
END:VCALENDAR