BEGIN:VCALENDAR
VERSION:2.0
PRODID:-//spbstu.ru//ical//RU
NAME:Расписание группы 5130902/50001
X-WR-CALNAME:Расписание группы 5130902/50001
TIMEZONE-ID:Europe/Moscow
X-WR-TIMEZONE:Europe/Moscow
BEGIN:VEVENT
UID:fsc0@192.168.245.71:3006
SEQUENCE:0
DTSTAMP:20260423T123408Z
DTSTART:20251027T090000Z
DTEND:20251027T104000Z
SUMMARY:Алгоритмизация и программирование
LOCATION:3 к. 505
END:VEVENT
BEGIN:VEVENT
UID:6anf@192.168.245.71:3006
SEQUENCE:0
DTSTAMP:20260423T123408Z
DTSTART:20251027T110000Z
DTEND:20251027T124000Z
SUMMARY:Алгоритмизация и программирование
LOCATION:ГЗ 237
END:VEVENT
BEGIN:VEVENT
UID:q0af@192.168.245.71:3006
SEQUENCE:0
DTSTAMP:20260423T123408Z
DTSTART:20251027T130000Z
DTEND:20251027T144000Z
SUMMARY:Экономическая культура
LOCATION:3 к. 504
END:VEVENT
BEGIN:VEVENT
UID:8qrz@192.168.245.71:3006
SEQUENCE:0
DTSTAMP:20260423T123408Z
DTSTART:20251028T070000Z
DTEND:20251028T084000Z
SUMMARY:Физика
LOCATION:ГЗ 155
END:VEVENT
BEGIN:VEVENT
UID:8ny6@192.168.245.71:3006
SEQUENCE:0
DTSTAMP:20260423T123408Z
DTSTART:20251028T070000Z
DTEND:20251028T084000Z
SUMMARY:Физика
LOCATION:ГЗ 155
END:VEVENT
BEGIN:VEVENT
UID:8gsh@192.168.245.71:3006
SEQUENCE:0
DTSTAMP:20260423T123408Z
DTSTART:20251028T090000Z
DTEND:20251028T104000Z
SUMMARY:Введение в профессиональную деятельность
LOCATION:3 к. 201
END:VEVENT
BEGIN:VEVENT
UID:at7x@192.168.245.71:3006
SEQUENCE:0
DTSTAMP:20260423T123408Z
DTSTART:20251028T110000Z
DTEND:20251028T124000Z
SUMMARY:Введение в профессиональную деятельность
LOCATION:9 к. 137
END:VEVENT
BEGIN:VEVENT
UID:vk47@192.168.245.71:3006
SEQUENCE:0
DTSTAMP:20260423T123408Z
DTSTART:20251028T130000Z
DTEND:20251028T154000Z
SUMMARY:Высшая математика
LOCATION:11 к. 107
END:VEVENT
BEGIN:VEVENT
UID:sjkn@192.168.245.71:3006
SEQUENCE:0
DTSTAMP:20260423T123408Z
DTSTART:20251029T050000Z
DTEND:20251029T064000Z
SUMMARY:Элективная физическая культура и спорт
LOCATION:СК Секции
END:VEVENT
BEGIN:VEVENT
UID:hmbf@192.168.245.71:3006
SEQUENCE:0
DTSTAMP:20260423T123408Z
DTSTART:20251029T070000Z
DTEND:20251029T084000Z
SUMMARY:Физика
LOCATION:ГЗ 324
END:VEVENT
BEGIN:VEVENT
UID:rwcy@192.168.245.71:3006
SEQUENCE:0
DTSTAMP:20260423T123408Z
DTSTART:20251029T110000Z
DTEND:20251029T140000Z
SUMMARY:Высшая математика
LOCATION:ГЗ 237
END:VEVENT
BEGIN:VEVENT
UID:1ist@192.168.245.71:3006
SEQUENCE:0
DTSTAMP:20260423T123408Z
DTSTART:20251030T090000Z
DTEND:20251030T104000Z
SUMMARY:Научная графика
LOCATION:3 к. 504
END:VEVENT
BEGIN:VEVENT
UID:u4ql@192.168.245.71:3006
SEQUENCE:0
DTSTAMP:20260423T123408Z
DTSTART:20251031T050000Z
DTEND:20251031T064000Z
SUMMARY:Иностранный язык: Русский язык как иностранный
LOCATION:3 к. 501
END:VEVENT
BEGIN:VEVENT
UID:22u5@192.168.245.71:3006
SEQUENCE:0
DTSTAMP:20260423T123408Z
DTSTART:20251031T070000Z
DTEND:20251031T084000Z
SUMMARY:Физика
LOCATION:ГЗ 237
END:VEVENT
BEGIN:VEVENT
UID:awgu@192.168.245.71:3006
SEQUENCE:0
DTSTAMP:20260423T123408Z
DTSTART:20251031T090000Z
DTEND:20251031T104000Z
SUMMARY:Иностранный язык: Базовый курс
LOCATION:11 к. 107
END:VEVENT
BEGIN:VEVENT
UID:jyct@192.168.245.71:3006
SEQUENCE:0
DTSTAMP:20260423T123408Z
DTSTART:20251031T110000Z
DTEND:20251031T124000Z
SUMMARY:Физика
LOCATION:ГЗ 180
END:VEVENT
BEGIN:VEVENT
UID:czor@192.168.245.71:3006
SEQUENCE:0
DTSTAMP:20260423T123408Z
DTSTART:20251031T130000Z
DTEND:20251031T144000Z
SUMMARY:Основы российской государственности
LOCATION:11 к. 315
END:VEVENT
BEGIN:VEVENT
UID:c6wc@192.168.245.71:3006
SEQUENCE:0
DTSTAMP:20260423T123408Z
DTSTART:20251101T070000Z
DTEND:20251101T084000Z
SUMMARY:Элективная физическая культура и спорт
LOCATION:СК Секции
END:VEVENT
BEGIN:VEVENT
UID:bf3u@192.168.245.71:3006
SEQUENCE:0
DTSTAMP:20260423T123408Z
DTSTART:20251101T110000Z
DTEND:20251101T124000Z
SUMMARY:Иностранный язык: Русский язык как иностранный
LOCATION:3 к. 211
END:VEVENT
END:VCALENDAR