BEGIN:VCALENDAR
VERSION:2.0
PRODID:-//spbstu.ru//ical//RU
NAME:Расписание группы 5130902/50001
X-WR-CALNAME:Расписание группы 5130902/50001
TIMEZONE-ID:Europe/Moscow
X-WR-TIMEZONE:Europe/Moscow
BEGIN:VEVENT
UID:emzq@192.168.245.71:3006
SEQUENCE:0
DTSTAMP:20260421T072833Z
DTSTART:20260302T080000Z
DTEND:20260302T084000Z
SUMMARY:Структуры данных
LOCATION:3 к. 505
END:VEVENT
BEGIN:VEVENT
UID:9pqt@192.168.245.71:3006
SEQUENCE:0
DTSTAMP:20260421T072833Z
DTSTART:20260302T090000Z
DTEND:20260302T104000Z
SUMMARY:Структуры данных
LOCATION:3 к. 505
END:VEVENT
BEGIN:VEVENT
UID:42qe@192.168.245.71:3006
SEQUENCE:0
DTSTAMP:20260421T072833Z
DTSTART:20260302T110000Z
DTEND:20260302T124000Z
SUMMARY:Структуры данных
LOCATION:ГЗ 237
END:VEVENT
BEGIN:VEVENT
UID:o3ju@192.168.245.71:3006
SEQUENCE:0
DTSTAMP:20260421T072833Z
DTSTART:20260303T070000Z
DTEND:20260303T084000Z
SUMMARY:Иностранный язык: Базовый курс
LOCATION:3 к. 209
END:VEVENT
BEGIN:VEVENT
UID:1819@192.168.245.71:3006
SEQUENCE:0
DTSTAMP:20260421T072833Z
DTSTART:20260303T090000Z
DTEND:20260303T104000Z
SUMMARY:Дискретная математика
LOCATION:3 к. 201
END:VEVENT
BEGIN:VEVENT
UID:ujpr@192.168.245.71:3006
SEQUENCE:0
DTSTAMP:20260421T072833Z
DTSTART:20260303T110000Z
DTEND:20260303T124000Z
SUMMARY:Физика
LOCATION:ГЗ 186 А
END:VEVENT
BEGIN:VEVENT
UID:ejge@192.168.245.71:3006
SEQUENCE:0
DTSTAMP:20260421T072833Z
DTSTART:20260303T110000Z
DTEND:20260303T124000Z
SUMMARY:Физика
LOCATION:ГЗ 186 А
END:VEVENT
BEGIN:VEVENT
UID:pccq@192.168.245.71:3006
SEQUENCE:0
DTSTAMP:20260421T072833Z
DTSTART:20260304T050000Z
DTEND:20260304T064000Z
SUMMARY:Элективная физическая культура и спорт
LOCATION:СК Секции
END:VEVENT
BEGIN:VEVENT
UID:nfrd@192.168.245.71:3006
SEQUENCE:0
DTSTAMP:20260421T072833Z
DTSTART:20260304T070000Z
DTEND:20260304T084000Z
SUMMARY:Физика
LOCATION:ГЗ 324
END:VEVENT
BEGIN:VEVENT
UID:rukr@192.168.245.71:3006
SEQUENCE:0
DTSTAMP:20260421T072833Z
DTSTART:20260304T090000Z
DTEND:20260304T104000Z
SUMMARY:Высшая математика
LOCATION:ГЗ 218
END:VEVENT
BEGIN:VEVENT
UID:zr6k@192.168.245.71:3006
SEQUENCE:0
DTSTAMP:20260421T072833Z
DTSTART:20260304T110000Z
DTEND:20260304T140000Z
SUMMARY:Высшая математика
LOCATION:ГЗ 237
END:VEVENT
BEGIN:VEVENT
UID:uyw1@192.168.245.71:3006
SEQUENCE:0
DTSTAMP:20260421T072833Z
DTSTART:20260305T070000Z
DTEND:20260305T084000Z
SUMMARY:Дискретная математика
LOCATION:3 к. 206
END:VEVENT
BEGIN:VEVENT
UID:j1wv@192.168.245.71:3006
SEQUENCE:0
DTSTAMP:20260421T072833Z
DTSTART:20260305T090000Z
DTEND:20260305T104000Z
SUMMARY:Высшая математика
LOCATION:3 к. 209
END:VEVENT
BEGIN:VEVENT
UID:8trg@192.168.245.71:3006
SEQUENCE:0
DTSTAMP:20260421T072833Z
DTSTART:20260305T110000Z
DTEND:20260305T124000Z
SUMMARY:Физика
LOCATION:3 к. 211
END:VEVENT
BEGIN:VEVENT
UID:aeuc@192.168.245.71:3006
SEQUENCE:0
DTSTAMP:20260421T072833Z
DTSTART:20260306T050000Z
DTEND:20260306T064000Z
SUMMARY:Иностранный язык: Русский язык как иностранный
LOCATION:3 к. 501
END:VEVENT
BEGIN:VEVENT
UID:6a5d@192.168.245.71:3006
SEQUENCE:0
DTSTAMP:20260421T072833Z
DTSTART:20260306T070000Z
DTEND:20260306T084000Z
SUMMARY:Практикум по программированию
LOCATION:9 к. 137
END:VEVENT
BEGIN:VEVENT
UID:fj3t@192.168.245.71:3006
SEQUENCE:0
DTSTAMP:20260421T072833Z
DTSTART:20260306T090000Z
DTEND:20260306T104000Z
SUMMARY:История России
LOCATION:3 к. 503
END:VEVENT
BEGIN:VEVENT
UID:yfrt@192.168.245.71:3006
SEQUENCE:0
DTSTAMP:20260421T072833Z
DTSTART:20260306T110000Z
DTEND:20260306T124000Z
SUMMARY:История России
LOCATION:ГЗ 237
END:VEVENT
BEGIN:VEVENT
UID:5882@192.168.245.71:3006
SEQUENCE:0
DTSTAMP:20260421T072833Z
DTSTART:20260307T070000Z
DTEND:20260307T084000Z
SUMMARY:Элективная физическая культура и спорт
LOCATION:СК Секции
END:VEVENT
BEGIN:VEVENT
UID:41cy@192.168.245.71:3006
SEQUENCE:0
DTSTAMP:20260421T072833Z
DTSTART:20260307T130000Z
DTEND:20260307T144000Z
SUMMARY:Иностранный язык: Русский язык как иностранный
LOCATION:3 к. 501
END:VEVENT
END:VCALENDAR