BEGIN:VCALENDAR
VERSION:2.0
PRODID:-//spbstu.ru//ical//RU
NAME:Расписание группы 5130902/50001
X-WR-CALNAME:Расписание группы 5130902/50001
TIMEZONE-ID:Europe/Moscow
X-WR-TIMEZONE:Europe/Moscow
BEGIN:VEVENT
UID:krfc@192.168.245.71:3006
SEQUENCE:0
DTSTAMP:20260420T223324Z
DTSTART:20260427T070000Z
DTEND:20260427T074000Z
SUMMARY:Структуры данных
LOCATION:3 к. 505
END:VEVENT
BEGIN:VEVENT
UID:d1u4@192.168.245.71:3006
SEQUENCE:0
DTSTAMP:20260420T223324Z
DTSTART:20260427T080000Z
DTEND:20260427T104000Z
SUMMARY:Структуры данных
LOCATION:3 к. 505
END:VEVENT
BEGIN:VEVENT
UID:ghff@192.168.245.71:3006
SEQUENCE:0
DTSTAMP:20260420T223324Z
DTSTART:20260427T110000Z
DTEND:20260427T124000Z
SUMMARY:Структуры данных
LOCATION:ГЗ 237
END:VEVENT
BEGIN:VEVENT
UID:1p8g@192.168.245.71:3006
SEQUENCE:0
DTSTAMP:20260420T223324Z
DTSTART:20260428T070000Z
DTEND:20260428T084000Z
SUMMARY:Иностранный язык: Базовый курс
LOCATION:3 к. 209
END:VEVENT
BEGIN:VEVENT
UID:d6rc@192.168.245.71:3006
SEQUENCE:0
DTSTAMP:20260420T223324Z
DTSTART:20260428T090000Z
DTEND:20260428T104000Z
SUMMARY:Дискретная математика
LOCATION:3 к. 201
END:VEVENT
BEGIN:VEVENT
UID:qjom@192.168.245.71:3006
SEQUENCE:0
DTSTAMP:20260420T223324Z
DTSTART:20260428T110000Z
DTEND:20260428T124000Z
SUMMARY:Физика
LOCATION:ГЗ 186 А
END:VEVENT
BEGIN:VEVENT
UID:jkk0@192.168.245.71:3006
SEQUENCE:0
DTSTAMP:20260420T223324Z
DTSTART:20260428T110000Z
DTEND:20260428T124000Z
SUMMARY:Физика
LOCATION:ГЗ 186 А
END:VEVENT
BEGIN:VEVENT
UID:v2gc@192.168.245.71:3006
SEQUENCE:0
DTSTAMP:20260420T223324Z
DTSTART:20260429T050000Z
DTEND:20260429T064000Z
SUMMARY:Элективная физическая культура и спорт
LOCATION:СК Секции
END:VEVENT
BEGIN:VEVENT
UID:lbhr@192.168.245.71:3006
SEQUENCE:0
DTSTAMP:20260420T223324Z
DTSTART:20260429T070000Z
DTEND:20260429T084000Z
SUMMARY:Физика
LOCATION:ГЗ 324
END:VEVENT
BEGIN:VEVENT
UID:e725@192.168.245.71:3006
SEQUENCE:0
DTSTAMP:20260420T223324Z
DTSTART:20260429T090000Z
DTEND:20260429T104000Z
SUMMARY:Высшая математика
LOCATION:ГЗ 218
END:VEVENT
BEGIN:VEVENT
UID:t5ou@192.168.245.71:3006
SEQUENCE:0
DTSTAMP:20260420T223324Z
DTSTART:20260429T110000Z
DTEND:20260429T140000Z
SUMMARY:Высшая математика
LOCATION:ГЗ 237
END:VEVENT
BEGIN:VEVENT
UID:2vql@192.168.245.71:3006
SEQUENCE:0
DTSTAMP:20260420T223324Z
DTSTART:20260430T070000Z
DTEND:20260430T084000Z
SUMMARY:Дискретная математика
LOCATION:3 к. 206
END:VEVENT
BEGIN:VEVENT
UID:nne7@192.168.245.71:3006
SEQUENCE:0
DTSTAMP:20260420T223324Z
DTSTART:20260430T090000Z
DTEND:20260430T104000Z
SUMMARY:Высшая математика
LOCATION:3 к. 209
END:VEVENT
BEGIN:VEVENT
UID:84fp@192.168.245.71:3006
SEQUENCE:0
DTSTAMP:20260420T223324Z
DTSTART:20260430T110000Z
DTEND:20260430T124000Z
SUMMARY:Физика
LOCATION:3 к. 211
END:VEVENT
BEGIN:VEVENT
UID:5gbu@192.168.245.71:3006
SEQUENCE:0
DTSTAMP:20260420T223324Z
DTSTART:20260502T070000Z
DTEND:20260502T084000Z
SUMMARY:Элективная физическая культура и спорт
LOCATION:СК Секции
END:VEVENT
BEGIN:VEVENT
UID:y3pa@192.168.245.71:3006
SEQUENCE:0
DTSTAMP:20260420T223324Z
DTSTART:20260502T130000Z
DTEND:20260502T144000Z
SUMMARY:Иностранный язык: Русский язык как иностранный
LOCATION:3 к. 501
END:VEVENT
END:VCALENDAR