BEGIN:VCALENDAR
VERSION:2.0
PRODID:-//spbstu.ru//ical//RU
NAME:Расписание группы 5130902/50001
X-WR-CALNAME:Расписание группы 5130902/50001
TIMEZONE-ID:Europe/Moscow
X-WR-TIMEZONE:Europe/Moscow
BEGIN:VEVENT
UID:3egk@192.168.245.71:3006
SEQUENCE:0
DTSTAMP:20260420T221837Z
DTSTART:20260406T080000Z
DTEND:20260406T084000Z
SUMMARY:Структуры данных
LOCATION:3 к. 505
END:VEVENT
BEGIN:VEVENT
UID:jxa6@192.168.245.71:3006
SEQUENCE:0
DTSTAMP:20260420T221837Z
DTSTART:20260406T090000Z
DTEND:20260406T104000Z
SUMMARY:Структуры данных
LOCATION:3 к. 505
END:VEVENT
BEGIN:VEVENT
UID:8v70@192.168.245.71:3006
SEQUENCE:0
DTSTAMP:20260420T221837Z
DTSTART:20260406T110000Z
DTEND:20260406T124000Z
SUMMARY:Структуры данных
LOCATION:ГЗ 237
END:VEVENT
BEGIN:VEVENT
UID:nek8@192.168.245.71:3006
SEQUENCE:0
DTSTAMP:20260420T221837Z
DTSTART:20260407T070000Z
DTEND:20260407T084000Z
SUMMARY:Иностранный язык: Базовый курс
LOCATION:3 к. 209
END:VEVENT
BEGIN:VEVENT
UID:myi0@192.168.245.71:3006
SEQUENCE:0
DTSTAMP:20260420T221837Z
DTSTART:20260407T090000Z
DTEND:20260407T104000Z
SUMMARY:Дискретная математика
LOCATION:3 к. 201
END:VEVENT
BEGIN:VEVENT
UID:cflb@192.168.245.71:3006
SEQUENCE:0
DTSTAMP:20260420T221837Z
DTSTART:20260407T110000Z
DTEND:20260407T124000Z
SUMMARY:Философия
LOCATION:3 к. 206
END:VEVENT
BEGIN:VEVENT
UID:sqb7@192.168.245.71:3006
SEQUENCE:0
DTSTAMP:20260420T221837Z
DTSTART:20260408T050000Z
DTEND:20260408T064000Z
SUMMARY:Элективная физическая культура и спорт
LOCATION:СК Секции
END:VEVENT
BEGIN:VEVENT
UID:53a2@192.168.245.71:3006
SEQUENCE:0
DTSTAMP:20260420T221837Z
DTSTART:20260408T070000Z
DTEND:20260408T084000Z
SUMMARY:Физика
LOCATION:ГЗ 324
END:VEVENT
BEGIN:VEVENT
UID:d155@192.168.245.71:3006
SEQUENCE:0
DTSTAMP:20260420T221837Z
DTSTART:20260408T090000Z
DTEND:20260408T104000Z
SUMMARY:Высшая математика
LOCATION:ГЗ 218
END:VEVENT
BEGIN:VEVENT
UID:ksog@192.168.245.71:3006
SEQUENCE:0
DTSTAMP:20260420T221837Z
DTSTART:20260408T110000Z
DTEND:20260408T140000Z
SUMMARY:Высшая математика
LOCATION:ГЗ 237
END:VEVENT
BEGIN:VEVENT
UID:3cql@192.168.245.71:3006
SEQUENCE:0
DTSTAMP:20260420T221837Z
DTSTART:20260409T090000Z
DTEND:20260409T104000Z
SUMMARY:Высшая математика
LOCATION:3 к. 209
END:VEVENT
BEGIN:VEVENT
UID:dpe5@192.168.245.71:3006
SEQUENCE:0
DTSTAMP:20260420T221837Z
DTSTART:20260409T110000Z
DTEND:20260409T124000Z
SUMMARY:Физика
LOCATION:3 к. 211
END:VEVENT
BEGIN:VEVENT
UID:ehcb@192.168.245.71:3006
SEQUENCE:0
DTSTAMP:20260420T221837Z
DTSTART:20260410T050000Z
DTEND:20260410T064000Z
SUMMARY:Иностранный язык: Русский язык как иностранный
LOCATION:3 к. 501
END:VEVENT
BEGIN:VEVENT
UID:qm80@192.168.245.71:3006
SEQUENCE:0
DTSTAMP:20260420T221837Z
DTSTART:20260410T070000Z
DTEND:20260410T084000Z
SUMMARY:Физика
LOCATION:ГЗ 237
END:VEVENT
BEGIN:VEVENT
UID:isf5@192.168.245.71:3006
SEQUENCE:0
DTSTAMP:20260420T221837Z
DTSTART:20260410T110000Z
DTEND:20260410T124000Z
SUMMARY:История России
LOCATION:11 к. 143
END:VEVENT
BEGIN:VEVENT
UID:djbq@192.168.245.71:3006
SEQUENCE:0
DTSTAMP:20260420T221837Z
DTSTART:20260411T070000Z
DTEND:20260411T084000Z
SUMMARY:Элективная физическая культура и спорт
LOCATION:СК Секции
END:VEVENT
BEGIN:VEVENT
UID:79fn@192.168.245.71:3006
SEQUENCE:0
DTSTAMP:20260420T221837Z
DTSTART:20260411T090000Z
DTEND:20260411T104000Z
SUMMARY:Практикум по программированию
LOCATION:3 к. 404а
END:VEVENT
BEGIN:VEVENT
UID:5mf0@192.168.245.71:3006
SEQUENCE:0
DTSTAMP:20260420T221837Z
DTSTART:20260411T130000Z
DTEND:20260411T144000Z
SUMMARY:Иностранный язык: Русский язык как иностранный
LOCATION:3 к. 501
END:VEVENT
END:VCALENDAR