BEGIN:VCALENDAR
VERSION:2.0
PRODID:-//spbstu.ru//ical//RU
NAME:Расписание группы 5130902/50002
X-WR-CALNAME:Расписание группы 5130902/50002
TIMEZONE-ID:Europe/Moscow
X-WR-TIMEZONE:Europe/Moscow
BEGIN:VEVENT
UID:txk0@192.168.245.71:3006
SEQUENCE:0
DTSTAMP:20260424T132903Z
DTSTART:20250929T090000Z
DTEND:20250929T104000Z
SUMMARY:Иностранный язык: Базовый курс
LOCATION:11 к. 309
END:VEVENT
BEGIN:VEVENT
UID:1r87@192.168.245.71:3006
SEQUENCE:0
DTSTAMP:20260424T132903Z
DTSTART:20250929T110000Z
DTEND:20250929T124000Z
SUMMARY:Алгоритмизация и программирование
LOCATION:ГЗ 237
END:VEVENT
BEGIN:VEVENT
UID:mqo7@192.168.245.71:3006
SEQUENCE:0
DTSTAMP:20260424T132903Z
DTSTART:20250930T070000Z
DTEND:20250930T084000Z
SUMMARY:Физика
LOCATION:ГЗ 155
END:VEVENT
BEGIN:VEVENT
UID:rhfu@192.168.245.71:3006
SEQUENCE:0
DTSTAMP:20260424T132903Z
DTSTART:20250930T070000Z
DTEND:20250930T084000Z
SUMMARY:Физика
LOCATION:ГЗ 155
END:VEVENT
BEGIN:VEVENT
UID:kinc@192.168.245.71:3006
SEQUENCE:0
DTSTAMP:20260424T132903Z
DTSTART:20250930T090000Z
DTEND:20250930T104000Z
SUMMARY:Введение в профессиональную деятельность
LOCATION:3 к. 201
END:VEVENT
BEGIN:VEVENT
UID:k946@192.168.245.71:3006
SEQUENCE:0
DTSTAMP:20260424T132903Z
DTSTART:20250930T110000Z
DTEND:20250930T124000Z
SUMMARY:Высшая математика
LOCATION:11 к. 107
END:VEVENT
BEGIN:VEVENT
UID:45qf@192.168.245.71:3006
SEQUENCE:0
DTSTAMP:20260424T132903Z
DTSTART:20250930T130000Z
DTEND:20250930T144000Z
SUMMARY:Введение в профессиональную деятельность
LOCATION:9 к. 137
END:VEVENT
BEGIN:VEVENT
UID:4rej@192.168.245.71:3006
SEQUENCE:0
DTSTAMP:20260424T132903Z
DTSTART:20251001T050000Z
DTEND:20251001T064000Z
SUMMARY:Элективная физическая культура и спорт
LOCATION:СК Секции
END:VEVENT
BEGIN:VEVENT
UID:ljpo@192.168.245.71:3006
SEQUENCE:0
DTSTAMP:20260424T132903Z
DTSTART:20251001T070000Z
DTEND:20251001T084000Z
SUMMARY:Физика
LOCATION:ГЗ 324
END:VEVENT
BEGIN:VEVENT
UID:6iz6@192.168.245.71:3006
SEQUENCE:0
DTSTAMP:20260424T132903Z
DTSTART:20251001T090000Z
DTEND:20251001T104000Z
SUMMARY:Высшая математика
LOCATION:ГЗ 279
END:VEVENT
BEGIN:VEVENT
UID:5gv9@192.168.245.71:3006
SEQUENCE:0
DTSTAMP:20260424T132903Z
DTSTART:20251001T110000Z
DTEND:20251001T140000Z
SUMMARY:Высшая математика
LOCATION:ГЗ 237
END:VEVENT
BEGIN:VEVENT
UID:qpnd@192.168.245.71:3006
SEQUENCE:0
DTSTAMP:20260424T132903Z
DTSTART:20251002T070000Z
DTEND:20251002T084000Z
SUMMARY:Основы российской государственности
LOCATION:11 к. 319
END:VEVENT
BEGIN:VEVENT
UID:oshu@192.168.245.71:3006
SEQUENCE:0
DTSTAMP:20260424T132903Z
DTSTART:20251002T090000Z
DTEND:20251002T104000Z
SUMMARY:Физика
LOCATION:11 к. 315
END:VEVENT
BEGIN:VEVENT
UID:t0sk@192.168.245.71:3006
SEQUENCE:0
DTSTAMP:20260424T132903Z
DTSTART:20251003T050000Z
DTEND:20251003T064000Z
SUMMARY:Иностранный язык: Русский язык как иностранный
LOCATION:3 к. 501
END:VEVENT
BEGIN:VEVENT
UID:aj7z@192.168.245.71:3006
SEQUENCE:0
DTSTAMP:20260424T132903Z
DTSTART:20251003T070000Z
DTEND:20251003T084000Z
SUMMARY:Физика
LOCATION:ГЗ 237
END:VEVENT
BEGIN:VEVENT
UID:y8h9@192.168.245.71:3006
SEQUENCE:0
DTSTAMP:20260424T132903Z
DTSTART:20251003T090000Z
DTEND:20251003T114000Z
SUMMARY:Алгоритмизация и программирование
LOCATION:3 к. 505
END:VEVENT
BEGIN:VEVENT
UID:7xtn@192.168.245.71:3006
SEQUENCE:0
DTSTAMP:20260424T132903Z
DTSTART:20251003T130000Z
DTEND:20251003T144000Z
SUMMARY:Экономическая культура
LOCATION:3 к. 206
END:VEVENT
BEGIN:VEVENT
UID:3tr8@192.168.245.71:3006
SEQUENCE:0
DTSTAMP:20260424T132903Z
DTSTART:20251004T070000Z
DTEND:20251004T084000Z
SUMMARY:Элективная физическая культура и спорт
LOCATION:СК Секции
END:VEVENT
BEGIN:VEVENT
UID:cjlj@192.168.245.71:3006
SEQUENCE:0
DTSTAMP:20260424T132903Z
DTSTART:20251004T110000Z
DTEND:20251004T124000Z
SUMMARY:Иностранный язык: Русский язык как иностранный
LOCATION:3 к. 211
END:VEVENT
END:VCALENDAR