BEGIN:VCALENDAR
VERSION:2.0
PRODID:-//spbstu.ru//ical//RU
NAME:Расписание группы 5130902/50004
X-WR-CALNAME:Расписание группы 5130902/50004
TIMEZONE-ID:Europe/Moscow
X-WR-TIMEZONE:Europe/Moscow
BEGIN:VEVENT
UID:mcqn@192.168.245.71:3006
SEQUENCE:0
DTSTAMP:20260421T120945Z
DTSTART:20260216T090000Z
DTEND:20260216T104000Z
SUMMARY:Высшая математика
LOCATION:3 к. 208
END:VEVENT
BEGIN:VEVENT
UID:koa4@192.168.245.71:3006
SEQUENCE:0
DTSTAMP:20260421T120945Z
DTSTART:20260216T110000Z
DTEND:20260216T124000Z
SUMMARY:Структуры данных
LOCATION:ГЗ 237
END:VEVENT
BEGIN:VEVENT
UID:zk01@192.168.245.71:3006
SEQUENCE:0
DTSTAMP:20260421T120945Z
DTSTART:20260216T150000Z
DTEND:20260216T164000Z
SUMMARY:Философия
LOCATION:3 к. 201
END:VEVENT
BEGIN:VEVENT
UID:b9e0@192.168.245.71:3006
SEQUENCE:0
DTSTAMP:20260421T120945Z
DTSTART:20260217T090000Z
DTEND:20260217T104000Z
SUMMARY:Дискретная математика
LOCATION:3 к. 201
END:VEVENT
BEGIN:VEVENT
UID:vvn9@192.168.245.71:3006
SEQUENCE:0
DTSTAMP:20260421T120945Z
DTSTART:20260217T110000Z
DTEND:20260217T124000Z
SUMMARY:Философия
LOCATION:3 к. 204
END:VEVENT
BEGIN:VEVENT
UID:cmgx@192.168.245.71:3006
SEQUENCE:0
DTSTAMP:20260421T120945Z
DTSTART:20260217T130000Z
DTEND:20260217T144000Z
SUMMARY:Высшая математика
LOCATION:3 к. 205
END:VEVENT
BEGIN:VEVENT
UID:wbmm@192.168.245.71:3006
SEQUENCE:0
DTSTAMP:20260421T120945Z
DTSTART:20260217T150000Z
DTEND:20260217T164000Z
SUMMARY:Иностранный язык: Базовый курс
LOCATION:3 к. 503
END:VEVENT
BEGIN:VEVENT
UID:nfkg@192.168.245.71:3006
SEQUENCE:0
DTSTAMP:20260421T120945Z
DTSTART:20260218T050000Z
DTEND:20260218T064000Z
SUMMARY:Элективная физическая культура и спорт
LOCATION:СК Секции
END:VEVENT
BEGIN:VEVENT
UID:1f3h@192.168.245.71:3006
SEQUENCE:0
DTSTAMP:20260421T120945Z
DTSTART:20260218T070000Z
DTEND:20260218T084000Z
SUMMARY:Физика
LOCATION:ГЗ 324
END:VEVENT
BEGIN:VEVENT
UID:dt0j@192.168.245.71:3006
SEQUENCE:0
DTSTAMP:20260421T120945Z
DTSTART:20260218T090000Z
DTEND:20260218T104000Z
SUMMARY:Иностранный язык: Базовый курс
LOCATION:3 к. 207
END:VEVENT
BEGIN:VEVENT
UID:ovdl@192.168.245.71:3006
SEQUENCE:0
DTSTAMP:20260421T120945Z
DTSTART:20260218T110000Z
DTEND:20260218T140000Z
SUMMARY:Высшая математика
LOCATION:ГЗ 237
END:VEVENT
BEGIN:VEVENT
UID:ex73@192.168.245.71:3006
SEQUENCE:0
DTSTAMP:20260421T120945Z
DTSTART:20260218T150000Z
DTEND:20260218T164000Z
SUMMARY:Научная графика
LOCATION:3 к. 505
END:VEVENT
BEGIN:VEVENT
UID:5w8d@192.168.245.71:3006
SEQUENCE:0
DTSTAMP:20260421T120945Z
DTSTART:20260219T060000Z
DTEND:20260219T064000Z
SUMMARY:Структуры данных
LOCATION:3 к. 404
END:VEVENT
BEGIN:VEVENT
UID:gbaf@192.168.245.71:3006
SEQUENCE:0
DTSTAMP:20260421T120945Z
DTSTART:20260219T070000Z
DTEND:20260219T084000Z
SUMMARY:Структуры данных
LOCATION:3 к. 404
END:VEVENT
BEGIN:VEVENT
UID:k14v@192.168.245.71:3006
SEQUENCE:0
DTSTAMP:20260421T120945Z
DTSTART:20260219T110000Z
DTEND:20260219T124000Z
SUMMARY:Физика
LOCATION:3 к. 207
END:VEVENT
BEGIN:VEVENT
UID:pt6l@192.168.245.71:3006
SEQUENCE:0
DTSTAMP:20260421T120945Z
DTSTART:20260220T050000Z
DTEND:20260220T064000Z
SUMMARY:Иностранный язык: Русский язык как иностранный
LOCATION:3 к. 501
END:VEVENT
BEGIN:VEVENT
UID:z0l1@192.168.245.71:3006
SEQUENCE:0
DTSTAMP:20260421T120945Z
DTSTART:20260220T090000Z
DTEND:20260220T104000Z
SUMMARY:Практикум по программированию
LOCATION:9 к. 137
END:VEVENT
BEGIN:VEVENT
UID:tqz8@192.168.245.71:3006
SEQUENCE:0
DTSTAMP:20260421T120945Z
DTSTART:20260220T110000Z
DTEND:20260220T124000Z
SUMMARY:История России
LOCATION:ГЗ 237
END:VEVENT
BEGIN:VEVENT
UID:j8tl@192.168.245.71:3006
SEQUENCE:0
DTSTAMP:20260421T120945Z
DTSTART:20260220T130000Z
DTEND:20260220T144000Z
SUMMARY:История России
LOCATION:11 к. 319
END:VEVENT
BEGIN:VEVENT
UID:jmns@192.168.245.71:3006
SEQUENCE:0
DTSTAMP:20260421T120945Z
DTSTART:20260221T070000Z
DTEND:20260221T084000Z
SUMMARY:Элективная физическая культура и спорт
LOCATION:СК Секции
END:VEVENT
BEGIN:VEVENT
UID:n27n@192.168.245.71:3006
SEQUENCE:0
DTSTAMP:20260421T120945Z
DTSTART:20260221T130000Z
DTEND:20260221T144000Z
SUMMARY:Иностранный язык: Русский язык как иностранный
LOCATION:3 к. 501
END:VEVENT
END:VCALENDAR