BEGIN:VCALENDAR
VERSION:2.0
PRODID:-//spbstu.ru//ical//RU
NAME:Расписание группы 5130902/50004
X-WR-CALNAME:Расписание группы 5130902/50004
TIMEZONE-ID:Europe/Moscow
X-WR-TIMEZONE:Europe/Moscow
BEGIN:VEVENT
UID:qg82@192.168.245.71:3006
SEQUENCE:0
DTSTAMP:20260421T152250Z
DTSTART:20260202T090000Z
DTEND:20260202T104000Z
SUMMARY:Высшая математика
LOCATION:3 к. 208
END:VEVENT
BEGIN:VEVENT
UID:x7gk@192.168.245.71:3006
SEQUENCE:0
DTSTAMP:20260421T152250Z
DTSTART:20260202T110000Z
DTEND:20260202T124000Z
SUMMARY:Структуры данных
LOCATION:ГЗ 237
END:VEVENT
BEGIN:VEVENT
UID:dvoo@192.168.245.71:3006
SEQUENCE:0
DTSTAMP:20260421T152250Z
DTSTART:20260203T090000Z
DTEND:20260203T104000Z
SUMMARY:Дискретная математика
LOCATION:3 к. 201
END:VEVENT
BEGIN:VEVENT
UID:ktgu@192.168.245.71:3006
SEQUENCE:0
DTSTAMP:20260421T152250Z
DTSTART:20260203T130000Z
DTEND:20260203T144000Z
SUMMARY:Высшая математика
LOCATION:3 к. 209
END:VEVENT
BEGIN:VEVENT
UID:93hl@192.168.245.71:3006
SEQUENCE:0
DTSTAMP:20260421T152250Z
DTSTART:20260203T150000Z
DTEND:20260203T164000Z
SUMMARY:Философия
LOCATION:3 к. 201
END:VEVENT
BEGIN:VEVENT
UID:hfkl@192.168.245.71:3006
SEQUENCE:0
DTSTAMP:20260421T152250Z
DTSTART:20260204T060000Z
DTEND:20260204T064000Z
SUMMARY:Физическая культура
LOCATION:ГЗ Белый зал
END:VEVENT
BEGIN:VEVENT
UID:jmva@192.168.245.71:3006
SEQUENCE:0
DTSTAMP:20260421T152250Z
DTSTART:20260204T070000Z
DTEND:20260204T084000Z
SUMMARY:Физика
LOCATION:ГЗ 324
END:VEVENT
BEGIN:VEVENT
UID:exkx@192.168.245.71:3006
SEQUENCE:0
DTSTAMP:20260421T152250Z
DTSTART:20260204T090000Z
DTEND:20260204T104000Z
SUMMARY:Иностранный язык: Базовый курс
LOCATION:3 к. 207
END:VEVENT
BEGIN:VEVENT
UID:p6s8@192.168.245.71:3006
SEQUENCE:0
DTSTAMP:20260421T152250Z
DTSTART:20260204T110000Z
DTEND:20260204T140000Z
SUMMARY:Высшая математика
LOCATION:ГЗ 237
END:VEVENT
BEGIN:VEVENT
UID:ayr5@192.168.245.71:3006
SEQUENCE:0
DTSTAMP:20260421T152250Z
DTSTART:20260205T110000Z
DTEND:20260205T124000Z
SUMMARY:Физика
LOCATION:3 к. 207
END:VEVENT
BEGIN:VEVENT
UID:sq7v@192.168.245.71:3006
SEQUENCE:0
DTSTAMP:20260421T152250Z
DTSTART:20260205T130000Z
DTEND:20260205T144000Z
SUMMARY:Структуры данных
LOCATION:9 к. 137
END:VEVENT
BEGIN:VEVENT
UID:0j4t@192.168.245.71:3006
SEQUENCE:0
DTSTAMP:20260421T152250Z
DTSTART:20260205T150000Z
DTEND:20260205T154000Z
SUMMARY:Структуры данных
LOCATION:9 к. 137
END:VEVENT
BEGIN:VEVENT
UID:ufcc@192.168.245.71:3006
SEQUENCE:0
DTSTAMP:20260421T152250Z
DTSTART:20260206T050000Z
DTEND:20260206T064000Z
SUMMARY:Иностранный язык: Русский язык как иностранный
LOCATION:3 к. 501
END:VEVENT
BEGIN:VEVENT
UID:s0wz@192.168.245.71:3006
SEQUENCE:0
DTSTAMP:20260421T152250Z
DTSTART:20260206T090000Z
DTEND:20260206T104000Z
SUMMARY:Практикум по программированию
LOCATION:9 к. 137
END:VEVENT
BEGIN:VEVENT
UID:9r5y@192.168.245.71:3006
SEQUENCE:0
DTSTAMP:20260421T152250Z
DTSTART:20260206T110000Z
DTEND:20260206T124000Z
SUMMARY:История России
LOCATION:ГЗ 237
END:VEVENT
BEGIN:VEVENT
UID:aipe@192.168.245.71:3006
SEQUENCE:0
DTSTAMP:20260421T152250Z
DTSTART:20260206T130000Z
DTEND:20260206T144000Z
SUMMARY:История России
LOCATION:11 к. 319
END:VEVENT
BEGIN:VEVENT
UID:jvtk@192.168.245.71:3006
SEQUENCE:0
DTSTAMP:20260421T152250Z
DTSTART:20260207T130000Z
DTEND:20260207T144000Z
SUMMARY:Иностранный язык: Русский язык как иностранный
LOCATION:3 к. 501
END:VEVENT
END:VCALENDAR