BEGIN:VCALENDAR
VERSION:2.0
PRODID:-//spbstu.ru//ical//RU
NAME:Расписание группы 5130903/50002
X-WR-CALNAME:Расписание группы 5130903/50002
TIMEZONE-ID:Europe/Moscow
X-WR-TIMEZONE:Europe/Moscow
BEGIN:VEVENT
UID:68ou@192.168.245.71:3006
SEQUENCE:0
DTSTAMP:20260423T164956Z
DTSTART:20251222T090000Z
DTEND:20251222T130000Z
SUMMARY:Дополнительные главы программирования
LOCATION:11 к. 211
END:VEVENT
BEGIN:VEVENT
UID:0gi6@192.168.245.71:3006
SEQUENCE:0
DTSTAMP:20260423T164956Z
DTSTART:20251223T070000Z
DTEND:20251223T084000Z
SUMMARY:Физика
LOCATION:3 к. 206
END:VEVENT
BEGIN:VEVENT
UID:l5bo@192.168.245.71:3006
SEQUENCE:0
DTSTAMP:20260423T164956Z
DTSTART:20251224T090000Z
DTEND:20251224T104000Z
SUMMARY:Физика
LOCATION:ГЗ 324
END:VEVENT
BEGIN:VEVENT
UID:5wtt@192.168.245.71:3006
SEQUENCE:0
DTSTAMP:20260423T164956Z
DTSTART:20251225T070000Z
DTEND:20251225T094000Z
SUMMARY:Иностранный язык: Базовый курс
LOCATION:11 к. 323
END:VEVENT
BEGIN:VEVENT
UID:v6gq@192.168.245.71:3006
SEQUENCE:0
DTSTAMP:20260423T164956Z
DTSTART:20251225T070000Z
DTEND:20251225T094000Z
SUMMARY:Иностранный язык: Русский язык как иностранный
LOCATION:3 к. 211
END:VEVENT
BEGIN:VEVENT
UID:35ln@192.168.245.71:3006
SEQUENCE:0
DTSTAMP:20260423T164956Z
DTSTART:20251225T100000Z
DTEND:20251225T124000Z
SUMMARY:Основы цифровых технологий
LOCATION:11 к. 215
END:VEVENT
BEGIN:VEVENT
UID:t06r@192.168.245.71:3006
SEQUENCE:0
DTSTAMP:20260423T164956Z
DTSTART:20251226T080000Z
DTEND:20251226T084000Z
SUMMARY:Высшая математика
LOCATION:11 к. 321
END:VEVENT
BEGIN:VEVENT
UID:hc0k@192.168.245.71:3006
SEQUENCE:0
DTSTAMP:20260423T164956Z
DTSTART:20251226T100000Z
DTEND:20251226T114000Z
SUMMARY:Высшая математика
LOCATION:11 к. 321
END:VEVENT
BEGIN:VEVENT
UID:ienp@192.168.245.71:3006
SEQUENCE:0
DTSTAMP:20260423T164956Z
DTSTART:20251227T090000Z
DTEND:20251227T140000Z
SUMMARY:Основы российской государственности
LOCATION:11 к. 309
END:VEVENT
END:VCALENDAR