BEGIN:VCALENDAR
VERSION:2.0
PRODID:-//spbstu.ru//ical//RU
NAME:Расписание группы 5130903/50003
X-WR-CALNAME:Расписание группы 5130903/50003
TIMEZONE-ID:Europe/Moscow
X-WR-TIMEZONE:Europe/Moscow
BEGIN:VEVENT
UID:g2ld@192.168.245.71:3006
SEQUENCE:0
DTSTAMP:20260424T140015Z
DTSTART:20251013T090000Z
DTEND:20251013T104000Z
SUMMARY:Алгоритмизация и программирование
LOCATION:11 к. 148
END:VEVENT
BEGIN:VEVENT
UID:0pbl@192.168.245.71:3006
SEQUENCE:0
DTSTAMP:20260424T140015Z
DTSTART:20251014T070000Z
DTEND:20251014T084000Z
SUMMARY:Алгоритмизация и программирование
LOCATION:11 к. 215
END:VEVENT
BEGIN:VEVENT
UID:0ond@192.168.245.71:3006
SEQUENCE:0
DTSTAMP:20260424T140015Z
DTSTART:20251014T090000Z
DTEND:20251014T104000Z
SUMMARY:Иностранный язык: Базовый курс
LOCATION:3 к. 210
END:VEVENT
BEGIN:VEVENT
UID:f4ak@192.168.245.71:3006
SEQUENCE:0
DTSTAMP:20260424T140015Z
DTSTART:20251014T110000Z
DTEND:20251014T124000Z
SUMMARY:Высшая математика
LOCATION:11 к. 315
END:VEVENT
BEGIN:VEVENT
UID:2o5r@192.168.245.71:3006
SEQUENCE:0
DTSTAMP:20260424T140015Z
DTSTART:20251014T150000Z
DTEND:20251014T164000Z
SUMMARY:Факультатив по математике
LOCATION:ГЗ 235
END:VEVENT
BEGIN:VEVENT
UID:rb8x@192.168.245.71:3006
SEQUENCE:0
DTSTAMP:20260424T140015Z
DTSTART:20251015T050000Z
DTEND:20251015T064000Z
SUMMARY:Элективная физическая культура и спорт
LOCATION:ГЗ Белый зал
END:VEVENT
BEGIN:VEVENT
UID:54u9@192.168.245.71:3006
SEQUENCE:0
DTSTAMP:20260424T140015Z
DTSTART:20251015T090000Z
DTEND:20251015T104000Z
SUMMARY:Физика
LOCATION:ГЗ 237
END:VEVENT
BEGIN:VEVENT
UID:dm0h@192.168.245.71:3006
SEQUENCE:0
DTSTAMP:20260424T140015Z
DTSTART:20251015T110000Z
DTEND:20251015T124000Z
SUMMARY:Введение в профессиональную деятельность
LOCATION:11 к. 148
END:VEVENT
BEGIN:VEVENT
UID:qjdz@192.168.245.71:3006
SEQUENCE:0
DTSTAMP:20260424T140015Z
DTSTART:20251016T070000Z
DTEND:20251016T084000Z
SUMMARY:Введение в профессиональную деятельность
LOCATION:11 к. 215
END:VEVENT
BEGIN:VEVENT
UID:n5to@192.168.245.71:3006
SEQUENCE:0
DTSTAMP:20260424T140015Z
DTSTART:20251016T090000Z
DTEND:20251016T104000Z
SUMMARY:Физика
LOCATION:3 к. 503
END:VEVENT
BEGIN:VEVENT
UID:j8nv@192.168.245.71:3006
SEQUENCE:0
DTSTAMP:20260424T140015Z
DTSTART:20251016T110000Z
DTEND:20251016T140000Z
SUMMARY:Высшая математика
LOCATION:3 к. 201
END:VEVENT
BEGIN:VEVENT
UID:9hoj@192.168.245.71:3006
SEQUENCE:0
DTSTAMP:20260424T140015Z
DTSTART:20251017T050000Z
DTEND:20251017T064000Z
SUMMARY:Иностранный язык: Русский язык как иностранный
LOCATION:3 к. 501
END:VEVENT
BEGIN:VEVENT
UID:o152@192.168.245.71:3006
SEQUENCE:0
DTSTAMP:20260424T140015Z
DTSTART:20251017T090000Z
DTEND:20251017T104000Z
SUMMARY:Дополнительные главы программирования
LOCATION:11 к. 148
END:VEVENT
BEGIN:VEVENT
UID:24zx@192.168.245.71:3006
SEQUENCE:0
DTSTAMP:20260424T140015Z
DTSTART:20251018T070000Z
DTEND:20251018T084000Z
SUMMARY:Элективная физическая культура и спорт
LOCATION:СК Секции
END:VEVENT
BEGIN:VEVENT
UID:nb0m@192.168.245.71:3006
SEQUENCE:0
DTSTAMP:20260424T140015Z
DTSTART:20251018T090000Z
DTEND:20251018T104000Z
SUMMARY:Основы российской государственности
LOCATION:ГЗ 237
END:VEVENT
BEGIN:VEVENT
UID:ocah@192.168.245.71:3006
SEQUENCE:0
DTSTAMP:20260424T140015Z
DTSTART:20251018T110000Z
DTEND:20251018T124000Z
SUMMARY:Основы российской государственности
LOCATION:11 к. 328
END:VEVENT
BEGIN:VEVENT
UID:f8ai@192.168.245.71:3006
SEQUENCE:0
DTSTAMP:20260424T140015Z
DTSTART:20251018T110000Z
DTEND:20251018T124000Z
SUMMARY:Иностранный язык: Русский язык как иностранный
LOCATION:3 к. 211
END:VEVENT
END:VCALENDAR