BEGIN:VCALENDAR
VERSION:2.0
PRODID:-//spbstu.ru//ical//RU
NAME:Расписание группы 5130903/50003
X-WR-CALNAME:Расписание группы 5130903/50003
TIMEZONE-ID:Europe/Moscow
X-WR-TIMEZONE:Europe/Moscow
BEGIN:VEVENT
UID:vpn2@192.168.245.71:3006
SEQUENCE:0
DTSTAMP:20260423T214101Z
DTSTART:20251110T090000Z
DTEND:20251110T104000Z
SUMMARY:Алгоритмизация и программирование
LOCATION:11 к. 148
END:VEVENT
BEGIN:VEVENT
UID:np35@192.168.245.71:3006
SEQUENCE:0
DTSTAMP:20260423T214101Z
DTSTART:20251111T070000Z
DTEND:20251111T084000Z
SUMMARY:Алгоритмизация и программирование
LOCATION:11 к. 215
END:VEVENT
BEGIN:VEVENT
UID:5d24@192.168.245.71:3006
SEQUENCE:0
DTSTAMP:20260423T214101Z
DTSTART:20251111T090000Z
DTEND:20251111T104000Z
SUMMARY:Иностранный язык: Базовый курс
LOCATION:3 к. 210
END:VEVENT
BEGIN:VEVENT
UID:28cd@192.168.245.71:3006
SEQUENCE:0
DTSTAMP:20260423T214101Z
DTSTART:20251111T110000Z
DTEND:20251111T124000Z
SUMMARY:Высшая математика
LOCATION:11 к. 315
END:VEVENT
BEGIN:VEVENT
UID:mgqh@192.168.245.71:3006
SEQUENCE:0
DTSTAMP:20260423T214101Z
DTSTART:20251111T130000Z
DTEND:20251111T144000Z
SUMMARY:Экономическая культура
LOCATION:11 к. 316
END:VEVENT
BEGIN:VEVENT
UID:spmx@192.168.245.71:3006
SEQUENCE:0
DTSTAMP:20260423T214101Z
DTSTART:20251111T150000Z
DTEND:20251111T164000Z
SUMMARY:Факультатив по математике
LOCATION:ГЗ 235
END:VEVENT
BEGIN:VEVENT
UID:qlvu@192.168.245.71:3006
SEQUENCE:0
DTSTAMP:20260423T214101Z
DTSTART:20251112T050000Z
DTEND:20251112T064000Z
SUMMARY:Элективная физическая культура и спорт
LOCATION:ГЗ Белый зал
END:VEVENT
BEGIN:VEVENT
UID:w47v@192.168.245.71:3006
SEQUENCE:0
DTSTAMP:20260423T214101Z
DTSTART:20251112T090000Z
DTEND:20251112T104000Z
SUMMARY:Физика
LOCATION:ГЗ 237
END:VEVENT
BEGIN:VEVENT
UID:77j5@192.168.245.71:3006
SEQUENCE:0
DTSTAMP:20260423T214101Z
DTSTART:20251112T110000Z
DTEND:20251112T124000Z
SUMMARY:Введение в профессиональную деятельность
LOCATION:11 к. 148
END:VEVENT
BEGIN:VEVENT
UID:j6rq@192.168.245.71:3006
SEQUENCE:0
DTSTAMP:20260423T214101Z
DTSTART:20251113T070000Z
DTEND:20251113T084000Z
SUMMARY:Введение в профессиональную деятельность
LOCATION:11 к. 215
END:VEVENT
BEGIN:VEVENT
UID:dff7@192.168.245.71:3006
SEQUENCE:0
DTSTAMP:20260423T214101Z
DTSTART:20251113T090000Z
DTEND:20251113T104000Z
SUMMARY:Физика
LOCATION:3 к. 503
END:VEVENT
BEGIN:VEVENT
UID:zx0f@192.168.245.71:3006
SEQUENCE:0
DTSTAMP:20260423T214101Z
DTSTART:20251113T110000Z
DTEND:20251113T140000Z
SUMMARY:Высшая математика
LOCATION:3 к. 201
END:VEVENT
BEGIN:VEVENT
UID:q0pb@192.168.245.71:3006
SEQUENCE:0
DTSTAMP:20260423T214101Z
DTSTART:20251114T050000Z
DTEND:20251114T064000Z
SUMMARY:Иностранный язык: Русский язык как иностранный
LOCATION:3 к. 501
END:VEVENT
BEGIN:VEVENT
UID:bsk4@192.168.245.71:3006
SEQUENCE:0
DTSTAMP:20260423T214101Z
DTSTART:20251114T090000Z
DTEND:20251114T104000Z
SUMMARY:Дополнительные главы программирования
LOCATION:11 к. 148
END:VEVENT
BEGIN:VEVENT
UID:9qz8@192.168.245.71:3006
SEQUENCE:0
DTSTAMP:20260423T214101Z
DTSTART:20251115T070000Z
DTEND:20251115T084000Z
SUMMARY:Элективная физическая культура и спорт
LOCATION:СК Секции
END:VEVENT
BEGIN:VEVENT
UID:nnkj@192.168.245.71:3006
SEQUENCE:0
DTSTAMP:20260423T214101Z
DTSTART:20251115T090000Z
DTEND:20251115T104000Z
SUMMARY:Основы российской государственности
LOCATION:ГЗ 237
END:VEVENT
BEGIN:VEVENT
UID:sdk2@192.168.245.71:3006
SEQUENCE:0
DTSTAMP:20260423T214101Z
DTSTART:20251115T110000Z
DTEND:20251115T124000Z
SUMMARY:Иностранный язык: Русский язык как иностранный
LOCATION:3 к. 211
END:VEVENT
BEGIN:VEVENT
UID:nyuo@192.168.245.71:3006
SEQUENCE:0
DTSTAMP:20260423T214101Z
DTSTART:20251115T110000Z
DTEND:20251115T124000Z
SUMMARY:Основы российской государственности
LOCATION:11 к. 328
END:VEVENT
END:VCALENDAR