BEGIN:VCALENDAR
VERSION:2.0
PRODID:-//spbstu.ru//ical//RU
NAME:Расписание группы 5130903/50003
X-WR-CALNAME:Расписание группы 5130903/50003
TIMEZONE-ID:Europe/Moscow
X-WR-TIMEZONE:Europe/Moscow
BEGIN:VEVENT
UID:roca@192.168.245.71:3006
SEQUENCE:0
DTSTAMP:20260424T175507Z
DTSTART:20250922T070000Z
DTEND:20250922T084000Z
SUMMARY:Основы цифровых технологий
LOCATION:11 к. 211
END:VEVENT
BEGIN:VEVENT
UID:vn4s@192.168.245.71:3006
SEQUENCE:0
DTSTAMP:20260424T175507Z
DTSTART:20250922T090000Z
DTEND:20250922T104000Z
SUMMARY:Алгоритмизация и программирование
LOCATION:11 к. 148
END:VEVENT
BEGIN:VEVENT
UID:ayx9@192.168.245.71:3006
SEQUENCE:0
DTSTAMP:20260424T175507Z
DTSTART:20250922T130000Z
DTEND:20250922T144000Z
SUMMARY:Творческие семестры
LOCATION:ГЗ Белый зал
END:VEVENT
BEGIN:VEVENT
UID:cv7e@192.168.245.71:3006
SEQUENCE:0
DTSTAMP:20260424T175507Z
DTSTART:20250923T070000Z
DTEND:20250923T084000Z
SUMMARY:Алгоритмизация и программирование
LOCATION:11 к. 215
END:VEVENT
BEGIN:VEVENT
UID:z4z3@192.168.245.71:3006
SEQUENCE:0
DTSTAMP:20260424T175507Z
DTSTART:20250923T090000Z
DTEND:20250923T104000Z
SUMMARY:Иностранный язык: Базовый курс
LOCATION:3 к. 210
END:VEVENT
BEGIN:VEVENT
UID:mi0u@192.168.245.71:3006
SEQUENCE:0
DTSTAMP:20260424T175507Z
DTSTART:20250923T110000Z
DTEND:20250923T124000Z
SUMMARY:Высшая математика
LOCATION:11 к. 315
END:VEVENT
BEGIN:VEVENT
UID:6c21@192.168.245.71:3006
SEQUENCE:0
DTSTAMP:20260424T175507Z
DTSTART:20250924T050000Z
DTEND:20250924T064000Z
SUMMARY:Элективная физическая культура и спорт
LOCATION:ГЗ Белый зал
END:VEVENT
BEGIN:VEVENT
UID:kjyc@192.168.245.71:3006
SEQUENCE:0
DTSTAMP:20260424T175507Z
DTSTART:20250924T070000Z
DTEND:20250924T084000Z
SUMMARY:Физика
LOCATION:ГЗ 155
END:VEVENT
BEGIN:VEVENT
UID:sub0@192.168.245.71:3006
SEQUENCE:0
DTSTAMP:20260424T175507Z
DTSTART:20250924T070000Z
DTEND:20250924T084000Z
SUMMARY:Физика
LOCATION:ГЗ 155
END:VEVENT
BEGIN:VEVENT
UID:iynl@192.168.245.71:3006
SEQUENCE:0
DTSTAMP:20260424T175507Z
DTSTART:20250924T090000Z
DTEND:20250924T104000Z
SUMMARY:Физика
LOCATION:ГЗ 237
END:VEVENT
BEGIN:VEVENT
UID:80px@192.168.245.71:3006
SEQUENCE:0
DTSTAMP:20260424T175507Z
DTSTART:20250924T110000Z
DTEND:20250924T124000Z
SUMMARY:Введение в профессиональную деятельность
LOCATION:11 к. 148
END:VEVENT
BEGIN:VEVENT
UID:p2eh@192.168.245.71:3006
SEQUENCE:0
DTSTAMP:20260424T175507Z
DTSTART:20250925T070000Z
DTEND:20250925T084000Z
SUMMARY:Алгоритмизация и программирование
LOCATION:11 к. 215
END:VEVENT
BEGIN:VEVENT
UID:coe5@192.168.245.71:3006
SEQUENCE:0
DTSTAMP:20260424T175507Z
DTSTART:20250925T090000Z
DTEND:20250925T104000Z
SUMMARY:Физика
LOCATION:3 к. 503
END:VEVENT
BEGIN:VEVENT
UID:w2rf@192.168.245.71:3006
SEQUENCE:0
DTSTAMP:20260424T175507Z
DTSTART:20250926T050000Z
DTEND:20250926T064000Z
SUMMARY:Иностранный язык: Русский язык как иностранный
LOCATION:3 к. 501
END:VEVENT
BEGIN:VEVENT
UID:gjds@192.168.245.71:3006
SEQUENCE:0
DTSTAMP:20260424T175507Z
DTSTART:20250926T090000Z
DTEND:20250926T104000Z
SUMMARY:Физика
LOCATION:ГЗ 237
END:VEVENT
BEGIN:VEVENT
UID:sqf7@192.168.245.71:3006
SEQUENCE:0
DTSTAMP:20260424T175507Z
DTSTART:20250926T130000Z
DTEND:20250926T144000Z
SUMMARY:Высшая математика
LOCATION:11 к. 319
END:VEVENT
BEGIN:VEVENT
UID:ugmo@192.168.245.71:3006
SEQUENCE:0
DTSTAMP:20260424T175507Z
DTSTART:20250927T070000Z
DTEND:20250927T084000Z
SUMMARY:Элективная физическая культура и спорт
LOCATION:СК Секции
END:VEVENT
BEGIN:VEVENT
UID:4c4e@192.168.245.71:3006
SEQUENCE:0
DTSTAMP:20260424T175507Z
DTSTART:20250927T110000Z
DTEND:20250927T124000Z
SUMMARY:Основы российской государственности
LOCATION:11 к. 328
END:VEVENT
END:VCALENDAR