BEGIN:VCALENDAR
VERSION:2.0
PRODID:-//spbstu.ru//ical//RU
NAME:Расписание группы 5130903/50003
X-WR-CALNAME:Расписание группы 5130903/50003
TIMEZONE-ID:Europe/Moscow
X-WR-TIMEZONE:Europe/Moscow
BEGIN:VEVENT
UID:7u1a@192.168.245.71:3006
SEQUENCE:0
DTSTAMP:20260422T045106Z
DTSTART:20260209T070000Z
DTEND:20260209T084000Z
SUMMARY:Структуры данных
LOCATION:11 к. 143
END:VEVENT
BEGIN:VEVENT
UID:iu24@192.168.245.71:3006
SEQUENCE:0
DTSTAMP:20260422T045106Z
DTSTART:20260209T090000Z
DTEND:20260209T104000Z
SUMMARY:Иностранный язык: Базовый курс
LOCATION:11 к. 322
END:VEVENT
BEGIN:VEVENT
UID:dfbm@192.168.245.71:3006
SEQUENCE:0
DTSTAMP:20260422T045106Z
DTSTART:20260209T110000Z
DTEND:20260209T124000Z
SUMMARY:Физика
LOCATION:11 к. 324
END:VEVENT
BEGIN:VEVENT
UID:lmoj@192.168.245.71:3006
SEQUENCE:0
DTSTAMP:20260422T045106Z
DTSTART:20260209T130000Z
DTEND:20260209T144000Z
SUMMARY:Высшая математика
LOCATION:11 к. 148
END:VEVENT
BEGIN:VEVENT
UID:2lb3@192.168.245.71:3006
SEQUENCE:0
DTSTAMP:20260422T045106Z
DTSTART:20260209T150000Z
DTEND:20260209T164000Z
SUMMARY:Творческие семестры
LOCATION:ГЗ Белый зал
END:VEVENT
BEGIN:VEVENT
UID:npdu@192.168.245.71:3006
SEQUENCE:0
DTSTAMP:20260422T045106Z
DTSTART:20260210T070000Z
DTEND:20260210T084000Z
SUMMARY:История России
LOCATION:11 к. 328
END:VEVENT
BEGIN:VEVENT
UID:3t3f@192.168.245.71:3006
SEQUENCE:0
DTSTAMP:20260422T045106Z
DTSTART:20260210T090000Z
DTEND:20260210T104000Z
SUMMARY:Структуры данных
LOCATION:11 к. 215
END:VEVENT
BEGIN:VEVENT
UID:znr3@192.168.245.71:3006
SEQUENCE:0
DTSTAMP:20260422T045106Z
DTSTART:20260210T110000Z
DTEND:20260210T124000Z
SUMMARY:Высшая математика
LOCATION:11 к. 316
END:VEVENT
BEGIN:VEVENT
UID:5poc@192.168.245.71:3006
SEQUENCE:0
DTSTAMP:20260422T045106Z
DTSTART:20260210T150000Z
DTEND:20260210T153000Z
SUMMARY:Экономическая культура
LOCATION:3 к. 501
END:VEVENT
BEGIN:VEVENT
UID:1ld5@192.168.245.71:3006
SEQUENCE:0
DTSTAMP:20260422T045106Z
DTSTART:20260210T150000Z
DTEND:20260210T164000Z
SUMMARY:Философия
LOCATION:3 к. 201
END:VEVENT
BEGIN:VEVENT
UID:msx5@192.168.245.71:3006
SEQUENCE:0
DTSTAMP:20260422T045106Z
DTSTART:20260211T050000Z
DTEND:20260211T064000Z
SUMMARY:Элективная физическая культура и спорт
LOCATION:СК Секции
END:VEVENT
BEGIN:VEVENT
UID:jqc6@192.168.245.71:3006
SEQUENCE:0
DTSTAMP:20260422T045106Z
DTSTART:20260211T090000Z
DTEND:20260211T104000Z
SUMMARY:Физика
LOCATION:ГЗ 237
END:VEVENT
BEGIN:VEVENT
UID:j238@192.168.245.71:3006
SEQUENCE:0
DTSTAMP:20260422T045106Z
DTSTART:20260211T150000Z
DTEND:20260211T153000Z
SUMMARY:Основы российской государственности
LOCATION:3 к. 501
END:VEVENT
BEGIN:VEVENT
UID:o15r@192.168.245.71:3006
SEQUENCE:0
DTSTAMP:20260422T045106Z
DTSTART:20260212T070000Z
DTEND:20260212T084000Z
SUMMARY:Структуры данных
LOCATION:11 к. 215
END:VEVENT
BEGIN:VEVENT
UID:euds@192.168.245.71:3006
SEQUENCE:0
DTSTAMP:20260422T045106Z
DTSTART:20260212T110000Z
DTEND:20260212T140000Z
SUMMARY:Высшая математика
LOCATION:3 к. 201
END:VEVENT
BEGIN:VEVENT
UID:kbas@192.168.245.71:3006
SEQUENCE:0
DTSTAMP:20260422T045106Z
DTSTART:20260213T050000Z
DTEND:20260213T064000Z
SUMMARY:Иностранный язык: Русский язык как иностранный
LOCATION:3 к. 501
END:VEVENT
BEGIN:VEVENT
UID:0r9g@192.168.245.71:3006
SEQUENCE:0
DTSTAMP:20260422T045106Z
DTSTART:20260213T090000Z
DTEND:20260213T104000Z
SUMMARY:Физика
LOCATION:ГЗ 237
END:VEVENT
BEGIN:VEVENT
UID:dk3e@192.168.245.71:3006
SEQUENCE:0
DTSTAMP:20260422T045106Z
DTSTART:20260213T110000Z
DTEND:20260213T124000Z
SUMMARY:Физика
LOCATION:ГЗ 186 А
END:VEVENT
BEGIN:VEVENT
UID:nny5@192.168.245.71:3006
SEQUENCE:0
DTSTAMP:20260422T045106Z
DTSTART:20260213T110000Z
DTEND:20260213T124000Z
SUMMARY:Физика
LOCATION:ГЗ 186 А
END:VEVENT
BEGIN:VEVENT
UID:45k3@192.168.245.71:3006
SEQUENCE:0
DTSTAMP:20260422T045106Z
DTSTART:20260213T130000Z
DTEND:20260213T144000Z
SUMMARY:Философия
LOCATION:11 к. 315
END:VEVENT
BEGIN:VEVENT
UID:ndgm@192.168.245.71:3006
SEQUENCE:0
DTSTAMP:20260422T045106Z
DTSTART:20260214T070000Z
DTEND:20260214T084000Z
SUMMARY:Элективная физическая культура и спорт
LOCATION:СК Секции
END:VEVENT
BEGIN:VEVENT
UID:zjaf@192.168.245.71:3006
SEQUENCE:0
DTSTAMP:20260422T045106Z
DTSTART:20260214T090000Z
DTEND:20260214T104000Z
SUMMARY:История России
LOCATION:ГЗ 237
END:VEVENT
BEGIN:VEVENT
UID:annv@192.168.245.71:3006
SEQUENCE:0
DTSTAMP:20260422T045106Z
DTSTART:20260214T130000Z
DTEND:20260214T144000Z
SUMMARY:Иностранный язык: Русский язык как иностранный
LOCATION:3 к. 501
END:VEVENT
END:VCALENDAR