BEGIN:VCALENDAR
VERSION:2.0
PRODID:-//spbstu.ru//ical//RU
NAME:Расписание группы 5130903/50003
X-WR-CALNAME:Расписание группы 5130903/50003
TIMEZONE-ID:Europe/Moscow
X-WR-TIMEZONE:Europe/Moscow
BEGIN:VEVENT
UID:sdd4@192.168.245.71:3006
SEQUENCE:0
DTSTAMP:20260421T051619Z
DTSTART:20260420T070000Z
DTEND:20260420T084000Z
SUMMARY:Структуры данных
LOCATION:11 к. 143
END:VEVENT
BEGIN:VEVENT
UID:r10d@192.168.245.71:3006
SEQUENCE:0
DTSTAMP:20260421T051619Z
DTSTART:20260420T090000Z
DTEND:20260420T104000Z
SUMMARY:Иностранный язык: Базовый курс
LOCATION:11 к. 322
END:VEVENT
BEGIN:VEVENT
UID:6tx6@192.168.245.71:3006
SEQUENCE:0
DTSTAMP:20260421T051619Z
DTSTART:20260420T110000Z
DTEND:20260420T124000Z
SUMMARY:Физика
LOCATION:11 к. 324
END:VEVENT
BEGIN:VEVENT
UID:dtll@192.168.245.71:3006
SEQUENCE:0
DTSTAMP:20260421T051619Z
DTSTART:20260420T130000Z
DTEND:20260420T144000Z
SUMMARY:Высшая математика
LOCATION:11 к. 148
END:VEVENT
BEGIN:VEVENT
UID:th0i@192.168.245.71:3006
SEQUENCE:0
DTSTAMP:20260421T051619Z
DTSTART:20260421T070000Z
DTEND:20260421T084000Z
SUMMARY:История России
LOCATION:11 к. 328
END:VEVENT
BEGIN:VEVENT
UID:ucsw@192.168.245.71:3006
SEQUENCE:0
DTSTAMP:20260421T051619Z
DTSTART:20260421T090000Z
DTEND:20260421T104000Z
SUMMARY:Структуры данных
LOCATION:11 к. 215
END:VEVENT
BEGIN:VEVENT
UID:18ij@192.168.245.71:3006
SEQUENCE:0
DTSTAMP:20260421T051619Z
DTSTART:20260421T110000Z
DTEND:20260421T124000Z
SUMMARY:Высшая математика
LOCATION:11 к. 319
END:VEVENT
BEGIN:VEVENT
UID:v8ew@192.168.245.71:3006
SEQUENCE:0
DTSTAMP:20260421T051619Z
DTSTART:20260422T050000Z
DTEND:20260422T064000Z
SUMMARY:Элективная физическая культура и спорт
LOCATION:СК Секции
END:VEVENT
BEGIN:VEVENT
UID:nkvu@192.168.245.71:3006
SEQUENCE:0
DTSTAMP:20260421T051619Z
DTSTART:20260422T090000Z
DTEND:20260422T104000Z
SUMMARY:Физика
LOCATION:ГЗ 237
END:VEVENT
BEGIN:VEVENT
UID:18uf@192.168.245.71:3006
SEQUENCE:0
DTSTAMP:20260421T051619Z
DTSTART:20260423T070000Z
DTEND:20260423T084000Z
SUMMARY:Структуры данных
LOCATION:11 к. 215
END:VEVENT
BEGIN:VEVENT
UID:9y3c@192.168.245.71:3006
SEQUENCE:0
DTSTAMP:20260421T051619Z
DTSTART:20260423T110000Z
DTEND:20260423T140000Z
SUMMARY:Высшая математика
LOCATION:3 к. 201
END:VEVENT
BEGIN:VEVENT
UID:y9r8@192.168.245.71:3006
SEQUENCE:0
DTSTAMP:20260421T051619Z
DTSTART:20260424T050000Z
DTEND:20260424T064000Z
SUMMARY:Иностранный язык: Русский язык как иностранный
LOCATION:3 к. 501
END:VEVENT
BEGIN:VEVENT
UID:c81w@192.168.245.71:3006
SEQUENCE:0
DTSTAMP:20260421T051619Z
DTSTART:20260424T090000Z
DTEND:20260424T104000Z
SUMMARY:Физика
LOCATION:ГЗ 237
END:VEVENT
BEGIN:VEVENT
UID:njbz@192.168.245.71:3006
SEQUENCE:0
DTSTAMP:20260421T051619Z
DTSTART:20260424T110000Z
DTEND:20260424T124000Z
SUMMARY:Физика
LOCATION:ГЗ 186 А
END:VEVENT
BEGIN:VEVENT
UID:uyx0@192.168.245.71:3006
SEQUENCE:0
DTSTAMP:20260421T051619Z
DTSTART:20260424T110000Z
DTEND:20260424T124000Z
SUMMARY:Физика
LOCATION:ГЗ 186 А
END:VEVENT
BEGIN:VEVENT
UID:zpz8@192.168.245.71:3006
SEQUENCE:0
DTSTAMP:20260421T051619Z
DTSTART:20260425T070000Z
DTEND:20260425T084000Z
SUMMARY:Элективная физическая культура и спорт
LOCATION:СК Секции
END:VEVENT
BEGIN:VEVENT
UID:vjia@192.168.245.71:3006
SEQUENCE:0
DTSTAMP:20260421T051619Z
DTSTART:20260425T090000Z
DTEND:20260425T104000Z
SUMMARY:История России
LOCATION:ГЗ 237
END:VEVENT
BEGIN:VEVENT
UID:cbl4@192.168.245.71:3006
SEQUENCE:0
DTSTAMP:20260421T051619Z
DTSTART:20260425T130000Z
DTEND:20260425T144000Z
SUMMARY:Иностранный язык: Русский язык как иностранный
LOCATION:3 к. 501
END:VEVENT
END:VCALENDAR