BEGIN:VCALENDAR
VERSION:2.0
PRODID:-//spbstu.ru//ical//RU
NAME:Расписание группы 5130904/50001
X-WR-CALNAME:Расписание группы 5130904/50001
TIMEZONE-ID:Europe/Moscow
X-WR-TIMEZONE:Europe/Moscow
BEGIN:VEVENT
UID:oevd@192.168.245.71:3006
SEQUENCE:0
DTSTAMP:20260424T030241Z
DTSTART:20251020T070000Z
DTEND:20251020T084000Z
SUMMARY:Практикум по программированию
LOCATION:DL Дистанционно
END:VEVENT
BEGIN:VEVENT
UID:nw8t@192.168.245.71:3006
SEQUENCE:0
DTSTAMP:20260424T030241Z
DTSTART:20251020T070000Z
DTEND:20251020T084000Z
SUMMARY:Алгоритмизация и программирование
LOCATION:3 к. 203
END:VEVENT
BEGIN:VEVENT
UID:0yju@192.168.245.71:3006
SEQUENCE:0
DTSTAMP:20260424T030241Z
DTSTART:20251020T090000Z
DTEND:20251020T104000Z
SUMMARY:Алгоритмизация и программирование
LOCATION:DL Дистанционно
END:VEVENT
BEGIN:VEVENT
UID:agah@192.168.245.71:3006
SEQUENCE:0
DTSTAMP:20260424T030241Z
DTSTART:20251020T110000Z
DTEND:20251020T124000Z
SUMMARY:Алгоритмизация и программирование
LOCATION:DL Дистанционно
END:VEVENT
BEGIN:VEVENT
UID:gu59@192.168.245.71:3006
SEQUENCE:0
DTSTAMP:20260424T030241Z
DTSTART:20251020T130000Z
DTEND:20251020T144000Z
SUMMARY:Введение в профессиональную деятельность
LOCATION:DL Дистанционно
END:VEVENT
BEGIN:VEVENT
UID:b6vm@192.168.245.71:3006
SEQUENCE:0
DTSTAMP:20260424T030241Z
DTSTART:20251021T060000Z
DTEND:20251021T084000Z
SUMMARY:Физика
LOCATION:3 к. 201
END:VEVENT
BEGIN:VEVENT
UID:bvli@192.168.245.71:3006
SEQUENCE:0
DTSTAMP:20260424T030241Z
DTSTART:20251021T090000Z
DTEND:20251021T104000Z
SUMMARY:Системное программное обеспечение GNU/Linux
LOCATION:3 к. 202
END:VEVENT
BEGIN:VEVENT
UID:tdkd@192.168.245.71:3006
SEQUENCE:0
DTSTAMP:20260424T030241Z
DTSTART:20251021T110000Z
DTEND:20251021T124000Z
SUMMARY:Алгоритмизация и программирование
LOCATION:3 к. 111
END:VEVENT
BEGIN:VEVENT
UID:1819@192.168.245.71:3006
SEQUENCE:0
DTSTAMP:20260424T030241Z
DTSTART:20251021T130000Z
DTEND:20251021T144000Z
SUMMARY:Практикум по программированию
LOCATION:3 к. 203
END:VEVENT
BEGIN:VEVENT
UID:w0ox@192.168.245.71:3006
SEQUENCE:0
DTSTAMP:20260424T030241Z
DTSTART:20251022T050000Z
DTEND:20251022T064000Z
SUMMARY:Элективная физическая культура и спорт
LOCATION:СК Секции
END:VEVENT
BEGIN:VEVENT
UID:dffc@192.168.245.71:3006
SEQUENCE:0
DTSTAMP:20260424T030241Z
DTSTART:20251022T070000Z
DTEND:20251022T084000Z
SUMMARY:Физика
LOCATION:11 к. 321
END:VEVENT
BEGIN:VEVENT
UID:3ht1@192.168.245.71:3006
SEQUENCE:0
DTSTAMP:20260424T030241Z
DTSTART:20251022T090000Z
DTEND:20251022T104000Z
SUMMARY:Алгоритмизация и программирование
LOCATION:DL Дистанционно
END:VEVENT
BEGIN:VEVENT
UID:pahb@192.168.245.71:3006
SEQUENCE:0
DTSTAMP:20260424T030241Z
DTSTART:20251023T070000Z
DTEND:20251023T084000Z
SUMMARY:Основы цифровых технологий
LOCATION:3 к. 103
END:VEVENT
BEGIN:VEVENT
UID:ctg4@192.168.245.71:3006
SEQUENCE:0
DTSTAMP:20260424T030241Z
DTSTART:20251023T090000Z
DTEND:20251023T104000Z
SUMMARY:Высшая математика
LOCATION:11 к. 309
END:VEVENT
BEGIN:VEVENT
UID:9s2q@192.168.245.71:3006
SEQUENCE:0
DTSTAMP:20260424T030241Z
DTSTART:20251023T110000Z
DTEND:20251023T140000Z
SUMMARY:Высшая математика
LOCATION:3 к. 215
END:VEVENT
BEGIN:VEVENT
UID:00ey@192.168.245.71:3006
SEQUENCE:0
DTSTAMP:20260424T030241Z
DTSTART:20251024T050000Z
DTEND:20251024T064000Z
SUMMARY:Иностранный язык: Русский язык как иностранный
LOCATION:3 к. 501
END:VEVENT
BEGIN:VEVENT
UID:xin1@192.168.245.71:3006
SEQUENCE:0
DTSTAMP:20260424T030241Z
DTSTART:20251024T070000Z
DTEND:20251024T084000Z
SUMMARY:Основы российской государственности
LOCATION:ГЗ 237
END:VEVENT
BEGIN:VEVENT
UID:ztn6@192.168.245.71:3006
SEQUENCE:0
DTSTAMP:20260424T030241Z
DTSTART:20251024T090000Z
DTEND:20251024T104000Z
SUMMARY:Основы российской государственности
LOCATION:3 к. 214
END:VEVENT
BEGIN:VEVENT
UID:h7w9@192.168.245.71:3006
SEQUENCE:0
DTSTAMP:20260424T030241Z
DTSTART:20251024T110000Z
DTEND:20251024T124000Z
SUMMARY:Высшая математика
LOCATION:11 к. 148
END:VEVENT
BEGIN:VEVENT
UID:afrl@192.168.245.71:3006
SEQUENCE:0
DTSTAMP:20260424T030241Z
DTSTART:20251024T130000Z
DTEND:20251024T144000Z
SUMMARY:Иностранный язык: Базовый курс
LOCATION:11 к. 309
END:VEVENT
BEGIN:VEVENT
UID:2cqt@192.168.245.71:3006
SEQUENCE:0
DTSTAMP:20260424T030241Z
DTSTART:20251025T070000Z
DTEND:20251025T084000Z
SUMMARY:Элективная физическая культура и спорт
LOCATION:СК Секции
END:VEVENT
BEGIN:VEVENT
UID:ua05@192.168.245.71:3006
SEQUENCE:0
DTSTAMP:20260424T030241Z
DTSTART:20251025T110000Z
DTEND:20251025T124000Z
SUMMARY:Иностранный язык: Русский язык как иностранный
LOCATION:3 к. 211
END:VEVENT
END:VCALENDAR