BEGIN:VCALENDAR
VERSION:2.0
PRODID:-//spbstu.ru//ical//RU
NAME:Расписание группы 5130904/50001
X-WR-CALNAME:Расписание группы 5130904/50001
TIMEZONE-ID:Europe/Moscow
X-WR-TIMEZONE:Europe/Moscow
BEGIN:VEVENT
UID:y6q5@192.168.245.71:3006
SEQUENCE:0
DTSTAMP:20260423T080938Z
DTSTART:20251124T050000Z
DTEND:20251124T064000Z
SUMMARY:Экономическая культура
LOCATION:3 к. 210
END:VEVENT
BEGIN:VEVENT
UID:qyao@192.168.245.71:3006
SEQUENCE:0
DTSTAMP:20260423T080938Z
DTSTART:20251124T070000Z
DTEND:20251124T084000Z
SUMMARY:Алгоритмизация и программирование
LOCATION:3 к. 203
END:VEVENT
BEGIN:VEVENT
UID:r97h@192.168.245.71:3006
SEQUENCE:0
DTSTAMP:20260423T080938Z
DTSTART:20251124T090000Z
DTEND:20251124T104000Z
SUMMARY:Алгоритмизация и программирование
LOCATION:DL Дистанционно
END:VEVENT
BEGIN:VEVENT
UID:m0xr@192.168.245.71:3006
SEQUENCE:0
DTSTAMP:20260423T080938Z
DTSTART:20251124T110000Z
DTEND:20251124T124000Z
SUMMARY:Алгоритмизация и программирование
LOCATION:DL Дистанционно
END:VEVENT
BEGIN:VEVENT
UID:7llj@192.168.245.71:3006
SEQUENCE:0
DTSTAMP:20260423T080938Z
DTSTART:20251124T130000Z
DTEND:20251124T144000Z
SUMMARY:Введение в профессиональную деятельность
LOCATION:DL Дистанционно
END:VEVENT
BEGIN:VEVENT
UID:p5dz@192.168.245.71:3006
SEQUENCE:0
DTSTAMP:20260423T080938Z
DTSTART:20251125T060000Z
DTEND:20251125T084000Z
SUMMARY:Физика
LOCATION:3 к. 201
END:VEVENT
BEGIN:VEVENT
UID:g8vs@192.168.245.71:3006
SEQUENCE:0
DTSTAMP:20260423T080938Z
DTSTART:20251125T090000Z
DTEND:20251125T104000Z
SUMMARY:Системное программное обеспечение GNU/Linux
LOCATION:3 к. 202
END:VEVENT
BEGIN:VEVENT
UID:ot0i@192.168.245.71:3006
SEQUENCE:0
DTSTAMP:20260423T080938Z
DTSTART:20251125T110000Z
DTEND:20251125T124000Z
SUMMARY:Физика
LOCATION:ГЗ 155
END:VEVENT
BEGIN:VEVENT
UID:z309@192.168.245.71:3006
SEQUENCE:0
DTSTAMP:20260423T080938Z
DTSTART:20251125T110000Z
DTEND:20251125T124000Z
SUMMARY:Физика
LOCATION:ГЗ 155
END:VEVENT
BEGIN:VEVENT
UID:u2ap@192.168.245.71:3006
SEQUENCE:0
DTSTAMP:20260423T080938Z
DTSTART:20251125T110000Z
DTEND:20251125T124000Z
SUMMARY:Физика
LOCATION:ГЗ 155
END:VEVENT
BEGIN:VEVENT
UID:0syx@192.168.245.71:3006
SEQUENCE:0
DTSTAMP:20260423T080938Z
DTSTART:20251125T150000Z
DTEND:20251125T164000Z
SUMMARY:Факультатив по математике
LOCATION:ГЗ 235
END:VEVENT
BEGIN:VEVENT
UID:fiju@192.168.245.71:3006
SEQUENCE:0
DTSTAMP:20260423T080938Z
DTSTART:20251126T050000Z
DTEND:20251126T064000Z
SUMMARY:Элективная физическая культура и спорт
LOCATION:СК Секции
END:VEVENT
BEGIN:VEVENT
UID:3uu5@192.168.245.71:3006
SEQUENCE:0
DTSTAMP:20260423T080938Z
DTSTART:20251126T070000Z
DTEND:20251126T084000Z
SUMMARY:Физика
LOCATION:11 к. 321
END:VEVENT
BEGIN:VEVENT
UID:gou5@192.168.245.71:3006
SEQUENCE:0
DTSTAMP:20260423T080938Z
DTSTART:20251126T090000Z
DTEND:20251126T104000Z
SUMMARY:Введение в профессиональную деятельность
LOCATION:3 к. 107
END:VEVENT
BEGIN:VEVENT
UID:j9c4@192.168.245.71:3006
SEQUENCE:0
DTSTAMP:20260423T080938Z
DTSTART:20251127T070000Z
DTEND:20251127T084000Z
SUMMARY:Основы цифровых технологий
LOCATION:3 к. 103
END:VEVENT
BEGIN:VEVENT
UID:oytm@192.168.245.71:3006
SEQUENCE:0
DTSTAMP:20260423T080938Z
DTSTART:20251127T090000Z
DTEND:20251127T104000Z
SUMMARY:Высшая математика
LOCATION:11 к. 309
END:VEVENT
BEGIN:VEVENT
UID:yzts@192.168.245.71:3006
SEQUENCE:0
DTSTAMP:20260423T080938Z
DTSTART:20251127T110000Z
DTEND:20251127T140000Z
SUMMARY:Высшая математика
LOCATION:3 к. 215
END:VEVENT
BEGIN:VEVENT
UID:y1nk@192.168.245.71:3006
SEQUENCE:0
DTSTAMP:20260423T080938Z
DTSTART:20251128T050000Z
DTEND:20251128T064000Z
SUMMARY:Иностранный язык: Русский язык как иностранный
LOCATION:3 к. 501
END:VEVENT
BEGIN:VEVENT
UID:7rmt@192.168.245.71:3006
SEQUENCE:0
DTSTAMP:20260423T080938Z
DTSTART:20251128T090000Z
DTEND:20251128T104000Z
SUMMARY:Основы российской государственности
LOCATION:3 к. 206
END:VEVENT
BEGIN:VEVENT
UID:tzj6@192.168.245.71:3006
SEQUENCE:0
DTSTAMP:20260423T080938Z
DTSTART:20251128T130000Z
DTEND:20251128T144000Z
SUMMARY:Иностранный язык: Базовый курс
LOCATION:11 к. 309
END:VEVENT
BEGIN:VEVENT
UID:rwz3@192.168.245.71:3006
SEQUENCE:0
DTSTAMP:20260423T080938Z
DTSTART:20251129T070000Z
DTEND:20251129T084000Z
SUMMARY:Элективная физическая культура и спорт
LOCATION:СК Секции
END:VEVENT
BEGIN:VEVENT
UID:s4yk@192.168.245.71:3006
SEQUENCE:0
DTSTAMP:20260423T080938Z
DTSTART:20251129T110000Z
DTEND:20251129T124000Z
SUMMARY:Иностранный язык: Русский язык как иностранный
LOCATION:3 к. 211
END:VEVENT
END:VCALENDAR