BEGIN:VCALENDAR
VERSION:2.0
PRODID:-//spbstu.ru//ical//RU
NAME:Расписание группы 5130904/50002
X-WR-CALNAME:Расписание группы 5130904/50002
TIMEZONE-ID:Europe/Moscow
X-WR-TIMEZONE:Europe/Moscow
BEGIN:VEVENT
UID:qbii@192.168.245.71:3006
SEQUENCE:0
DTSTAMP:20260423T073605Z
DTSTART:20260112T130000Z
DTEND:20260112T144000Z
SUMMARY:Физика
LOCATION:3 к. 215
END:VEVENT
BEGIN:VEVENT
UID:dit4@192.168.245.71:3006
SEQUENCE:0
DTSTAMP:20260423T073605Z
DTSTART:20260113T070000Z
DTEND:20260113T140000Z
SUMMARY:Физика
LOCATION:3 к. 215
END:VEVENT
BEGIN:VEVENT
UID:qcf7@192.168.245.71:3006
SEQUENCE:0
DTSTAMP:20260423T073605Z
DTSTART:20260117T070000Z
DTEND:20260117T084000Z
SUMMARY:Высшая математика
LOCATION:DL Дистанционно
END:VEVENT
END:VCALENDAR