BEGIN:VCALENDAR
VERSION:2.0
PRODID:-//spbstu.ru//ical//RU
NAME:Расписание группы 5130904/50002
X-WR-CALNAME:Расписание группы 5130904/50002
TIMEZONE-ID:Europe/Moscow
X-WR-TIMEZONE:Europe/Moscow
BEGIN:VEVENT
UID:2h7w@192.168.245.71:3006
SEQUENCE:0
DTSTAMP:20260422T134852Z
DTSTART:20260224T060000Z
DTEND:20260224T084000Z
SUMMARY:Физика
LOCATION:3 к. 201
END:VEVENT
BEGIN:VEVENT
UID:1o9s@192.168.245.71:3006
SEQUENCE:0
DTSTAMP:20260422T134852Z
DTSTART:20260224T090000Z
DTEND:20260224T104000Z
SUMMARY:Иностранный язык: Базовый курс
LOCATION:3 к. 209
END:VEVENT
BEGIN:VEVENT
UID:lfqx@192.168.245.71:3006
SEQUENCE:0
DTSTAMP:20260422T134852Z
DTSTART:20260224T110000Z
DTEND:20260224T124000Z
SUMMARY:Инструментальные средства разработки технической документации
LOCATION:ГЗ 237
END:VEVENT
BEGIN:VEVENT
UID:43hk@192.168.245.71:3006
SEQUENCE:0
DTSTAMP:20260422T134852Z
DTSTART:20260224T150000Z
DTEND:20260224T164000Z
SUMMARY:Физика
LOCATION:3 к. 215
END:VEVENT
BEGIN:VEVENT
UID:mu37@192.168.245.71:3006
SEQUENCE:0
DTSTAMP:20260422T134852Z
DTSTART:20260225T050000Z
DTEND:20260225T064000Z
SUMMARY:Элективная физическая культура и спорт
LOCATION:СК Секции
END:VEVENT
BEGIN:VEVENT
UID:0ngv@192.168.245.71:3006
SEQUENCE:0
DTSTAMP:20260422T134852Z
DTSTART:20260225T090000Z
DTEND:20260225T104000Z
SUMMARY:Высшая математика
LOCATION:11 к. 324
END:VEVENT
BEGIN:VEVENT
UID:v13x@192.168.245.71:3006
SEQUENCE:0
DTSTAMP:20260422T134852Z
DTSTART:20260226T050000Z
DTEND:20260226T064000Z
SUMMARY:Иностранный язык: Русский язык как иностранный
LOCATION:Не опр. Нет
END:VEVENT
BEGIN:VEVENT
UID:hhem@192.168.245.71:3006
SEQUENCE:0
DTSTAMP:20260422T134852Z
DTSTART:20260226T070000Z
DTEND:20260226T084000Z
SUMMARY:История России
LOCATION:3 к. 503
END:VEVENT
BEGIN:VEVENT
UID:d7qq@192.168.245.71:3006
SEQUENCE:0
DTSTAMP:20260422T134852Z
DTSTART:20260226T090000Z
DTEND:20260226T104000Z
SUMMARY:Технологии программирования
LOCATION:3 к. 104
END:VEVENT
BEGIN:VEVENT
UID:stvm@192.168.245.71:3006
SEQUENCE:0
DTSTAMP:20260422T134852Z
DTSTART:20260226T090000Z
DTEND:20260226T104000Z
SUMMARY:Технологии программирования
LOCATION:3 к. 103
END:VEVENT
BEGIN:VEVENT
UID:m4iu@192.168.245.71:3006
SEQUENCE:0
DTSTAMP:20260422T134852Z
DTSTART:20260226T110000Z
DTEND:20260226T140000Z
SUMMARY:Высшая математика
LOCATION:3 к. 215
END:VEVENT
BEGIN:VEVENT
UID:ousb@192.168.245.71:3006
SEQUENCE:0
DTSTAMP:20260422T134852Z
DTSTART:20260226T150000Z
DTEND:20260226T164000Z
SUMMARY:Высшая математика
LOCATION:3 к. 103
END:VEVENT
BEGIN:VEVENT
UID:440w@192.168.245.71:3006
SEQUENCE:0
DTSTAMP:20260422T134852Z
DTSTART:20260227T050000Z
DTEND:20260227T064000Z
SUMMARY:Иностранный язык: Русский язык как иностранный
LOCATION:3 к. 501
END:VEVENT
BEGIN:VEVENT
UID:6t05@192.168.245.71:3006
SEQUENCE:0
DTSTAMP:20260422T134852Z
DTSTART:20260227T090000Z
DTEND:20260227T104000Z
SUMMARY:Физика
LOCATION:11 к. 309
END:VEVENT
BEGIN:VEVENT
UID:dp7c@192.168.245.71:3006
SEQUENCE:0
DTSTAMP:20260422T134852Z
DTSTART:20260227T110000Z
DTEND:20260227T124000Z
SUMMARY:Высшая математика
LOCATION:11 к. 324
END:VEVENT
BEGIN:VEVENT
UID:x3se@192.168.245.71:3006
SEQUENCE:0
DTSTAMP:20260422T134852Z
DTSTART:20260227T150000Z
DTEND:20260227T164000Z
SUMMARY:Философия
LOCATION:3 к. 215
END:VEVENT
BEGIN:VEVENT
UID:pcwn@192.168.245.71:3006
SEQUENCE:0
DTSTAMP:20260422T134852Z
DTSTART:20260228T070000Z
DTEND:20260228T084000Z
SUMMARY:Элективная физическая культура и спорт
LOCATION:СК Секции
END:VEVENT
BEGIN:VEVENT
UID:lo2g@192.168.245.71:3006
SEQUENCE:0
DTSTAMP:20260422T134852Z
DTSTART:20260228T070000Z
DTEND:20260228T084000Z
SUMMARY:Элективная физическая культура и спорт
LOCATION:СК Секции
END:VEVENT
BEGIN:VEVENT
UID:ojzh@192.168.245.71:3006
SEQUENCE:0
DTSTAMP:20260422T134852Z
DTSTART:20260228T110000Z
DTEND:20260228T124000Z
SUMMARY:Системное программное обеспечение GNU/Linux
LOCATION:ГЗ 237
END:VEVENT
END:VCALENDAR