BEGIN:VCALENDAR
VERSION:2.0
PRODID:-//spbstu.ru//ical//RU
NAME:Расписание группы 5130904/50004
X-WR-CALNAME:Расписание группы 5130904/50004
TIMEZONE-ID:Europe/Moscow
X-WR-TIMEZONE:Europe/Moscow
BEGIN:VEVENT
UID:bopj@192.168.245.71:3006
SEQUENCE:0
DTSTAMP:20260421T184521Z
DTSTART:20260209T050000Z
DTEND:20260209T064000Z
SUMMARY:Структуры данных
LOCATION:3 к. 110
END:VEVENT
BEGIN:VEVENT
UID:ygrl@192.168.245.71:3006
SEQUENCE:0
DTSTAMP:20260421T184521Z
DTSTART:20260209T050000Z
DTEND:20260209T064000Z
SUMMARY:Структуры данных
LOCATION:3 к. 110
END:VEVENT
BEGIN:VEVENT
UID:21fy@192.168.245.71:3006
SEQUENCE:0
DTSTAMP:20260421T184521Z
DTSTART:20260209T070000Z
DTEND:20260209T084000Z
SUMMARY:Высшая математика
LOCATION:11 к. 326
END:VEVENT
BEGIN:VEVENT
UID:jfq6@192.168.245.71:3006
SEQUENCE:0
DTSTAMP:20260421T184521Z
DTSTART:20260209T120000Z
DTEND:20260209T134000Z
SUMMARY:Структуры данных
LOCATION:DL Дистанционно
END:VEVENT
BEGIN:VEVENT
UID:n1oc@192.168.245.71:3006
SEQUENCE:0
DTSTAMP:20260421T184521Z
DTSTART:20260209T150000Z
DTEND:20260209T164000Z
SUMMARY:Творческие семестры
LOCATION:ГЗ Белый зал
END:VEVENT
BEGIN:VEVENT
UID:xcnv@192.168.245.71:3006
SEQUENCE:0
DTSTAMP:20260421T184521Z
DTSTART:20260210T060000Z
DTEND:20260210T084000Z
SUMMARY:Физика
LOCATION:3 к. 201
END:VEVENT
BEGIN:VEVENT
UID:yvfd@192.168.245.71:3006
SEQUENCE:0
DTSTAMP:20260421T184521Z
DTSTART:20260210T090000Z
DTEND:20260210T104000Z
SUMMARY:Физика
LOCATION:3 к. 211
END:VEVENT
BEGIN:VEVENT
UID:40ug@192.168.245.71:3006
SEQUENCE:0
DTSTAMP:20260421T184521Z
DTSTART:20260210T110000Z
DTEND:20260210T124000Z
SUMMARY:Инструментальные средства разработки технической документации
LOCATION:ГЗ 237
END:VEVENT
BEGIN:VEVENT
UID:djao@192.168.245.71:3006
SEQUENCE:0
DTSTAMP:20260421T184521Z
DTSTART:20260210T130000Z
DTEND:20260210T144000Z
SUMMARY:Инструментальные средства разработки технической документации
LOCATION:3 к. 217
END:VEVENT
BEGIN:VEVENT
UID:j2i5@192.168.245.71:3006
SEQUENCE:0
DTSTAMP:20260421T184521Z
DTSTART:20260210T150000Z
DTEND:20260210T154500Z
SUMMARY:Экономическая культура
LOCATION:3 к. 501
END:VEVENT
BEGIN:VEVENT
UID:h3g0@192.168.245.71:3006
SEQUENCE:0
DTSTAMP:20260421T184521Z
DTSTART:20260211T050000Z
DTEND:20260211T064000Z
SUMMARY:Элективная физическая культура и спорт
LOCATION:СК Секции
END:VEVENT
BEGIN:VEVENT
UID:fak0@192.168.245.71:3006
SEQUENCE:0
DTSTAMP:20260421T184521Z
DTSTART:20260211T070000Z
DTEND:20260211T084000Z
SUMMARY:История России
LOCATION:3 к. 501
END:VEVENT
BEGIN:VEVENT
UID:l6n3@192.168.245.71:3006
SEQUENCE:0
DTSTAMP:20260421T184521Z
DTSTART:20260211T090000Z
DTEND:20260211T104000Z
SUMMARY:Технологии программирования
LOCATION:3 к. 105
END:VEVENT
BEGIN:VEVENT
UID:ykkg@192.168.245.71:3006
SEQUENCE:0
DTSTAMP:20260421T184521Z
DTSTART:20260211T110000Z
DTEND:20260211T124000Z
SUMMARY:Практикум по программированию
LOCATION:3 к. 105
END:VEVENT
BEGIN:VEVENT
UID:xyfc@192.168.245.71:3006
SEQUENCE:0
DTSTAMP:20260421T184521Z
DTSTART:20260211T150000Z
DTEND:20260211T153000Z
SUMMARY:Основы российской государственности
LOCATION:3 к. 501
END:VEVENT
BEGIN:VEVENT
UID:riej@192.168.245.71:3006
SEQUENCE:0
DTSTAMP:20260421T184521Z
DTSTART:20260212T050000Z
DTEND:20260212T064000Z
SUMMARY:Иностранный язык: Русский язык как иностранный
LOCATION:Не опр. Нет
END:VEVENT
BEGIN:VEVENT
UID:bhng@192.168.245.71:3006
SEQUENCE:0
DTSTAMP:20260421T184521Z
DTSTART:20260212T070000Z
DTEND:20260212T084000Z
SUMMARY:Высшая математика
LOCATION:11 к. 326
END:VEVENT
BEGIN:VEVENT
UID:ddlb@192.168.245.71:3006
SEQUENCE:0
DTSTAMP:20260421T184521Z
DTSTART:20260212T110000Z
DTEND:20260212T140000Z
SUMMARY:Высшая математика
LOCATION:3 к. 215
END:VEVENT
BEGIN:VEVENT
UID:ab0d@192.168.245.71:3006
SEQUENCE:0
DTSTAMP:20260421T184521Z
DTSTART:20260213T050000Z
DTEND:20260213T064000Z
SUMMARY:Иностранный язык: Русский язык как иностранный
LOCATION:3 к. 501
END:VEVENT
BEGIN:VEVENT
UID:48t4@192.168.245.71:3006
SEQUENCE:0
DTSTAMP:20260421T184521Z
DTSTART:20260213T070000Z
DTEND:20260213T084000Z
SUMMARY:История России
LOCATION:ГЗ 235
END:VEVENT
BEGIN:VEVENT
UID:jv1i@192.168.245.71:3006
SEQUENCE:0
DTSTAMP:20260421T184521Z
DTSTART:20260213T090000Z
DTEND:20260213T104000Z
SUMMARY:Иностранный язык: Базовый курс
LOCATION:3 к. 208
END:VEVENT
BEGIN:VEVENT
UID:qugv@192.168.245.71:3006
SEQUENCE:0
DTSTAMP:20260421T184521Z
DTSTART:20260213T110000Z
DTEND:20260213T124000Z
SUMMARY:Системное программное обеспечение GNU/Linux
LOCATION:3 к. 202
END:VEVENT
BEGIN:VEVENT
UID:tzrn@192.168.245.71:3006
SEQUENCE:0
DTSTAMP:20260421T184521Z
DTSTART:20260213T130000Z
DTEND:20260213T144000Z
SUMMARY:Физика
LOCATION:ГЗ 186 А
END:VEVENT
BEGIN:VEVENT
UID:9or4@192.168.245.71:3006
SEQUENCE:0
DTSTAMP:20260421T184521Z
DTSTART:20260213T130000Z
DTEND:20260213T144000Z
SUMMARY:Физика
LOCATION:ГЗ 186 А
END:VEVENT
BEGIN:VEVENT
UID:ah2n@192.168.245.71:3006
SEQUENCE:0
DTSTAMP:20260421T184521Z
DTSTART:20260213T130000Z
DTEND:20260213T144000Z
SUMMARY:Физика
LOCATION:ГЗ 186 А
END:VEVENT
BEGIN:VEVENT
UID:eqmi@192.168.245.71:3006
SEQUENCE:0
DTSTAMP:20260421T184521Z
DTSTART:20260213T150000Z
DTEND:20260213T164000Z
SUMMARY:Философия
LOCATION:3 к. 215
END:VEVENT
BEGIN:VEVENT
UID:hdmk@192.168.245.71:3006
SEQUENCE:0
DTSTAMP:20260421T184521Z
DTSTART:20260214T070000Z
DTEND:20260214T084000Z
SUMMARY:Элективная физическая культура и спорт
LOCATION:СК Секции
END:VEVENT
BEGIN:VEVENT
UID:zhag@192.168.245.71:3006
SEQUENCE:0
DTSTAMP:20260421T184521Z
DTSTART:20260214T090000Z
DTEND:20260214T104000Z
SUMMARY:Структуры данных
LOCATION:3 к. 105
END:VEVENT
BEGIN:VEVENT
UID:36kd@192.168.245.71:3006
SEQUENCE:0
DTSTAMP:20260421T184521Z
DTSTART:20260214T110000Z
DTEND:20260214T124000Z
SUMMARY:Системное программное обеспечение GNU/Linux
LOCATION:ГЗ 237
END:VEVENT
BEGIN:VEVENT
UID:i1sa@192.168.245.71:3006
SEQUENCE:0
DTSTAMP:20260421T184521Z
DTSTART:20260214T130000Z
DTEND:20260214T144000Z
SUMMARY:Системное программное обеспечение GNU/Linux
LOCATION:ГЗ 237
END:VEVENT
BEGIN:VEVENT
UID:m9ya@192.168.245.71:3006
SEQUENCE:0
DTSTAMP:20260421T184521Z
DTSTART:20260214T150000Z
DTEND:20260214T164000Z
SUMMARY:Основы цифровых технологий
LOCATION:3 к. 102
END:VEVENT
END:VCALENDAR