BEGIN:VCALENDAR
VERSION:2.0
PRODID:-//spbstu.ru//ical//RU
NAME:Расписание группы 5130904/50005
X-WR-CALNAME:Расписание группы 5130904/50005
TIMEZONE-ID:Europe/Moscow
X-WR-TIMEZONE:Europe/Moscow
BEGIN:VEVENT
UID:hvan@192.168.245.71:3006
SEQUENCE:0
DTSTAMP:20260424T021458Z
DTSTART:20251117T070000Z
DTEND:20251117T084000Z
SUMMARY:Экономическая культура
LOCATION:3 к. 209
END:VEVENT
BEGIN:VEVENT
UID:ci3p@192.168.245.71:3006
SEQUENCE:0
DTSTAMP:20260424T021458Z
DTSTART:20251117T110000Z
DTEND:20251117T124000Z
SUMMARY:Алгоритмизация и программирование
LOCATION:DL Дистанционно
END:VEVENT
BEGIN:VEVENT
UID:63e1@192.168.245.71:3006
SEQUENCE:0
DTSTAMP:20260424T021458Z
DTSTART:20251118T060000Z
DTEND:20251118T084000Z
SUMMARY:Физика
LOCATION:3 к. 201
END:VEVENT
BEGIN:VEVENT
UID:d9sj@192.168.245.71:3006
SEQUENCE:0
DTSTAMP:20260424T021458Z
DTSTART:20251118T090000Z
DTEND:20251118T104000Z
SUMMARY:Физика
LOCATION:11 к. 321
END:VEVENT
BEGIN:VEVENT
UID:fj7b@192.168.245.71:3006
SEQUENCE:0
DTSTAMP:20260424T021458Z
DTSTART:20251118T110000Z
DTEND:20251118T124000Z
SUMMARY:Иностранный язык: Базовый курс
LOCATION:3 к. 210
END:VEVENT
BEGIN:VEVENT
UID:ekpv@192.168.245.71:3006
SEQUENCE:0
DTSTAMP:20260424T021458Z
DTSTART:20251119T050000Z
DTEND:20251119T064000Z
SUMMARY:Элективная физическая культура и спорт
LOCATION:СК Секции
END:VEVENT
BEGIN:VEVENT
UID:5j1u@192.168.245.71:3006
SEQUENCE:0
DTSTAMP:20260424T021458Z
DTSTART:20251119T070000Z
DTEND:20251119T084000Z
SUMMARY:Практикум по программированию
LOCATION:3 к. 102
END:VEVENT
BEGIN:VEVENT
UID:h3k4@192.168.245.71:3006
SEQUENCE:0
DTSTAMP:20260424T021458Z
DTSTART:20251119T090000Z
DTEND:20251119T104000Z
SUMMARY:Практикум по программированию
LOCATION:3 к. 102
END:VEVENT
BEGIN:VEVENT
UID:zqrv@192.168.245.71:3006
SEQUENCE:0
DTSTAMP:20260424T021458Z
DTSTART:20251119T110000Z
DTEND:20251119T124000Z
SUMMARY:Системное программное обеспечение GNU/Linux
LOCATION:3 к. 202
END:VEVENT
BEGIN:VEVENT
UID:x6ht@192.168.245.71:3006
SEQUENCE:0
DTSTAMP:20260424T021458Z
DTSTART:20251120T070000Z
DTEND:20251120T084000Z
SUMMARY:Высшая математика
LOCATION:11 к. 326
END:VEVENT
BEGIN:VEVENT
UID:2nw3@192.168.245.71:3006
SEQUENCE:0
DTSTAMP:20260424T021458Z
DTSTART:20251120T090000Z
DTEND:20251120T104000Z
SUMMARY:Алгоритмизация и программирование
LOCATION:3 к. 102
END:VEVENT
BEGIN:VEVENT
UID:9ux8@192.168.245.71:3006
SEQUENCE:0
DTSTAMP:20260424T021458Z
DTSTART:20251120T090000Z
DTEND:20251120T104000Z
SUMMARY:Алгоритмизация и программирование
LOCATION:3 к. 103
END:VEVENT
BEGIN:VEVENT
UID:2lqe@192.168.245.71:3006
SEQUENCE:0
DTSTAMP:20260424T021458Z
DTSTART:20251120T110000Z
DTEND:20251120T140000Z
SUMMARY:Высшая математика
LOCATION:3 к. 215
END:VEVENT
BEGIN:VEVENT
UID:f7og@192.168.245.71:3006
SEQUENCE:0
DTSTAMP:20260424T021458Z
DTSTART:20251121T050000Z
DTEND:20251121T064000Z
SUMMARY:Иностранный язык: Русский язык как иностранный
LOCATION:3 к. 501
END:VEVENT
BEGIN:VEVENT
UID:1oln@192.168.245.71:3006
SEQUENCE:0
DTSTAMP:20260424T021458Z
DTSTART:20251121T070000Z
DTEND:20251121T084000Z
SUMMARY:Основы российской государственности
LOCATION:ГЗ 237
END:VEVENT
BEGIN:VEVENT
UID:fmmm@192.168.245.71:3006
SEQUENCE:0
DTSTAMP:20260424T021458Z
DTSTART:20251121T090000Z
DTEND:20251121T104000Z
SUMMARY:Основы цифровых технологий
LOCATION:3 к. 105
END:VEVENT
BEGIN:VEVENT
UID:juxn@192.168.245.71:3006
SEQUENCE:0
DTSTAMP:20260424T021458Z
DTSTART:20251121T110000Z
DTEND:20251121T124000Z
SUMMARY:Введение в профессиональную деятельность
LOCATION:3 к. 205
END:VEVENT
BEGIN:VEVENT
UID:5slg@192.168.245.71:3006
SEQUENCE:0
DTSTAMP:20260424T021458Z
DTSTART:20251121T130000Z
DTEND:20251121T144000Z
SUMMARY:Физика
LOCATION:ГЗ 155
END:VEVENT
BEGIN:VEVENT
UID:6rer@192.168.245.71:3006
SEQUENCE:0
DTSTAMP:20260424T021458Z
DTSTART:20251121T130000Z
DTEND:20251121T144000Z
SUMMARY:Физика
LOCATION:ГЗ 155
END:VEVENT
BEGIN:VEVENT
UID:t4ac@192.168.245.71:3006
SEQUENCE:0
DTSTAMP:20260424T021458Z
DTSTART:20251121T130000Z
DTEND:20251121T144000Z
SUMMARY:Физика
LOCATION:ГЗ 155
END:VEVENT
BEGIN:VEVENT
UID:84ua@192.168.245.71:3006
SEQUENCE:0
DTSTAMP:20260424T021458Z
DTSTART:20251122T070000Z
DTEND:20251122T084000Z
SUMMARY:Элективная физическая культура и спорт
LOCATION:СК Секции
END:VEVENT
BEGIN:VEVENT
UID:1rp0@192.168.245.71:3006
SEQUENCE:0
DTSTAMP:20260424T021458Z
DTSTART:20251122T090000Z
DTEND:20251122T104000Z
SUMMARY:Основы российской государственности
LOCATION:3 к. 501
END:VEVENT
BEGIN:VEVENT
UID:vj27@192.168.245.71:3006
SEQUENCE:0
DTSTAMP:20260424T021458Z
DTSTART:20251122T110000Z
DTEND:20251122T124000Z
SUMMARY:Иностранный язык: Русский язык как иностранный
LOCATION:3 к. 211
END:VEVENT
END:VCALENDAR