BEGIN:VCALENDAR
VERSION:2.0
PRODID:-//spbstu.ru//ical//RU
NAME:Расписание группы 5130904/50006
X-WR-CALNAME:Расписание группы 5130904/50006
TIMEZONE-ID:Europe/Moscow
X-WR-TIMEZONE:Europe/Moscow
BEGIN:VEVENT
UID:pf21@192.168.245.71:3006
SEQUENCE:0
DTSTAMP:20260423T044350Z
DTSTART:20251201T110000Z
DTEND:20251201T124000Z
SUMMARY:Алгоритмизация и программирование
LOCATION:DL Дистанционно
END:VEVENT
BEGIN:VEVENT
UID:zg8w@192.168.245.71:3006
SEQUENCE:0
DTSTAMP:20260423T044350Z
DTSTART:20251201T130000Z
DTEND:20251201T144000Z
SUMMARY:Введение в профессиональную деятельность
LOCATION:DL Дистанционно
END:VEVENT
BEGIN:VEVENT
UID:ngs5@192.168.245.71:3006
SEQUENCE:0
DTSTAMP:20260423T044350Z
DTSTART:20251202T060000Z
DTEND:20251202T084000Z
SUMMARY:Физика
LOCATION:3 к. 201
END:VEVENT
BEGIN:VEVENT
UID:2l6o@192.168.245.71:3006
SEQUENCE:0
DTSTAMP:20260423T044350Z
DTSTART:20251202T090000Z
DTEND:20251202T104000Z
SUMMARY:Алгоритмизация и программирование
LOCATION:3 к. 216
END:VEVENT
BEGIN:VEVENT
UID:zzny@192.168.245.71:3006
SEQUENCE:0
DTSTAMP:20260423T044350Z
DTSTART:20251202T090000Z
DTEND:20251202T104000Z
SUMMARY:Алгоритмизация и программирование
LOCATION:3 к. 216
END:VEVENT
BEGIN:VEVENT
UID:a2xq@192.168.245.71:3006
SEQUENCE:0
DTSTAMP:20260423T044350Z
DTSTART:20251202T110000Z
DTEND:20251202T124000Z
SUMMARY:Иностранный язык: Базовый курс
LOCATION:11 к. 323
END:VEVENT
BEGIN:VEVENT
UID:95b7@192.168.245.71:3006
SEQUENCE:0
DTSTAMP:20260423T044350Z
DTSTART:20251202T130000Z
DTEND:20251202T154000Z
SUMMARY:Высшая математика
LOCATION:11 к. 324
END:VEVENT
BEGIN:VEVENT
UID:1wj7@192.168.245.71:3006
SEQUENCE:0
DTSTAMP:20260423T044350Z
DTSTART:20251202T150000Z
DTEND:20251202T164000Z
SUMMARY:Факультатив по математике
LOCATION:ГЗ 235
END:VEVENT
BEGIN:VEVENT
UID:71dh@192.168.245.71:3006
SEQUENCE:0
DTSTAMP:20260423T044350Z
DTSTART:20251203T050000Z
DTEND:20251203T064000Z
SUMMARY:Элективная физическая культура и спорт
LOCATION:СК Секции
END:VEVENT
BEGIN:VEVENT
UID:b0if@192.168.245.71:3006
SEQUENCE:0
DTSTAMP:20260423T044350Z
DTSTART:20251203T090000Z
DTEND:20251203T104000Z
SUMMARY:Введение в профессиональную деятельность
LOCATION:3 к. 205
END:VEVENT
BEGIN:VEVENT
UID:h0p0@192.168.245.71:3006
SEQUENCE:0
DTSTAMP:20260423T044350Z
DTSTART:20251203T110000Z
DTEND:20251203T124000Z
SUMMARY:Системное программное обеспечение GNU/Linux
LOCATION:3 к. 203
END:VEVENT
BEGIN:VEVENT
UID:lt98@192.168.245.71:3006
SEQUENCE:0
DTSTAMP:20260423T044350Z
DTSTART:20251203T140000Z
DTEND:20251203T164000Z
SUMMARY:Факультатив по физике
LOCATION:ГЗ 237
END:VEVENT
BEGIN:VEVENT
UID:o3h1@192.168.245.71:3006
SEQUENCE:0
DTSTAMP:20260423T044350Z
DTSTART:20251204T070000Z
DTEND:20251204T084000Z
SUMMARY:Физика
LOCATION:11 к. 321
END:VEVENT
BEGIN:VEVENT
UID:20n9@192.168.245.71:3006
SEQUENCE:0
DTSTAMP:20260423T044350Z
DTSTART:20251204T110000Z
DTEND:20251204T140000Z
SUMMARY:Высшая математика
LOCATION:3 к. 215
END:VEVENT
BEGIN:VEVENT
UID:b1ev@192.168.245.71:3006
SEQUENCE:0
DTSTAMP:20260423T044350Z
DTSTART:20251205T050000Z
DTEND:20251205T064000Z
SUMMARY:Иностранный язык: Русский язык как иностранный
LOCATION:3 к. 501
END:VEVENT
BEGIN:VEVENT
UID:9cny@192.168.245.71:3006
SEQUENCE:0
DTSTAMP:20260423T044350Z
DTSTART:20251205T070000Z
DTEND:20251205T084000Z
SUMMARY:Основы российской государственности
LOCATION:ГЗ 237
END:VEVENT
BEGIN:VEVENT
UID:s6h5@192.168.245.71:3006
SEQUENCE:0
DTSTAMP:20260423T044350Z
DTSTART:20251205T090000Z
DTEND:20251205T104000Z
SUMMARY:Алгоритмизация и программирование
LOCATION:3 к. 217
END:VEVENT
BEGIN:VEVENT
UID:ggl5@192.168.245.71:3006
SEQUENCE:0
DTSTAMP:20260423T044350Z
DTSTART:20251205T090000Z
DTEND:20251205T104000Z
SUMMARY:Алгоритмизация и программирование
LOCATION:3 к. 217
END:VEVENT
BEGIN:VEVENT
UID:6asb@192.168.245.71:3006
SEQUENCE:0
DTSTAMP:20260423T044350Z
DTSTART:20251205T110000Z
DTEND:20251205T124000Z
SUMMARY:Основы цифровых технологий
LOCATION:3 к. 217
END:VEVENT
BEGIN:VEVENT
UID:ogjm@192.168.245.71:3006
SEQUENCE:0
DTSTAMP:20260423T044350Z
DTSTART:20251206T070000Z
DTEND:20251206T084000Z
SUMMARY:Элективная физическая культура и спорт
LOCATION:СК Секции
END:VEVENT
BEGIN:VEVENT
UID:8l29@192.168.245.71:3006
SEQUENCE:0
DTSTAMP:20260423T044350Z
DTSTART:20251206T090000Z
DTEND:20251206T104000Z
SUMMARY:Основы российской государственности
LOCATION:3 к. 501
END:VEVENT
BEGIN:VEVENT
UID:nclm@192.168.245.71:3006
SEQUENCE:0
DTSTAMP:20260423T044350Z
DTSTART:20251206T110000Z
DTEND:20251206T124000Z
SUMMARY:Иностранный язык: Русский язык как иностранный
LOCATION:3 к. 211
END:VEVENT
END:VCALENDAR