BEGIN:VCALENDAR
VERSION:2.0
PRODID:-//spbstu.ru//ical//RU
NAME:Расписание группы 5130904/50006
X-WR-CALNAME:Расписание группы 5130904/50006
TIMEZONE-ID:Europe/Moscow
X-WR-TIMEZONE:Europe/Moscow
BEGIN:VEVENT
UID:hhf5@192.168.245.71:3006
SEQUENCE:0
DTSTAMP:20260423T000027Z
DTSTART:20251208T110000Z
DTEND:20251208T124000Z
SUMMARY:Алгоритмизация и программирование
LOCATION:DL Дистанционно
END:VEVENT
BEGIN:VEVENT
UID:imif@192.168.245.71:3006
SEQUENCE:0
DTSTAMP:20260423T000027Z
DTSTART:20251208T130000Z
DTEND:20251208T144000Z
SUMMARY:Введение в профессиональную деятельность
LOCATION:DL Дистанционно
END:VEVENT
BEGIN:VEVENT
UID:xqaj@192.168.245.71:3006
SEQUENCE:0
DTSTAMP:20260423T000027Z
DTSTART:20251209T060000Z
DTEND:20251209T084000Z
SUMMARY:Физика
LOCATION:3 к. 201
END:VEVENT
BEGIN:VEVENT
UID:1l50@192.168.245.71:3006
SEQUENCE:0
DTSTAMP:20260423T000027Z
DTSTART:20251209T090000Z
DTEND:20251209T104000Z
SUMMARY:Алгоритмизация и программирование
LOCATION:3 к. 216
END:VEVENT
BEGIN:VEVENT
UID:s78w@192.168.245.71:3006
SEQUENCE:0
DTSTAMP:20260423T000027Z
DTSTART:20251209T090000Z
DTEND:20251209T104000Z
SUMMARY:Алгоритмизация и программирование
LOCATION:3 к. 216
END:VEVENT
BEGIN:VEVENT
UID:9rid@192.168.245.71:3006
SEQUENCE:0
DTSTAMP:20260423T000027Z
DTSTART:20251209T110000Z
DTEND:20251209T124000Z
SUMMARY:Иностранный язык: Базовый курс
LOCATION:11 к. 323
END:VEVENT
BEGIN:VEVENT
UID:b8vc@192.168.245.71:3006
SEQUENCE:0
DTSTAMP:20260423T000027Z
DTSTART:20251209T130000Z
DTEND:20251209T154000Z
SUMMARY:Высшая математика
LOCATION:11 к. 324
END:VEVENT
BEGIN:VEVENT
UID:fpj2@192.168.245.71:3006
SEQUENCE:0
DTSTAMP:20260423T000027Z
DTSTART:20251209T150000Z
DTEND:20251209T164000Z
SUMMARY:Факультатив по математике
LOCATION:ГЗ 235
END:VEVENT
BEGIN:VEVENT
UID:m27g@192.168.245.71:3006
SEQUENCE:0
DTSTAMP:20260423T000027Z
DTSTART:20251210T050000Z
DTEND:20251210T064000Z
SUMMARY:Элективная физическая культура и спорт
LOCATION:СК Секции
END:VEVENT
BEGIN:VEVENT
UID:ysgj@192.168.245.71:3006
SEQUENCE:0
DTSTAMP:20260423T000027Z
DTSTART:20251210T140000Z
DTEND:20251210T164000Z
SUMMARY:Факультатив по физике
LOCATION:ГЗ 237
END:VEVENT
BEGIN:VEVENT
UID:785u@192.168.245.71:3006
SEQUENCE:0
DTSTAMP:20260423T000027Z
DTSTART:20251211T070000Z
DTEND:20251211T084000Z
SUMMARY:Физика
LOCATION:11 к. 321
END:VEVENT
BEGIN:VEVENT
UID:73mt@192.168.245.71:3006
SEQUENCE:0
DTSTAMP:20260423T000027Z
DTSTART:20251211T110000Z
DTEND:20251211T140000Z
SUMMARY:Высшая математика
LOCATION:3 к. 215
END:VEVENT
BEGIN:VEVENT
UID:4shl@192.168.245.71:3006
SEQUENCE:0
DTSTAMP:20260423T000027Z
DTSTART:20251212T050000Z
DTEND:20251212T064000Z
SUMMARY:Иностранный язык: Русский язык как иностранный
LOCATION:3 к. 501
END:VEVENT
BEGIN:VEVENT
UID:yft2@192.168.245.71:3006
SEQUENCE:0
DTSTAMP:20260423T000027Z
DTSTART:20251212T090000Z
DTEND:20251212T095000Z
SUMMARY:Алгоритмизация и программирование
LOCATION:3 к. 217
END:VEVENT
BEGIN:VEVENT
UID:mb5e@192.168.245.71:3006
SEQUENCE:0
DTSTAMP:20260423T000027Z
DTSTART:20251212T090000Z
DTEND:20251212T095000Z
SUMMARY:Алгоритмизация и программирование
LOCATION:3 к. 217
END:VEVENT
BEGIN:VEVENT
UID:519c@192.168.245.71:3006
SEQUENCE:0
DTSTAMP:20260423T000027Z
DTSTART:20251212T110000Z
DTEND:20251212T124000Z
SUMMARY:Основы цифровых технологий
LOCATION:3 к. 217
END:VEVENT
BEGIN:VEVENT
UID:ld1q@192.168.245.71:3006
SEQUENCE:0
DTSTAMP:20260423T000027Z
DTSTART:20251213T090000Z
DTEND:20251213T104000Z
SUMMARY:Основы российской государственности
LOCATION:3 к. 501
END:VEVENT
BEGIN:VEVENT
UID:7wv1@192.168.245.71:3006
SEQUENCE:0
DTSTAMP:20260423T000027Z
DTSTART:20251213T110000Z
DTEND:20251213T124000Z
SUMMARY:Иностранный язык: Русский язык как иностранный
LOCATION:3 к. 211
END:VEVENT
END:VCALENDAR