BEGIN:VCALENDAR
VERSION:2.0
PRODID:-//spbstu.ru//ical//RU
NAME:Расписание группы 5130904/50006
X-WR-CALNAME:Расписание группы 5130904/50006
TIMEZONE-ID:Europe/Moscow
X-WR-TIMEZONE:Europe/Moscow
BEGIN:VEVENT
UID:19s1@192.168.245.71:3006
SEQUENCE:0
DTSTAMP:20260421T052358Z
DTSTART:20260518T050000Z
DTEND:20260518T064000Z
SUMMARY:Структуры данных
LOCATION:3 к. 105
END:VEVENT
BEGIN:VEVENT
UID:7ggr@192.168.245.71:3006
SEQUENCE:0
DTSTAMP:20260421T052358Z
DTSTART:20260518T070000Z
DTEND:20260518T084000Z
SUMMARY:Структуры данных
LOCATION:3 к. 203
END:VEVENT
BEGIN:VEVENT
UID:1kkq@192.168.245.71:3006
SEQUENCE:0
DTSTAMP:20260421T052358Z
DTSTART:20260518T090000Z
DTEND:20260518T104000Z
SUMMARY:Высшая математика
LOCATION:3 к. 204
END:VEVENT
BEGIN:VEVENT
UID:hs70@192.168.245.71:3006
SEQUENCE:0
DTSTAMP:20260421T052358Z
DTSTART:20260518T120000Z
DTEND:20260518T134000Z
SUMMARY:Структуры данных
LOCATION:DL Дистанционно
END:VEVENT
BEGIN:VEVENT
UID:dk9g@192.168.245.71:3006
SEQUENCE:0
DTSTAMP:20260421T052358Z
DTSTART:20260519T110000Z
DTEND:20260519T124000Z
SUMMARY:Инструментальные средства разработки технической документации
LOCATION:ГЗ 237
END:VEVENT
BEGIN:VEVENT
UID:ar1n@192.168.245.71:3006
SEQUENCE:0
DTSTAMP:20260421T052358Z
DTSTART:20260520T130000Z
DTEND:20260520T144000Z
SUMMARY:Системное программное обеспечение GNU/Linux
LOCATION:3 к. 203
END:VEVENT
BEGIN:VEVENT
UID:8u5k@192.168.245.71:3006
SEQUENCE:0
DTSTAMP:20260421T052358Z
DTSTART:20260522T050000Z
DTEND:20260522T064000Z
SUMMARY:Иностранный язык: Русский язык как иностранный
LOCATION:3 к. 501
END:VEVENT
BEGIN:VEVENT
UID:sumx@192.168.245.71:3006
SEQUENCE:0
DTSTAMP:20260421T052358Z
DTSTART:20260522T070000Z
DTEND:20260522T084000Z
SUMMARY:История России
LOCATION:ГЗ 235
END:VEVENT
BEGIN:VEVENT
UID:6c3r@192.168.245.71:3006
SEQUENCE:0
DTSTAMP:20260421T052358Z
DTSTART:20260522T090000Z
DTEND:20260522T104000Z
SUMMARY:Высшая математика
LOCATION:3 к. 204
END:VEVENT
BEGIN:VEVENT
UID:6eeh@192.168.245.71:3006
SEQUENCE:0
DTSTAMP:20260421T052358Z
DTSTART:20260522T110000Z
DTEND:20260522T124000Z
SUMMARY:Иностранный язык: Базовый курс
LOCATION:3 к. 208
END:VEVENT
BEGIN:VEVENT
UID:chnn@192.168.245.71:3006
SEQUENCE:0
DTSTAMP:20260421T052358Z
DTSTART:20260523T090000Z
DTEND:20260523T104000Z
SUMMARY:История России
LOCATION:3 к. 501
END:VEVENT
BEGIN:VEVENT
UID:y2fq@192.168.245.71:3006
SEQUENCE:0
DTSTAMP:20260421T052358Z
DTSTART:20260523T130000Z
DTEND:20260523T144000Z
SUMMARY:Иностранный язык: Русский язык как иностранный
LOCATION:3 к. 503
END:VEVENT
END:VCALENDAR