BEGIN:VCALENDAR
VERSION:2.0
PRODID:-//spbstu.ru//ical//RU
NAME:Расписание группы 5130904/50401
X-WR-CALNAME:Расписание группы 5130904/50401
TIMEZONE-ID:Europe/Moscow
X-WR-TIMEZONE:Europe/Moscow
BEGIN:VEVENT
UID:m5fb@192.168.245.71:3006
SEQUENCE:0
DTSTAMP:20260426T003611Z
DTSTART:20251006T070000Z
DTEND:20251006T084000Z
SUMMARY:Инструменты программной инженерии
LOCATION:11 к. 143
END:VEVENT
BEGIN:VEVENT
UID:dmp0@192.168.245.71:3006
SEQUENCE:0
DTSTAMP:20260426T003611Z
DTSTART:20251006T090000Z
DTEND:20251006T104000Z
SUMMARY:Экономическая культура
LOCATION:3 к. 511
END:VEVENT
BEGIN:VEVENT
UID:mln9@192.168.245.71:3006
SEQUENCE:0
DTSTAMP:20260426T003611Z
DTSTART:20251006T110000Z
DTEND:20251006T124000Z
SUMMARY:Алгоритмизация и программирование
LOCATION:3 к. 215
END:VEVENT
BEGIN:VEVENT
UID:189p@192.168.245.71:3006
SEQUENCE:0
DTSTAMP:20260426T003611Z
DTSTART:20251006T130000Z
DTEND:20251006T144000Z
SUMMARY:Алгоритмизация и программирование
LOCATION:3 к. 202
END:VEVENT
BEGIN:VEVENT
UID:6kyj@192.168.245.71:3006
SEQUENCE:0
DTSTAMP:20260426T003611Z
DTSTART:20251006T130000Z
DTEND:20251006T144000Z
SUMMARY:Алгоритмизация и программирование
LOCATION:3 к. 202
END:VEVENT
BEGIN:VEVENT
UID:vkic@192.168.245.71:3006
SEQUENCE:0
DTSTAMP:20260426T003611Z
DTSTART:20251007T070000Z
DTEND:20251007T084000Z
SUMMARY:Системное программное обеспечение GNU/Linux
LOCATION:3 к. 111
END:VEVENT
BEGIN:VEVENT
UID:22vi@192.168.245.71:3006
SEQUENCE:0
DTSTAMP:20260426T003611Z
DTSTART:20251007T090000Z
DTEND:20251007T104000Z
SUMMARY:Физика
LOCATION:ГЗ 184
END:VEVENT
BEGIN:VEVENT
UID:vdm1@192.168.245.71:3006
SEQUENCE:0
DTSTAMP:20260426T003611Z
DTSTART:20251008T050000Z
DTEND:20251008T064000Z
SUMMARY:Элективная физическая культура и спорт
LOCATION:СК Секции
END:VEVENT
BEGIN:VEVENT
UID:zpwq@192.168.245.71:3006
SEQUENCE:0
DTSTAMP:20260426T003611Z
DTSTART:20251008T070000Z
DTEND:20251008T084000Z
SUMMARY:Физика
LOCATION:ГЗ 237
END:VEVENT
BEGIN:VEVENT
UID:ri6w@192.168.245.71:3006
SEQUENCE:0
DTSTAMP:20260426T003611Z
DTSTART:20251008T090000Z
DTEND:20251008T104000Z
SUMMARY:Высшая математика
LOCATION:11 к. 319
END:VEVENT
BEGIN:VEVENT
UID:9kg3@192.168.245.71:3006
SEQUENCE:0
DTSTAMP:20260426T003611Z
DTSTART:20251008T110000Z
DTEND:20251008T124000Z
SUMMARY:Основы российской государственности
LOCATION:11 к. 319
END:VEVENT
BEGIN:VEVENT
UID:hkjc@192.168.245.71:3006
SEQUENCE:0
DTSTAMP:20260426T003611Z
DTSTART:20251008T130000Z
DTEND:20251008T144000Z
SUMMARY:Введение в профессиональную деятельность
LOCATION:ГЗ 257
END:VEVENT
BEGIN:VEVENT
UID:j7v7@192.168.245.71:3006
SEQUENCE:0
DTSTAMP:20260426T003611Z
DTSTART:20251008T140000Z
DTEND:20251008T154000Z
SUMMARY:Факультатив по физике
LOCATION:ГЗ 237
END:VEVENT
BEGIN:VEVENT
UID:2fbx@192.168.245.71:3006
SEQUENCE:0
DTSTAMP:20260426T003611Z
DTSTART:20251009T070000Z
DTEND:20251009T084000Z
SUMMARY:Языки моделирования и описания цифровой аппаратуры
LOCATION:3 к. 103
END:VEVENT
BEGIN:VEVENT
UID:fnqs@192.168.245.71:3006
SEQUENCE:0
DTSTAMP:20260426T003611Z
DTSTART:20251009T070000Z
DTEND:20251009T084000Z
SUMMARY:Языки моделирования и описания цифровой аппаратуры
LOCATION:3 к. 103
END:VEVENT
BEGIN:VEVENT
UID:g7nz@192.168.245.71:3006
SEQUENCE:0
DTSTAMP:20260426T003611Z
DTSTART:20251009T090000Z
DTEND:20251009T104000Z
SUMMARY:Высшая математика
LOCATION:11 к. 319
END:VEVENT
BEGIN:VEVENT
UID:btov@192.168.245.71:3006
SEQUENCE:0
DTSTAMP:20260426T003611Z
DTSTART:20251009T110000Z
DTEND:20251009T124000Z
SUMMARY:Высшая математика
LOCATION:11 к. 319
END:VEVENT
BEGIN:VEVENT
UID:35to@192.168.245.71:3006
SEQUENCE:0
DTSTAMP:20260426T003611Z
DTSTART:20251009T130000Z
DTEND:20251009T144000Z
SUMMARY:Языки моделирования и описания цифровой аппаратуры
LOCATION:ГЗ 237
END:VEVENT
BEGIN:VEVENT
UID:q0u3@192.168.245.71:3006
SEQUENCE:0
DTSTAMP:20260426T003611Z
DTSTART:20251010T070000Z
DTEND:20251010T084000Z
SUMMARY:Основы российской государственности
LOCATION:ГЗ 237
END:VEVENT
BEGIN:VEVENT
UID:qvx6@192.168.245.71:3006
SEQUENCE:0
DTSTAMP:20260426T003611Z
DTSTART:20251010T110000Z
DTEND:20251010T124000Z
SUMMARY:Иностранный язык: Базовый курс
LOCATION:11 к. 328
END:VEVENT
BEGIN:VEVENT
UID:8gkt@192.168.245.71:3006
SEQUENCE:0
DTSTAMP:20260426T003611Z
DTSTART:20251011T070000Z
DTEND:20251011T084000Z
SUMMARY:Элективная физическая культура и спорт
LOCATION:СК Секции
END:VEVENT
BEGIN:VEVENT
UID:dh80@192.168.245.71:3006
SEQUENCE:0
DTSTAMP:20260426T003611Z
DTSTART:20251011T090000Z
DTEND:20251011T104000Z
SUMMARY:Алгоритмизация и программирование
LOCATION:3 к. 105
END:VEVENT
BEGIN:VEVENT
UID:acos@192.168.245.71:3006
SEQUENCE:0
DTSTAMP:20260426T003611Z
DTSTART:20251011T090000Z
DTEND:20251011T104000Z
SUMMARY:Алгоритмизация и программирование
LOCATION:3 к. 105
END:VEVENT
END:VCALENDAR