BEGIN:VCALENDAR
VERSION:2.0
PRODID:-//spbstu.ru//ical//RU
NAME:Расписание группы 5130904/50401
X-WR-CALNAME:Расписание группы 5130904/50401
TIMEZONE-ID:Europe/Moscow
X-WR-TIMEZONE:Europe/Moscow
BEGIN:VEVENT
UID:krvp@192.168.245.71:3006
SEQUENCE:0
DTSTAMP:20260421T084939Z
DTSTART:20260330T070000Z
DTEND:20260330T084000Z
SUMMARY:История России
LOCATION:3 к. 209
END:VEVENT
BEGIN:VEVENT
UID:kvhl@192.168.245.71:3006
SEQUENCE:0
DTSTAMP:20260421T084939Z
DTSTART:20260330T090000Z
DTEND:20260330T104000Z
SUMMARY:Иностранный язык: Базовый курс
LOCATION:3 к. 209
END:VEVENT
BEGIN:VEVENT
UID:quz4@192.168.245.71:3006
SEQUENCE:0
DTSTAMP:20260421T084939Z
DTSTART:20260330T110000Z
DTEND:20260330T124000Z
SUMMARY:Структуры данных
LOCATION:3 к. 201
END:VEVENT
BEGIN:VEVENT
UID:t7tf@192.168.245.71:3006
SEQUENCE:0
DTSTAMP:20260421T084939Z
DTSTART:20260330T130000Z
DTEND:20260330T144000Z
SUMMARY:Структуры данных
LOCATION:3 к. 103
END:VEVENT
BEGIN:VEVENT
UID:ah9k@192.168.245.71:3006
SEQUENCE:0
DTSTAMP:20260421T084939Z
DTSTART:20260331T050000Z
DTEND:20260331T064000Z
SUMMARY:Структуры данных
LOCATION:3 к. 102
END:VEVENT
BEGIN:VEVENT
UID:ck7c@192.168.245.71:3006
SEQUENCE:0
DTSTAMP:20260421T084939Z
DTSTART:20260331T070000Z
DTEND:20260331T084000Z
SUMMARY:Структуры данных
LOCATION:3 к. 102
END:VEVENT
BEGIN:VEVENT
UID:y2af@192.168.245.71:3006
SEQUENCE:0
DTSTAMP:20260421T084939Z
DTSTART:20260331T090000Z
DTEND:20260331T104000Z
SUMMARY:Высшая математика
LOCATION:3 к. 204
END:VEVENT
BEGIN:VEVENT
UID:ypu8@192.168.245.71:3006
SEQUENCE:0
DTSTAMP:20260421T084939Z
DTSTART:20260331T110000Z
DTEND:20260331T140000Z
SUMMARY:Высшая математика
LOCATION:3 к. 215
END:VEVENT
BEGIN:VEVENT
UID:7kb3@192.168.245.71:3006
SEQUENCE:0
DTSTAMP:20260421T084939Z
DTSTART:20260401T050000Z
DTEND:20260401T064000Z
SUMMARY:Элективная физическая культура и спорт
LOCATION:СК Секции
END:VEVENT
BEGIN:VEVENT
UID:o8nt@192.168.245.71:3006
SEQUENCE:0
DTSTAMP:20260421T084939Z
DTSTART:20260401T070000Z
DTEND:20260401T084000Z
SUMMARY:Физика
LOCATION:ГЗ 237
END:VEVENT
BEGIN:VEVENT
UID:zwto@192.168.245.71:3006
SEQUENCE:0
DTSTAMP:20260421T084939Z
DTSTART:20260401T090000Z
DTEND:20260401T104000Z
SUMMARY:Системное программное обеспечение GNU/Linux
LOCATION:3 к. 202
END:VEVENT
BEGIN:VEVENT
UID:ap1b@192.168.245.71:3006
SEQUENCE:0
DTSTAMP:20260421T084939Z
DTSTART:20260401T130000Z
DTEND:20260401T144000Z
SUMMARY:Языки моделирования и описания цифровой аппаратуры
LOCATION:3 к. 215
END:VEVENT
BEGIN:VEVENT
UID:z87g@192.168.245.71:3006
SEQUENCE:0
DTSTAMP:20260421T084939Z
DTSTART:20260401T150000Z
DTEND:20260401T164000Z
SUMMARY:Иностранный язык: Базовый курс
LOCATION:11 к. 322
END:VEVENT
BEGIN:VEVENT
UID:2187@192.168.245.71:3006
SEQUENCE:0
DTSTAMP:20260421T084939Z
DTSTART:20260402T070000Z
DTEND:20260402T084000Z
SUMMARY:Языки моделирования и описания цифровой аппаратуры
LOCATION:3 к. 202
END:VEVENT
BEGIN:VEVENT
UID:h8gf@192.168.245.71:3006
SEQUENCE:0
DTSTAMP:20260421T084939Z
DTSTART:20260402T090000Z
DTEND:20260402T104000Z
SUMMARY:Физика
LOCATION:11 к. 323
END:VEVENT
BEGIN:VEVENT
UID:43wy@192.168.245.71:3006
SEQUENCE:0
DTSTAMP:20260421T084939Z
DTSTART:20260402T110000Z
DTEND:20260402T124000Z
SUMMARY:Высшая математика
LOCATION:11 к. 309
END:VEVENT
BEGIN:VEVENT
UID:ggdr@192.168.245.71:3006
SEQUENCE:0
DTSTAMP:20260421T084939Z
DTSTART:20260402T130000Z
DTEND:20260402T144000Z
SUMMARY:Технологии программирования
LOCATION:3 к. 101
END:VEVENT
BEGIN:VEVENT
UID:77mj@192.168.245.71:3006
SEQUENCE:0
DTSTAMP:20260421T084939Z
DTSTART:20260402T130000Z
DTEND:20260402T144000Z
SUMMARY:Языки моделирования и описания цифровой аппаратуры
LOCATION:3 к. 202
END:VEVENT
BEGIN:VEVENT
UID:iyyv@192.168.245.71:3006
SEQUENCE:0
DTSTAMP:20260421T084939Z
DTSTART:20260403T050000Z
DTEND:20260403T064000Z
SUMMARY:Технологии программирования
LOCATION:3 к. 102
END:VEVENT
BEGIN:VEVENT
UID:ilag@192.168.245.71:3006
SEQUENCE:0
DTSTAMP:20260421T084939Z
DTSTART:20260403T070000Z
DTEND:20260403T084000Z
SUMMARY:Физика
LOCATION:ГЗ 237
END:VEVENT
BEGIN:VEVENT
UID:nt6h@192.168.245.71:3006
SEQUENCE:0
DTSTAMP:20260421T084939Z
DTSTART:20260403T090000Z
DTEND:20260403T104000Z
SUMMARY:Практикум по программированию
LOCATION:3 к. 105
END:VEVENT
BEGIN:VEVENT
UID:rhzs@192.168.245.71:3006
SEQUENCE:0
DTSTAMP:20260421T084939Z
DTSTART:20260403T110000Z
DTEND:20260403T124000Z
SUMMARY:Физика
LOCATION:ГЗ 186 А
END:VEVENT
BEGIN:VEVENT
UID:dvbv@192.168.245.71:3006
SEQUENCE:0
DTSTAMP:20260421T084939Z
DTSTART:20260403T110000Z
DTEND:20260403T124000Z
SUMMARY:Физика
LOCATION:ГЗ 186 А
END:VEVENT
BEGIN:VEVENT
UID:ijry@192.168.245.71:3006
SEQUENCE:0
DTSTAMP:20260421T084939Z
DTSTART:20260403T110000Z
DTEND:20260403T124000Z
SUMMARY:Физика
LOCATION:ГЗ 186 А
END:VEVENT
BEGIN:VEVENT
UID:fiy4@192.168.245.71:3006
SEQUENCE:0
DTSTAMP:20260421T084939Z
DTSTART:20260404T070000Z
DTEND:20260404T084000Z
SUMMARY:Элективная физическая культура и спорт
LOCATION:СК Секции
END:VEVENT
END:VCALENDAR