BEGIN:VCALENDAR
VERSION:2.0
PRODID:-//spbstu.ru//ical//RU
NAME:Расписание группы 5130904/50401
X-WR-CALNAME:Расписание группы 5130904/50401
TIMEZONE-ID:Europe/Moscow
X-WR-TIMEZONE:Europe/Moscow
BEGIN:VEVENT
UID:aun0@192.168.245.71:3006
SEQUENCE:0
DTSTAMP:20260421T051604Z
DTSTART:20260427T070000Z
DTEND:20260427T084000Z
SUMMARY:История России
LOCATION:3 к. 209
END:VEVENT
BEGIN:VEVENT
UID:seds@192.168.245.71:3006
SEQUENCE:0
DTSTAMP:20260421T051604Z
DTSTART:20260427T090000Z
DTEND:20260427T104000Z
SUMMARY:Иностранный язык: Базовый курс
LOCATION:3 к. 209
END:VEVENT
BEGIN:VEVENT
UID:zxx3@192.168.245.71:3006
SEQUENCE:0
DTSTAMP:20260421T051604Z
DTSTART:20260427T110000Z
DTEND:20260427T124000Z
SUMMARY:Структуры данных
LOCATION:3 к. 201
END:VEVENT
BEGIN:VEVENT
UID:nxcn@192.168.245.71:3006
SEQUENCE:0
DTSTAMP:20260421T051604Z
DTSTART:20260427T130000Z
DTEND:20260427T144000Z
SUMMARY:Структуры данных
LOCATION:3 к. 103
END:VEVENT
BEGIN:VEVENT
UID:qa7n@192.168.245.71:3006
SEQUENCE:0
DTSTAMP:20260421T051604Z
DTSTART:20260428T050000Z
DTEND:20260428T064000Z
SUMMARY:Структуры данных
LOCATION:3 к. 102
END:VEVENT
BEGIN:VEVENT
UID:2iyi@192.168.245.71:3006
SEQUENCE:0
DTSTAMP:20260421T051604Z
DTSTART:20260428T070000Z
DTEND:20260428T084000Z
SUMMARY:Структуры данных
LOCATION:3 к. 102
END:VEVENT
BEGIN:VEVENT
UID:iiqw@192.168.245.71:3006
SEQUENCE:0
DTSTAMP:20260421T051604Z
DTSTART:20260428T090000Z
DTEND:20260428T104000Z
SUMMARY:Высшая математика
LOCATION:3 к. 204
END:VEVENT
BEGIN:VEVENT
UID:uekw@192.168.245.71:3006
SEQUENCE:0
DTSTAMP:20260421T051604Z
DTSTART:20260428T110000Z
DTEND:20260428T140000Z
SUMMARY:Высшая математика
LOCATION:3 к. 215
END:VEVENT
BEGIN:VEVENT
UID:1klz@192.168.245.71:3006
SEQUENCE:0
DTSTAMP:20260421T051604Z
DTSTART:20260429T050000Z
DTEND:20260429T064000Z
SUMMARY:Элективная физическая культура и спорт
LOCATION:СК Секции
END:VEVENT
BEGIN:VEVENT
UID:8997@192.168.245.71:3006
SEQUENCE:0
DTSTAMP:20260421T051604Z
DTSTART:20260429T070000Z
DTEND:20260429T084000Z
SUMMARY:Физика
LOCATION:ГЗ 237
END:VEVENT
BEGIN:VEVENT
UID:0hig@192.168.245.71:3006
SEQUENCE:0
DTSTAMP:20260421T051604Z
DTSTART:20260429T090000Z
DTEND:20260429T104000Z
SUMMARY:Системное программное обеспечение GNU/Linux
LOCATION:3 к. 202
END:VEVENT
BEGIN:VEVENT
UID:tmpc@192.168.245.71:3006
SEQUENCE:0
DTSTAMP:20260421T051604Z
DTSTART:20260429T130000Z
DTEND:20260429T144000Z
SUMMARY:Языки моделирования и описания цифровой аппаратуры
LOCATION:3 к. 215
END:VEVENT
BEGIN:VEVENT
UID:rg0s@192.168.245.71:3006
SEQUENCE:0
DTSTAMP:20260421T051604Z
DTSTART:20260430T070000Z
DTEND:20260430T084000Z
SUMMARY:Языки моделирования и описания цифровой аппаратуры
LOCATION:3 к. 202
END:VEVENT
BEGIN:VEVENT
UID:trj2@192.168.245.71:3006
SEQUENCE:0
DTSTAMP:20260421T051604Z
DTSTART:20260430T090000Z
DTEND:20260430T104000Z
SUMMARY:Физика
LOCATION:11 к. 323
END:VEVENT
BEGIN:VEVENT
UID:a6rz@192.168.245.71:3006
SEQUENCE:0
DTSTAMP:20260421T051604Z
DTSTART:20260430T110000Z
DTEND:20260430T124000Z
SUMMARY:Высшая математика
LOCATION:11 к. 309
END:VEVENT
BEGIN:VEVENT
UID:kr6u@192.168.245.71:3006
SEQUENCE:0
DTSTAMP:20260421T051604Z
DTSTART:20260430T130000Z
DTEND:20260430T144000Z
SUMMARY:Языки моделирования и описания цифровой аппаратуры
LOCATION:3 к. 202
END:VEVENT
BEGIN:VEVENT
UID:vp5u@192.168.245.71:3006
SEQUENCE:0
DTSTAMP:20260421T051604Z
DTSTART:20260430T130000Z
DTEND:20260430T144000Z
SUMMARY:Технологии программирования
LOCATION:3 к. 101
END:VEVENT
BEGIN:VEVENT
UID:yx32@192.168.245.71:3006
SEQUENCE:0
DTSTAMP:20260421T051604Z
DTSTART:20260502T070000Z
DTEND:20260502T084000Z
SUMMARY:Элективная физическая культура и спорт
LOCATION:СК Секции
END:VEVENT
END:VCALENDAR