BEGIN:VCALENDAR
VERSION:2.0
PRODID:-//spbstu.ru//ical//RU
NAME:Расписание группы 5130904/50401
X-WR-CALNAME:Расписание группы 5130904/50401
TIMEZONE-ID:Europe/Moscow
X-WR-TIMEZONE:Europe/Moscow
BEGIN:VEVENT
UID:84eb@192.168.245.71:3006
SEQUENCE:0
DTSTAMP:20260421T085007Z
DTSTART:20260511T090000Z
DTEND:20260511T104000Z
SUMMARY:Иностранный язык: Базовый курс
LOCATION:3 к. 209
END:VEVENT
BEGIN:VEVENT
UID:joix@192.168.245.71:3006
SEQUENCE:0
DTSTAMP:20260421T085007Z
DTSTART:20260511T110000Z
DTEND:20260511T124000Z
SUMMARY:Структуры данных
LOCATION:3 к. 201
END:VEVENT
BEGIN:VEVENT
UID:ri05@192.168.245.71:3006
SEQUENCE:0
DTSTAMP:20260421T085007Z
DTSTART:20260511T130000Z
DTEND:20260511T144000Z
SUMMARY:Структуры данных
LOCATION:3 к. 103
END:VEVENT
BEGIN:VEVENT
UID:mr8i@192.168.245.71:3006
SEQUENCE:0
DTSTAMP:20260421T085007Z
DTSTART:20260512T050000Z
DTEND:20260512T064000Z
SUMMARY:Структуры данных
LOCATION:3 к. 102
END:VEVENT
BEGIN:VEVENT
UID:1r5s@192.168.245.71:3006
SEQUENCE:0
DTSTAMP:20260421T085007Z
DTSTART:20260512T070000Z
DTEND:20260512T084000Z
SUMMARY:Структуры данных
LOCATION:3 к. 102
END:VEVENT
BEGIN:VEVENT
UID:gl8a@192.168.245.71:3006
SEQUENCE:0
DTSTAMP:20260421T085007Z
DTSTART:20260512T090000Z
DTEND:20260512T104000Z
SUMMARY:Высшая математика
LOCATION:3 к. 204
END:VEVENT
BEGIN:VEVENT
UID:hs55@192.168.245.71:3006
SEQUENCE:0
DTSTAMP:20260421T085007Z
DTSTART:20260512T110000Z
DTEND:20260512T140000Z
SUMMARY:Высшая математика
LOCATION:3 к. 215
END:VEVENT
BEGIN:VEVENT
UID:nmyb@192.168.245.71:3006
SEQUENCE:0
DTSTAMP:20260421T085007Z
DTSTART:20260513T050000Z
DTEND:20260513T064000Z
SUMMARY:Элективная физическая культура и спорт
LOCATION:СК Секции
END:VEVENT
BEGIN:VEVENT
UID:xesw@192.168.245.71:3006
SEQUENCE:0
DTSTAMP:20260421T085007Z
DTSTART:20260513T070000Z
DTEND:20260513T084000Z
SUMMARY:Физика
LOCATION:ГЗ 237
END:VEVENT
BEGIN:VEVENT
UID:33rw@192.168.245.71:3006
SEQUENCE:0
DTSTAMP:20260421T085007Z
DTSTART:20260513T090000Z
DTEND:20260513T104000Z
SUMMARY:Системное программное обеспечение GNU/Linux
LOCATION:3 к. 202
END:VEVENT
BEGIN:VEVENT
UID:65vc@192.168.245.71:3006
SEQUENCE:0
DTSTAMP:20260421T085007Z
DTSTART:20260513T130000Z
DTEND:20260513T144000Z
SUMMARY:Языки моделирования и описания цифровой аппаратуры
LOCATION:3 к. 215
END:VEVENT
BEGIN:VEVENT
UID:5cxa@192.168.245.71:3006
SEQUENCE:0
DTSTAMP:20260421T085007Z
DTSTART:20260514T070000Z
DTEND:20260514T084000Z
SUMMARY:Языки моделирования и описания цифровой аппаратуры
LOCATION:3 к. 202
END:VEVENT
BEGIN:VEVENT
UID:z2uh@192.168.245.71:3006
SEQUENCE:0
DTSTAMP:20260421T085007Z
DTSTART:20260514T090000Z
DTEND:20260514T104000Z
SUMMARY:Физика
LOCATION:11 к. 323
END:VEVENT
BEGIN:VEVENT
UID:gc98@192.168.245.71:3006
SEQUENCE:0
DTSTAMP:20260421T085007Z
DTSTART:20260514T130000Z
DTEND:20260514T144000Z
SUMMARY:Языки моделирования и описания цифровой аппаратуры
LOCATION:3 к. 202
END:VEVENT
BEGIN:VEVENT
UID:5z55@192.168.245.71:3006
SEQUENCE:0
DTSTAMP:20260421T085007Z
DTSTART:20260515T050000Z
DTEND:20260515T064000Z
SUMMARY:Технологии программирования
LOCATION:3 к. 102
END:VEVENT
BEGIN:VEVENT
UID:g8to@192.168.245.71:3006
SEQUENCE:0
DTSTAMP:20260421T085007Z
DTSTART:20260515T090000Z
DTEND:20260515T104000Z
SUMMARY:Практикум по программированию
LOCATION:3 к. 105
END:VEVENT
BEGIN:VEVENT
UID:pchl@192.168.245.71:3006
SEQUENCE:0
DTSTAMP:20260421T085007Z
DTSTART:20260515T110000Z
DTEND:20260515T124000Z
SUMMARY:Физика
LOCATION:ГЗ 186 А
END:VEVENT
BEGIN:VEVENT
UID:m6d7@192.168.245.71:3006
SEQUENCE:0
DTSTAMP:20260421T085007Z
DTSTART:20260515T110000Z
DTEND:20260515T124000Z
SUMMARY:Физика
LOCATION:ГЗ 186 А
END:VEVENT
BEGIN:VEVENT
UID:ldwo@192.168.245.71:3006
SEQUENCE:0
DTSTAMP:20260421T085007Z
DTSTART:20260515T110000Z
DTEND:20260515T124000Z
SUMMARY:Физика
LOCATION:ГЗ 186 А
END:VEVENT
BEGIN:VEVENT
UID:cb7m@192.168.245.71:3006
SEQUENCE:0
DTSTAMP:20260421T085007Z
DTSTART:20260516T070000Z
DTEND:20260516T084000Z
SUMMARY:Элективная физическая культура и спорт
LOCATION:СК Секции
END:VEVENT
BEGIN:VEVENT
UID:5ywm@192.168.245.71:3006
SEQUENCE:0
DTSTAMP:20260421T085007Z
DTSTART:20260516T090000Z
DTEND:20260516T104000Z
SUMMARY:Философия
LOCATION:11 к. 319
END:VEVENT
END:VCALENDAR