BEGIN:VCALENDAR
VERSION:2.0
PRODID:-//spbstu.ru//ical//RU
NAME:Расписание группы 5130904/50402
X-WR-CALNAME:Расписание группы 5130904/50402
TIMEZONE-ID:Europe/Moscow
X-WR-TIMEZONE:Europe/Moscow
BEGIN:VEVENT
UID:d04q@192.168.245.71:3006
SEQUENCE:0
DTSTAMP:20260423T214103Z
DTSTART:20251222T110000Z
DTEND:20251222T150000Z
SUMMARY:Экономическая культура
LOCATION:3 к. 511
END:VEVENT
BEGIN:VEVENT
UID:dt6f@192.168.245.71:3006
SEQUENCE:0
DTSTAMP:20260423T214103Z
DTSTART:20251223T120000Z
DTEND:20251223T144000Z
SUMMARY:Элективная физическая культура и спорт
LOCATION:СК Секции
END:VEVENT
BEGIN:VEVENT
UID:0ei3@192.168.245.71:3006
SEQUENCE:0
DTSTAMP:20260423T214103Z
DTSTART:20251224T070000Z
DTEND:20251224T084000Z
SUMMARY:Физика
LOCATION:ГЗ 324
END:VEVENT
BEGIN:VEVENT
UID:hgdd@192.168.245.71:3006
SEQUENCE:0
DTSTAMP:20260423T214103Z
DTSTART:20251224T090000Z
DTEND:20251224T094000Z
SUMMARY:Высшая математика
LOCATION:3 к. 211
END:VEVENT
BEGIN:VEVENT
UID:mpt8@192.168.245.71:3006
SEQUENCE:0
DTSTAMP:20260423T214103Z
DTSTART:20251224T110000Z
DTEND:20251224T124000Z
SUMMARY:Физика
LOCATION:3 к. 206
END:VEVENT
BEGIN:VEVENT
UID:w8pf@192.168.245.71:3006
SEQUENCE:0
DTSTAMP:20260423T214103Z
DTSTART:20251225T100000Z
DTEND:20251225T150000Z
SUMMARY:Введение в профессиональную деятельность
LOCATION:3 к. 101
END:VEVENT
BEGIN:VEVENT
UID:go8m@192.168.245.71:3006
SEQUENCE:0
DTSTAMP:20260423T214103Z
DTSTART:20251226T070000Z
DTEND:20251226T120000Z
SUMMARY:Основы российской государственности
LOCATION:3 к. 206
END:VEVENT
END:VCALENDAR