BEGIN:VCALENDAR
VERSION:2.0
PRODID:-//spbstu.ru//ical//RU
NAME:Расписание группы 5131001/50602
X-WR-CALNAME:Расписание группы 5131001/50602
TIMEZONE-ID:Europe/Moscow
X-WR-TIMEZONE:Europe/Moscow
BEGIN:VEVENT
UID:1ai3@192.168.245.71:3006
SEQUENCE:0
DTSTAMP:20260423T000011Z
DTSTART:20251201T070000Z
DTEND:20251201T084000Z
SUMMARY:Введение в профессиональную деятельность
LOCATION:11 к. 319
END:VEVENT
BEGIN:VEVENT
UID:mppm@192.168.245.71:3006
SEQUENCE:0
DTSTAMP:20260423T000011Z
DTSTART:20251201T130000Z
DTEND:20251201T144000Z
SUMMARY:Творческие семестры
LOCATION:ГЗ Белый зал
END:VEVENT
BEGIN:VEVENT
UID:3ibt@192.168.245.71:3006
SEQUENCE:0
DTSTAMP:20260423T000011Z
DTSTART:20251203T050000Z
DTEND:20251203T064000Z
SUMMARY:Элективная физическая культура и спорт
LOCATION:СК Секции
END:VEVENT
BEGIN:VEVENT
UID:awab@192.168.245.71:3006
SEQUENCE:0
DTSTAMP:20260423T000011Z
DTSTART:20251203T070000Z
DTEND:20251203T084000Z
SUMMARY:Физика
LOCATION:ГЗ 237
END:VEVENT
BEGIN:VEVENT
UID:20ib@192.168.245.71:3006
SEQUENCE:0
DTSTAMP:20260423T000011Z
DTSTART:20251203T090000Z
DTEND:20251203T104000Z
SUMMARY:Высшая математика
LOCATION:3 к. 210
END:VEVENT
BEGIN:VEVENT
UID:93f5@192.168.245.71:3006
SEQUENCE:0
DTSTAMP:20260423T000011Z
DTSTART:20251204T060000Z
DTEND:20251204T084000Z
SUMMARY:Высшая математика
LOCATION:ГЗ 235
END:VEVENT
BEGIN:VEVENT
UID:i2ra@192.168.245.71:3006
SEQUENCE:0
DTSTAMP:20260423T000011Z
DTSTART:20251204T090000Z
DTEND:20251204T104000Z
SUMMARY:Высшая математика
LOCATION:ГЗ 212
END:VEVENT
BEGIN:VEVENT
UID:brqv@192.168.245.71:3006
SEQUENCE:0
DTSTAMP:20260423T000011Z
DTSTART:20251204T110000Z
DTEND:20251204T124000Z
SUMMARY:Алгоритмизация и программирование
LOCATION:ГЗ 105
END:VEVENT
BEGIN:VEVENT
UID:hyaz@192.168.245.71:3006
SEQUENCE:0
DTSTAMP:20260423T000011Z
DTSTART:20251204T130000Z
DTEND:20251204T144000Z
SUMMARY:Основы цифровых технологий
LOCATION:11 к. 148
END:VEVENT
BEGIN:VEVENT
UID:m1k9@192.168.245.71:3006
SEQUENCE:0
DTSTAMP:20260423T000011Z
DTSTART:20251205T070000Z
DTEND:20251205T084000Z
SUMMARY:Технологии программирования
LOCATION:ГЗ 105
END:VEVENT
BEGIN:VEVENT
UID:s68t@192.168.245.71:3006
SEQUENCE:0
DTSTAMP:20260423T000011Z
DTSTART:20251205T090000Z
DTEND:20251205T104000Z
SUMMARY:Основы российской государственности
LOCATION:3 к. 201
END:VEVENT
BEGIN:VEVENT
UID:hl26@192.168.245.71:3006
SEQUENCE:0
DTSTAMP:20260423T000011Z
DTSTART:20251205T110000Z
DTEND:20251205T124000Z
SUMMARY:Физика
LOCATION:ГЗ 178
END:VEVENT
BEGIN:VEVENT
UID:xdvt@192.168.245.71:3006
SEQUENCE:0
DTSTAMP:20260423T000011Z
DTSTART:20251205T130000Z
DTEND:20251205T144000Z
SUMMARY:Алгоритмизация и программирование
LOCATION:ГЗ 105
END:VEVENT
BEGIN:VEVENT
UID:xnba@192.168.245.71:3006
SEQUENCE:0
DTSTAMP:20260423T000011Z
DTSTART:20251206T070000Z
DTEND:20251206T084000Z
SUMMARY:Элективная физическая культура и спорт
LOCATION:СК Секции
END:VEVENT
BEGIN:VEVENT
UID:20l3@192.168.245.71:3006
SEQUENCE:0
DTSTAMP:20260423T000011Z
DTSTART:20251206T090000Z
DTEND:20251206T104000Z
SUMMARY:Алгоритмизация и программирование
LOCATION:3 к. 215
END:VEVENT
BEGIN:VEVENT
UID:jl82@192.168.245.71:3006
SEQUENCE:0
DTSTAMP:20260423T000011Z
DTSTART:20251206T110000Z
DTEND:20251206T124000Z
SUMMARY:Основы российской государственности
LOCATION:3 к. 501
END:VEVENT
BEGIN:VEVENT
UID:5ib4@192.168.245.71:3006
SEQUENCE:0
DTSTAMP:20260423T000011Z
DTSTART:20251206T130000Z
DTEND:20251206T144000Z
SUMMARY:Иностранный язык: Базовый курс
LOCATION:11 к. 316
END:VEVENT
END:VCALENDAR