BEGIN:VCALENDAR
VERSION:2.0
PRODID:-//spbstu.ru//ical//RU
NAME:Расписание группы 5131001/50602
X-WR-CALNAME:Расписание группы 5131001/50602
TIMEZONE-ID:Europe/Moscow
X-WR-TIMEZONE:Europe/Moscow
BEGIN:VEVENT
UID:ido7@192.168.245.71:3006
SEQUENCE:0
DTSTAMP:20260424T061325Z
DTSTART:20250929T070000Z
DTEND:20250929T084000Z
SUMMARY:Введение в профессиональную деятельность
LOCATION:1 к. 41
END:VEVENT
BEGIN:VEVENT
UID:avz2@192.168.245.71:3006
SEQUENCE:0
DTSTAMP:20260424T061325Z
DTSTART:20251001T050000Z
DTEND:20251001T064000Z
SUMMARY:Элективная физическая культура и спорт
LOCATION:СК Секции
END:VEVENT
BEGIN:VEVENT
UID:pk2n@192.168.245.71:3006
SEQUENCE:0
DTSTAMP:20260424T061325Z
DTSTART:20251001T070000Z
DTEND:20251001T084000Z
SUMMARY:Физика
LOCATION:ГЗ 237
END:VEVENT
BEGIN:VEVENT
UID:n56u@192.168.245.71:3006
SEQUENCE:0
DTSTAMP:20260424T061325Z
DTSTART:20251001T090000Z
DTEND:20251001T104000Z
SUMMARY:Технологии программирования
LOCATION:ГЗ 105
END:VEVENT
BEGIN:VEVENT
UID:lrfu@192.168.245.71:3006
SEQUENCE:0
DTSTAMP:20260424T061325Z
DTSTART:20251001T110000Z
DTEND:20251001T124000Z
SUMMARY:Физика
LOCATION:ГЗ 155 А
END:VEVENT
BEGIN:VEVENT
UID:2c88@192.168.245.71:3006
SEQUENCE:0
DTSTAMP:20260424T061325Z
DTSTART:20251001T110000Z
DTEND:20251001T124000Z
SUMMARY:Физика
LOCATION:ГЗ 155 А
END:VEVENT
BEGIN:VEVENT
UID:ogfn@192.168.245.71:3006
SEQUENCE:0
DTSTAMP:20260424T061325Z
DTSTART:20251001T130000Z
DTEND:20251001T144000Z
SUMMARY:Физика
LOCATION:ГЗ 211
END:VEVENT
BEGIN:VEVENT
UID:j96p@192.168.245.71:3006
SEQUENCE:0
DTSTAMP:20260424T061325Z
DTSTART:20251002T060000Z
DTEND:20251002T084000Z
SUMMARY:Высшая математика
LOCATION:ГЗ 235
END:VEVENT
BEGIN:VEVENT
UID:itxj@192.168.245.71:3006
SEQUENCE:0
DTSTAMP:20260424T061325Z
DTSTART:20251002T090000Z
DTEND:20251002T104000Z
SUMMARY:Высшая математика
LOCATION:ГЗ 212
END:VEVENT
BEGIN:VEVENT
UID:ich3@192.168.245.71:3006
SEQUENCE:0
DTSTAMP:20260424T061325Z
DTSTART:20251002T110000Z
DTEND:20251002T124000Z
SUMMARY:Алгоритмизация и программирование
LOCATION:ГЗ 105
END:VEVENT
BEGIN:VEVENT
UID:az44@192.168.245.71:3006
SEQUENCE:0
DTSTAMP:20260424T061325Z
DTSTART:20251003T090000Z
DTEND:20251003T104000Z
SUMMARY:Физика
LOCATION:ГЗ 237
END:VEVENT
BEGIN:VEVENT
UID:1jaq@192.168.245.71:3006
SEQUENCE:0
DTSTAMP:20260424T061325Z
DTSTART:20251003T110000Z
DTEND:20251003T124000Z
SUMMARY:Физика
LOCATION:ГЗ 178
END:VEVENT
BEGIN:VEVENT
UID:ocqq@192.168.245.71:3006
SEQUENCE:0
DTSTAMP:20260424T061325Z
DTSTART:20251003T130000Z
DTEND:20251003T144000Z
SUMMARY:Основы цифровых технологий
LOCATION:ГЗ 105
END:VEVENT
BEGIN:VEVENT
UID:o0ye@192.168.245.71:3006
SEQUENCE:0
DTSTAMP:20260424T061325Z
DTSTART:20251004T070000Z
DTEND:20251004T084000Z
SUMMARY:Элективная физическая культура и спорт
LOCATION:СК Секции
END:VEVENT
BEGIN:VEVENT
UID:dwm9@192.168.245.71:3006
SEQUENCE:0
DTSTAMP:20260424T061325Z
DTSTART:20251004T090000Z
DTEND:20251004T104000Z
SUMMARY:Алгоритмизация и программирование
LOCATION:3 к. 215
END:VEVENT
BEGIN:VEVENT
UID:m11r@192.168.245.71:3006
SEQUENCE:0
DTSTAMP:20260424T061325Z
DTSTART:20251004T110000Z
DTEND:20251004T124000Z
SUMMARY:Основы российской государственности
LOCATION:3 к. 501
END:VEVENT
BEGIN:VEVENT
UID:i2dm@192.168.245.71:3006
SEQUENCE:0
DTSTAMP:20260424T061325Z
DTSTART:20251004T130000Z
DTEND:20251004T144000Z
SUMMARY:Иностранный язык: Базовый курс
LOCATION:11 к. 316
END:VEVENT
END:VCALENDAR