BEGIN:VCALENDAR
VERSION:2.0
PRODID:-//spbstu.ru//ical//RU
NAME:Расписание группы 5131001/50602
X-WR-CALNAME:Расписание группы 5131001/50602
TIMEZONE-ID:Europe/Moscow
X-WR-TIMEZONE:Europe/Moscow
BEGIN:VEVENT
UID:momk@192.168.245.71:3006
SEQUENCE:0
DTSTAMP:20260421T184403Z
DTSTART:20260209T070000Z
DTEND:20260209T084000Z
SUMMARY:Физика
LOCATION:ГЗ 186 А
END:VEVENT
BEGIN:VEVENT
UID:2byk@192.168.245.71:3006
SEQUENCE:0
DTSTAMP:20260421T184403Z
DTSTART:20260209T070000Z
DTEND:20260209T084000Z
SUMMARY:Физика
LOCATION:ГЗ 186 А
END:VEVENT
BEGIN:VEVENT
UID:s6p0@192.168.245.71:3006
SEQUENCE:0
DTSTAMP:20260421T184403Z
DTSTART:20260209T090000Z
DTEND:20260209T104000Z
SUMMARY:Структуры данных
LOCATION:ГЗ 171
END:VEVENT
BEGIN:VEVENT
UID:qyds@192.168.245.71:3006
SEQUENCE:0
DTSTAMP:20260421T184403Z
DTSTART:20260209T110000Z
DTEND:20260209T124000Z
SUMMARY:Технологии программирования
LOCATION:ГЗ 105
END:VEVENT
BEGIN:VEVENT
UID:3rqn@192.168.245.71:3006
SEQUENCE:0
DTSTAMP:20260421T184403Z
DTSTART:20260209T130000Z
DTEND:20260209T144000Z
SUMMARY:Высшая математика
LOCATION:ГЗ 219
END:VEVENT
BEGIN:VEVENT
UID:206m@192.168.245.71:3006
SEQUENCE:0
DTSTAMP:20260421T184403Z
DTSTART:20260209T150000Z
DTEND:20260209T164000Z
SUMMARY:Творческие семестры
LOCATION:Не опр. Нет
END:VEVENT
BEGIN:VEVENT
UID:qi7t@192.168.245.71:3006
SEQUENCE:0
DTSTAMP:20260421T184403Z
DTSTART:20260210T150000Z
DTEND:20260210T153000Z
SUMMARY:Экономическая культура
LOCATION:3 к. 501
END:VEVENT
BEGIN:VEVENT
UID:tnz4@192.168.245.71:3006
SEQUENCE:0
DTSTAMP:20260421T184403Z
DTSTART:20260211T050000Z
DTEND:20260211T064000Z
SUMMARY:Элективная физическая культура и спорт
LOCATION:СК Секции
END:VEVENT
BEGIN:VEVENT
UID:35br@192.168.245.71:3006
SEQUENCE:0
DTSTAMP:20260421T184403Z
DTSTART:20260211T070000Z
DTEND:20260211T084000Z
SUMMARY:Физика
LOCATION:ГЗ 237
END:VEVENT
BEGIN:VEVENT
UID:w20k@192.168.245.71:3006
SEQUENCE:0
DTSTAMP:20260421T184403Z
DTSTART:20260211T090000Z
DTEND:20260211T104000Z
SUMMARY:История России
LOCATION:3 к. 501
END:VEVENT
BEGIN:VEVENT
UID:2hkv@192.168.245.71:3006
SEQUENCE:0
DTSTAMP:20260421T184403Z
DTSTART:20260211T110000Z
DTEND:20260211T124000Z
SUMMARY:Физика
LOCATION:3 к. 206
END:VEVENT
BEGIN:VEVENT
UID:1hsr@192.168.245.71:3006
SEQUENCE:0
DTSTAMP:20260421T184403Z
DTSTART:20260211T150000Z
DTEND:20260211T153000Z
SUMMARY:Основы российской государственности
LOCATION:3 к. 501
END:VEVENT
BEGIN:VEVENT
UID:f4ix@192.168.245.71:3006
SEQUENCE:0
DTSTAMP:20260421T184403Z
DTSTART:20260212T062000Z
DTEND:20260212T084000Z
SUMMARY:Высшая математика
LOCATION:ГЗ 257
END:VEVENT
BEGIN:VEVENT
UID:fck2@192.168.245.71:3006
SEQUENCE:0
DTSTAMP:20260421T184403Z
DTSTART:20260212T090000Z
DTEND:20260212T104000Z
SUMMARY:Основы информационной безопасности
LOCATION:ГЗ 237
END:VEVENT
BEGIN:VEVENT
UID:qft1@192.168.245.71:3006
SEQUENCE:0
DTSTAMP:20260421T184403Z
DTSTART:20260212T130000Z
DTEND:20260212T144000Z
SUMMARY:Основы информационной безопасности
LOCATION:ГЗ 105
END:VEVENT
BEGIN:VEVENT
UID:wsiy@192.168.245.71:3006
SEQUENCE:0
DTSTAMP:20260421T184403Z
DTSTART:20260212T150000Z
DTEND:20260212T164000Z
SUMMARY:Основы цифровых технологий
LOCATION:3 к. 309
END:VEVENT
BEGIN:VEVENT
UID:vg0l@192.168.245.71:3006
SEQUENCE:0
DTSTAMP:20260421T184403Z
DTSTART:20260214T070000Z
DTEND:20260214T084000Z
SUMMARY:Элективная физическая культура и спорт
LOCATION:СК Секции
END:VEVENT
BEGIN:VEVENT
UID:yu81@192.168.245.71:3006
SEQUENCE:0
DTSTAMP:20260421T184403Z
DTSTART:20260214T090000Z
DTEND:20260214T104000Z
SUMMARY:Структуры данных
LOCATION:3 к. 215
END:VEVENT
BEGIN:VEVENT
UID:36zx@192.168.245.71:3006
SEQUENCE:0
DTSTAMP:20260421T184403Z
DTSTART:20260214T110000Z
DTEND:20260214T124000Z
SUMMARY:Высшая математика
LOCATION:3 к. 206
END:VEVENT
BEGIN:VEVENT
UID:mp70@192.168.245.71:3006
SEQUENCE:0
DTSTAMP:20260421T184403Z
DTSTART:20260214T130000Z
DTEND:20260214T144000Z
SUMMARY:Иностранный язык: Базовый курс
LOCATION:3 к. 206
END:VEVENT
END:VCALENDAR