BEGIN:VCALENDAR
VERSION:2.0
PRODID:-//spbstu.ru//ical//RU
NAME:Расписание группы 5132704/50002
X-WR-CALNAME:Расписание группы 5132704/50002
TIMEZONE-ID:Europe/Moscow
X-WR-TIMEZONE:Europe/Moscow
BEGIN:VEVENT
UID:sq2d@192.168.245.71:3006
SEQUENCE:0
DTSTAMP:20260421T121117Z
DTSTART:20260316T070000Z
DTEND:20260316T084000Z
SUMMARY:Структуры данных
LOCATION:16 к. 414
END:VEVENT
BEGIN:VEVENT
UID:x5zo@192.168.245.71:3006
SEQUENCE:0
DTSTAMP:20260421T121117Z
DTSTART:20260316T090000Z
DTEND:20260316T104000Z
SUMMARY:Структуры данных
LOCATION:16 к. 309
END:VEVENT
BEGIN:VEVENT
UID:rq6q@192.168.245.71:3006
SEQUENCE:0
DTSTAMP:20260421T121117Z
DTSTART:20260316T110000Z
DTEND:20260316T124000Z
SUMMARY:Высшая математика
LOCATION:11 к. 309
END:VEVENT
BEGIN:VEVENT
UID:63vj@192.168.245.71:3006
SEQUENCE:0
DTSTAMP:20260421T121117Z
DTSTART:20260316T130000Z
DTEND:20260316T144000Z
SUMMARY:Высшая математика
LOCATION:11 к. 309
END:VEVENT
BEGIN:VEVENT
UID:6f53@192.168.245.71:3006
SEQUENCE:0
DTSTAMP:20260421T121117Z
DTSTART:20260317T070000Z
DTEND:20260317T084000Z
SUMMARY:Структуры данных
LOCATION:16 к. 309
END:VEVENT
BEGIN:VEVENT
UID:xuvq@192.168.245.71:3006
SEQUENCE:0
DTSTAMP:20260421T121117Z
DTSTART:20260317T090000Z
DTEND:20260317T104000Z
SUMMARY:Практикум по программированию
LOCATION:16 к. 313
END:VEVENT
BEGIN:VEVENT
UID:mx60@192.168.245.71:3006
SEQUENCE:0
DTSTAMP:20260421T121117Z
DTSTART:20260317T110000Z
DTEND:20260317T124000Z
SUMMARY:Иностранный язык: Базовый курс
LOCATION:11 к. 330
END:VEVENT
BEGIN:VEVENT
UID:gsbw@192.168.245.71:3006
SEQUENCE:0
DTSTAMP:20260421T121117Z
DTSTART:20260317T130000Z
DTEND:20260317T144000Z
SUMMARY:История России
LOCATION:11 к. 316
END:VEVENT
BEGIN:VEVENT
UID:r7as@192.168.245.71:3006
SEQUENCE:0
DTSTAMP:20260421T121117Z
DTSTART:20260317T150000Z
DTEND:20260317T164000Z
SUMMARY:Иностранный язык: Базовый курс
LOCATION:ГЗ 237
END:VEVENT
BEGIN:VEVENT
UID:rkqv@192.168.245.71:3006
SEQUENCE:0
DTSTAMP:20260421T121117Z
DTSTART:20260318T050000Z
DTEND:20260318T064000Z
SUMMARY:Элективная физическая культура и спорт
LOCATION:СК Секции
END:VEVENT
BEGIN:VEVENT
UID:g36z@192.168.245.71:3006
SEQUENCE:0
DTSTAMP:20260421T121117Z
DTSTART:20260318T070000Z
DTEND:20260318T084000Z
SUMMARY:Физика
LOCATION:ГЗ 324
END:VEVENT
BEGIN:VEVENT
UID:emx4@192.168.245.71:3006
SEQUENCE:0
DTSTAMP:20260421T121117Z
DTSTART:20260318T110000Z
DTEND:20260318T140000Z
SUMMARY:Высшая математика
LOCATION:ГЗ 237
END:VEVENT
BEGIN:VEVENT
UID:dwgl@192.168.245.71:3006
SEQUENCE:0
DTSTAMP:20260421T121117Z
DTSTART:20260319T070000Z
DTEND:20260319T084000Z
SUMMARY:Структуры данных
LOCATION:16 к. 309
END:VEVENT
BEGIN:VEVENT
UID:b3y2@192.168.245.71:3006
SEQUENCE:0
DTSTAMP:20260421T121117Z
DTSTART:20260319T110000Z
DTEND:20260319T124000Z
SUMMARY:Физика
LOCATION:11 к. 324
END:VEVENT
BEGIN:VEVENT
UID:1hh2@192.168.245.71:3006
SEQUENCE:0
DTSTAMP:20260421T121117Z
DTSTART:20260319T130000Z
DTEND:20260319T144000Z
SUMMARY:Структуры данных
LOCATION:16 к. 313
END:VEVENT
BEGIN:VEVENT
UID:0xdg@192.168.245.71:3006
SEQUENCE:0
DTSTAMP:20260421T121117Z
DTSTART:20260319T150000Z
DTEND:20260319T164000Z
SUMMARY:Высшая математика
LOCATION:НИК А2.17 (1-2)
END:VEVENT
BEGIN:VEVENT
UID:dy0m@192.168.245.71:3006
SEQUENCE:0
DTSTAMP:20260421T121117Z
DTSTART:20260320T050000Z
DTEND:20260320T064000Z
SUMMARY:Иностранный язык: Русский язык как иностранный
LOCATION:3 к. 503
END:VEVENT
BEGIN:VEVENT
UID:y82j@192.168.245.71:3006
SEQUENCE:0
DTSTAMP:20260421T121117Z
DTSTART:20260320T090000Z
DTEND:20260320T104000Z
SUMMARY:История России
LOCATION:ГЗ 237
END:VEVENT
BEGIN:VEVENT
UID:o4xj@192.168.245.71:3006
SEQUENCE:0
DTSTAMP:20260421T121117Z
DTSTART:20260321T070000Z
DTEND:20260321T084000Z
SUMMARY:Элективная физическая культура и спорт
LOCATION:СК Секции
END:VEVENT
BEGIN:VEVENT
UID:s9k2@192.168.245.71:3006
SEQUENCE:0
DTSTAMP:20260421T121117Z
DTSTART:20260321T110000Z
DTEND:20260321T124000Z
SUMMARY:Инженерная графика
LOCATION:11 к. 329
END:VEVENT
BEGIN:VEVENT
UID:2ghr@192.168.245.71:3006
SEQUENCE:0
DTSTAMP:20260421T121117Z
DTSTART:20260321T130000Z
DTEND:20260321T144000Z
SUMMARY:Иностранный язык: Русский язык как иностранный
LOCATION:3 к. 501
END:VEVENT
END:VCALENDAR