BEGIN:VCALENDAR
VERSION:2.0
PRODID:-//spbstu.ru//ical//RU
NAME:Расписание группы 5132704/50002
X-WR-CALNAME:Расписание группы 5132704/50002
TIMEZONE-ID:Europe/Moscow
X-WR-TIMEZONE:Europe/Moscow
BEGIN:VEVENT
UID:ux2l@192.168.245.71:3006
SEQUENCE:0
DTSTAMP:20260421T051611Z
DTSTART:20260427T070000Z
DTEND:20260427T084000Z
SUMMARY:Структуры данных
LOCATION:16 к. 414
END:VEVENT
BEGIN:VEVENT
UID:n1ry@192.168.245.71:3006
SEQUENCE:0
DTSTAMP:20260421T051611Z
DTSTART:20260427T090000Z
DTEND:20260427T104000Z
SUMMARY:Структуры данных
LOCATION:16 к. 309
END:VEVENT
BEGIN:VEVENT
UID:os27@192.168.245.71:3006
SEQUENCE:0
DTSTAMP:20260421T051611Z
DTSTART:20260427T110000Z
DTEND:20260427T124000Z
SUMMARY:Высшая математика
LOCATION:11 к. 309
END:VEVENT
BEGIN:VEVENT
UID:n680@192.168.245.71:3006
SEQUENCE:0
DTSTAMP:20260421T051611Z
DTSTART:20260427T130000Z
DTEND:20260427T144000Z
SUMMARY:Высшая математика
LOCATION:11 к. 309
END:VEVENT
BEGIN:VEVENT
UID:3i4g@192.168.245.71:3006
SEQUENCE:0
DTSTAMP:20260421T051611Z
DTSTART:20260427T150000Z
DTEND:20260427T164000Z
SUMMARY:Философия
LOCATION:ГЗ 235
END:VEVENT
BEGIN:VEVENT
UID:8lzr@192.168.245.71:3006
SEQUENCE:0
DTSTAMP:20260421T051611Z
DTSTART:20260428T070000Z
DTEND:20260428T084000Z
SUMMARY:Структуры данных
LOCATION:16 к. 309
END:VEVENT
BEGIN:VEVENT
UID:l9z1@192.168.245.71:3006
SEQUENCE:0
DTSTAMP:20260421T051611Z
DTSTART:20260428T090000Z
DTEND:20260428T104000Z
SUMMARY:Практикум по программированию
LOCATION:16 к. 313
END:VEVENT
BEGIN:VEVENT
UID:r193@192.168.245.71:3006
SEQUENCE:0
DTSTAMP:20260421T051611Z
DTSTART:20260428T110000Z
DTEND:20260428T124000Z
SUMMARY:Иностранный язык: Базовый курс
LOCATION:11 к. 330
END:VEVENT
BEGIN:VEVENT
UID:hayw@192.168.245.71:3006
SEQUENCE:0
DTSTAMP:20260421T051611Z
DTSTART:20260428T130000Z
DTEND:20260428T144000Z
SUMMARY:История России
LOCATION:11 к. 316
END:VEVENT
BEGIN:VEVENT
UID:pv1l@192.168.245.71:3006
SEQUENCE:0
DTSTAMP:20260421T051611Z
DTSTART:20260429T050000Z
DTEND:20260429T064000Z
SUMMARY:Элективная физическая культура и спорт
LOCATION:СК Секции
END:VEVENT
BEGIN:VEVENT
UID:5sni@192.168.245.71:3006
SEQUENCE:0
DTSTAMP:20260421T051611Z
DTSTART:20260429T070000Z
DTEND:20260429T084000Z
SUMMARY:Физика
LOCATION:ГЗ 324
END:VEVENT
BEGIN:VEVENT
UID:2jq2@192.168.245.71:3006
SEQUENCE:0
DTSTAMP:20260421T051611Z
DTSTART:20260429T110000Z
DTEND:20260429T140000Z
SUMMARY:Высшая математика
LOCATION:ГЗ 237
END:VEVENT
BEGIN:VEVENT
UID:89zp@192.168.245.71:3006
SEQUENCE:0
DTSTAMP:20260421T051611Z
DTSTART:20260430T070000Z
DTEND:20260430T084000Z
SUMMARY:Структуры данных
LOCATION:16 к. 309
END:VEVENT
BEGIN:VEVENT
UID:c5gy@192.168.245.71:3006
SEQUENCE:0
DTSTAMP:20260421T051611Z
DTSTART:20260430T110000Z
DTEND:20260430T124000Z
SUMMARY:Физика
LOCATION:11 к. 324
END:VEVENT
BEGIN:VEVENT
UID:xcth@192.168.245.71:3006
SEQUENCE:0
DTSTAMP:20260421T051611Z
DTSTART:20260430T130000Z
DTEND:20260430T144000Z
SUMMARY:Структуры данных
LOCATION:16 к. 313
END:VEVENT
BEGIN:VEVENT
UID:u3kd@192.168.245.71:3006
SEQUENCE:0
DTSTAMP:20260421T051611Z
DTSTART:20260502T070000Z
DTEND:20260502T084000Z
SUMMARY:Элективная физическая культура и спорт
LOCATION:СК Секции
END:VEVENT
BEGIN:VEVENT
UID:uqdr@192.168.245.71:3006
SEQUENCE:0
DTSTAMP:20260421T051611Z
DTSTART:20260502T110000Z
DTEND:20260502T124000Z
SUMMARY:Инженерная графика
LOCATION:11 к. 329
END:VEVENT
BEGIN:VEVENT
UID:la6j@192.168.245.71:3006
SEQUENCE:0
DTSTAMP:20260421T051611Z
DTSTART:20260502T130000Z
DTEND:20260502T144000Z
SUMMARY:Иностранный язык: Русский язык как иностранный
LOCATION:3 к. 501
END:VEVENT
END:VCALENDAR