BEGIN:VCALENDAR
VERSION:2.0
PRODID:-//spbstu.ru//ical//RU
NAME:Расписание группы 5132704/50004
X-WR-CALNAME:Расписание группы 5132704/50004
TIMEZONE-ID:Europe/Moscow
X-WR-TIMEZONE:Europe/Moscow
BEGIN:VEVENT
UID:uwn7@192.168.245.71:3006
SEQUENCE:0
DTSTAMP:20260424T145533Z
DTSTART:20251124T070000Z
DTEND:20251124T084000Z
SUMMARY:Алгоритмизация и программирование
LOCATION:16 к. 414
END:VEVENT
BEGIN:VEVENT
UID:yo15@192.168.245.71:3006
SEQUENCE:0
DTSTAMP:20260424T145533Z
DTSTART:20251124T090000Z
DTEND:20251124T104000Z
SUMMARY:Введение в профессиональную деятельность
LOCATION:16 к. 313
END:VEVENT
BEGIN:VEVENT
UID:t99s@192.168.245.71:3006
SEQUENCE:0
DTSTAMP:20260424T145533Z
DTSTART:20251124T110000Z
DTEND:20251124T124000Z
SUMMARY:Экономическая культура
LOCATION:3 к. 504
END:VEVENT
BEGIN:VEVENT
UID:pels@192.168.245.71:3006
SEQUENCE:0
DTSTAMP:20260424T145533Z
DTSTART:20251125T070000Z
DTEND:20251125T084000Z
SUMMARY:Высшая математика
LOCATION:11 к. 315
END:VEVENT
BEGIN:VEVENT
UID:ju1f@192.168.245.71:3006
SEQUENCE:0
DTSTAMP:20260424T145533Z
DTSTART:20251126T050000Z
DTEND:20251126T064000Z
SUMMARY:Элективная физическая культура и спорт
LOCATION:ГЗ Белый зал
END:VEVENT
BEGIN:VEVENT
UID:otqw@192.168.245.71:3006
SEQUENCE:0
DTSTAMP:20260424T145533Z
DTSTART:20251126T070000Z
DTEND:20251126T084000Z
SUMMARY:Физика
LOCATION:ГЗ 324
END:VEVENT
BEGIN:VEVENT
UID:bh6i@192.168.245.71:3006
SEQUENCE:0
DTSTAMP:20260424T145533Z
DTSTART:20251126T090000Z
DTEND:20251126T104000Z
SUMMARY:Физика
LOCATION:11 к. 309
END:VEVENT
BEGIN:VEVENT
UID:nq47@192.168.245.71:3006
SEQUENCE:0
DTSTAMP:20260424T145533Z
DTSTART:20251126T110000Z
DTEND:20251126T140000Z
SUMMARY:Высшая математика
LOCATION:ГЗ 237
END:VEVENT
BEGIN:VEVENT
UID:hofn@192.168.245.71:3006
SEQUENCE:0
DTSTAMP:20260424T145533Z
DTSTART:20251127T070000Z
DTEND:20251127T084000Z
SUMMARY:Высшая математика
LOCATION:11 к. 316
END:VEVENT
BEGIN:VEVENT
UID:kl21@192.168.245.71:3006
SEQUENCE:0
DTSTAMP:20260424T145533Z
DTSTART:20251127T110000Z
DTEND:20251127T124000Z
SUMMARY:Алгоритмизация и программирование
LOCATION:16 к. 309
END:VEVENT
BEGIN:VEVENT
UID:i433@192.168.245.71:3006
SEQUENCE:0
DTSTAMP:20260424T145533Z
DTSTART:20251127T110000Z
DTEND:20251127T124000Z
SUMMARY:Алгоритмизация и программирование
LOCATION:16 к. 309
END:VEVENT
BEGIN:VEVENT
UID:3hwp@192.168.245.71:3006
SEQUENCE:0
DTSTAMP:20260424T145533Z
DTSTART:20251127T130000Z
DTEND:20251127T144000Z
SUMMARY:Алгоритмизация и программирование
LOCATION:16 к. 309
END:VEVENT
BEGIN:VEVENT
UID:4san@192.168.245.71:3006
SEQUENCE:0
DTSTAMP:20260424T145533Z
DTSTART:20251127T130000Z
DTEND:20251127T144000Z
SUMMARY:Алгоритмизация и программирование
LOCATION:16 к. 309
END:VEVENT
BEGIN:VEVENT
UID:5238@192.168.245.71:3006
SEQUENCE:0
DTSTAMP:20260424T145533Z
DTSTART:20251127T150000Z
DTEND:20251127T164000Z
SUMMARY:Основы цифровых технологий
LOCATION:16 к. 414
END:VEVENT
BEGIN:VEVENT
UID:623i@192.168.245.71:3006
SEQUENCE:0
DTSTAMP:20260424T145533Z
DTSTART:20251128T050000Z
DTEND:20251128T064000Z
SUMMARY:Иностранный язык: Русский язык как иностранный
LOCATION:3 к. 501
END:VEVENT
BEGIN:VEVENT
UID:wpl0@192.168.245.71:3006
SEQUENCE:0
DTSTAMP:20260424T145533Z
DTSTART:20251128T070000Z
DTEND:20251128T084000Z
SUMMARY:Физика
LOCATION:ГЗ 237
END:VEVENT
BEGIN:VEVENT
UID:65fi@192.168.245.71:3006
SEQUENCE:0
DTSTAMP:20260424T145533Z
DTSTART:20251129T050000Z
DTEND:20251129T064000Z
SUMMARY:Введение в профессиональную деятельность
LOCATION:16 к. 414
END:VEVENT
BEGIN:VEVENT
UID:8s9g@192.168.245.71:3006
SEQUENCE:0
DTSTAMP:20260424T145533Z
DTSTART:20251129T070000Z
DTEND:20251129T084000Z
SUMMARY:Элективная физическая культура и спорт
LOCATION:СК Секции
END:VEVENT
BEGIN:VEVENT
UID:zyaz@192.168.245.71:3006
SEQUENCE:0
DTSTAMP:20260424T145533Z
DTSTART:20251129T090000Z
DTEND:20251129T104000Z
SUMMARY:Основы российской государственности
LOCATION:11 к. 322
END:VEVENT
BEGIN:VEVENT
UID:37l4@192.168.245.71:3006
SEQUENCE:0
DTSTAMP:20260424T145533Z
DTSTART:20251129T110000Z
DTEND:20251129T124000Z
SUMMARY:Иностранный язык: Базовый курс
LOCATION:11 к. 315
END:VEVENT
BEGIN:VEVENT
UID:q3og@192.168.245.71:3006
SEQUENCE:0
DTSTAMP:20260424T145533Z
DTSTART:20251129T110000Z
DTEND:20251129T124000Z
SUMMARY:Иностранный язык: Русский язык как иностранный
LOCATION:3 к. 211
END:VEVENT
BEGIN:VEVENT
UID:wbn5@192.168.245.71:3006
SEQUENCE:0
DTSTAMP:20260424T145533Z
DTSTART:20251129T150000Z
DTEND:20251129T164000Z
SUMMARY:Инженерная графика
LOCATION:11 к. 329
END:VEVENT
END:VCALENDAR