BEGIN:VCALENDAR
VERSION:2.0
PRODID:-//spbstu.ru//ical//RU
NAME:Расписание группы 5132704/50004
X-WR-CALNAME:Расписание группы 5132704/50004
TIMEZONE-ID:Europe/Moscow
X-WR-TIMEZONE:Europe/Moscow
BEGIN:VEVENT
UID:r1nx@192.168.245.71:3006
SEQUENCE:0
DTSTAMP:20260424T000444Z
DTSTART:20251208T070000Z
DTEND:20251208T084000Z
SUMMARY:Алгоритмизация и программирование
LOCATION:16 к. 414
END:VEVENT
BEGIN:VEVENT
UID:evav@192.168.245.71:3006
SEQUENCE:0
DTSTAMP:20260424T000444Z
DTSTART:20251208T090000Z
DTEND:20251208T104000Z
SUMMARY:Введение в профессиональную деятельность
LOCATION:16 к. 313
END:VEVENT
BEGIN:VEVENT
UID:ox9v@192.168.245.71:3006
SEQUENCE:0
DTSTAMP:20260424T000444Z
DTSTART:20251210T050000Z
DTEND:20251210T064000Z
SUMMARY:Элективная физическая культура и спорт
LOCATION:СК Секции
END:VEVENT
BEGIN:VEVENT
UID:6u0j@192.168.245.71:3006
SEQUENCE:0
DTSTAMP:20260424T000444Z
DTSTART:20251210T070000Z
DTEND:20251210T084000Z
SUMMARY:Физика
LOCATION:ГЗ 324
END:VEVENT
BEGIN:VEVENT
UID:rf98@192.168.245.71:3006
SEQUENCE:0
DTSTAMP:20260424T000444Z
DTSTART:20251210T090000Z
DTEND:20251210T104000Z
SUMMARY:Физика
LOCATION:11 к. 309
END:VEVENT
BEGIN:VEVENT
UID:rxus@192.168.245.71:3006
SEQUENCE:0
DTSTAMP:20260424T000444Z
DTSTART:20251210T110000Z
DTEND:20251210T140000Z
SUMMARY:Высшая математика
LOCATION:ГЗ 237
END:VEVENT
BEGIN:VEVENT
UID:12w4@192.168.245.71:3006
SEQUENCE:0
DTSTAMP:20260424T000444Z
DTSTART:20251210T140000Z
DTEND:20251210T164000Z
SUMMARY:Факультатив по физике
LOCATION:ГЗ 237
END:VEVENT
BEGIN:VEVENT
UID:dtsw@192.168.245.71:3006
SEQUENCE:0
DTSTAMP:20260424T000444Z
DTSTART:20251211T070000Z
DTEND:20251211T084000Z
SUMMARY:Высшая математика
LOCATION:11 к. 316
END:VEVENT
BEGIN:VEVENT
UID:k8ur@192.168.245.71:3006
SEQUENCE:0
DTSTAMP:20260424T000444Z
DTSTART:20251211T110000Z
DTEND:20251211T124000Z
SUMMARY:Алгоритмизация и программирование
LOCATION:16 к. 309
END:VEVENT
BEGIN:VEVENT
UID:fsy6@192.168.245.71:3006
SEQUENCE:0
DTSTAMP:20260424T000444Z
DTSTART:20251211T110000Z
DTEND:20251211T124000Z
SUMMARY:Алгоритмизация и программирование
LOCATION:16 к. 309
END:VEVENT
BEGIN:VEVENT
UID:x336@192.168.245.71:3006
SEQUENCE:0
DTSTAMP:20260424T000444Z
DTSTART:20251211T130000Z
DTEND:20251211T135000Z
SUMMARY:Алгоритмизация и программирование
LOCATION:16 к. 309
END:VEVENT
BEGIN:VEVENT
UID:ol7s@192.168.245.71:3006
SEQUENCE:0
DTSTAMP:20260424T000444Z
DTSTART:20251211T130000Z
DTEND:20251211T135000Z
SUMMARY:Алгоритмизация и программирование
LOCATION:16 к. 309
END:VEVENT
BEGIN:VEVENT
UID:8xvl@192.168.245.71:3006
SEQUENCE:0
DTSTAMP:20260424T000444Z
DTSTART:20251212T050000Z
DTEND:20251212T064000Z
SUMMARY:Иностранный язык: Русский язык как иностранный
LOCATION:3 к. 501
END:VEVENT
BEGIN:VEVENT
UID:bsen@192.168.245.71:3006
SEQUENCE:0
DTSTAMP:20260424T000444Z
DTSTART:20251213T050000Z
DTEND:20251213T064000Z
SUMMARY:Введение в профессиональную деятельность
LOCATION:16 к. 414
END:VEVENT
BEGIN:VEVENT
UID:wopc@192.168.245.71:3006
SEQUENCE:0
DTSTAMP:20260424T000444Z
DTSTART:20251213T090000Z
DTEND:20251213T104000Z
SUMMARY:Основы российской государственности
LOCATION:11 к. 322
END:VEVENT
BEGIN:VEVENT
UID:y3b0@192.168.245.71:3006
SEQUENCE:0
DTSTAMP:20260424T000444Z
DTSTART:20251213T110000Z
DTEND:20251213T124000Z
SUMMARY:Иностранный язык: Русский язык как иностранный
LOCATION:3 к. 211
END:VEVENT
BEGIN:VEVENT
UID:mabu@192.168.245.71:3006
SEQUENCE:0
DTSTAMP:20260424T000444Z
DTSTART:20251213T110000Z
DTEND:20251213T124000Z
SUMMARY:Иностранный язык: Базовый курс
LOCATION:11 к. 315
END:VEVENT
BEGIN:VEVENT
UID:pe6w@192.168.245.71:3006
SEQUENCE:0
DTSTAMP:20260424T000444Z
DTSTART:20251213T150000Z
DTEND:20251213T164000Z
SUMMARY:Инженерная графика
LOCATION:11 к. 329
END:VEVENT
END:VCALENDAR