BEGIN:VCALENDAR
VERSION:2.0
PRODID:-//spbstu.ru//ical//RU
NAME:Расписание группы 5140201/50301
X-WR-CALNAME:Расписание группы 5140201/50301
TIMEZONE-ID:Europe/Moscow
X-WR-TIMEZONE:Europe/Moscow
BEGIN:VEVENT
UID:taqe@192.168.245.71:3006
SEQUENCE:0
DTSTAMP:20260425T105305Z
DTSTART:20251105T130000Z
DTEND:20251105T144000Z
SUMMARY:Иностранный язык в профессиональной коммуникации\, Английский
LOCATION:11 к. 322
END:VEVENT
BEGIN:VEVENT
UID:979j@192.168.245.71:3006
SEQUENCE:0
DTSTAMP:20260425T105305Z
DTSTART:20251106T070000Z
DTEND:20251106T084000Z
SUMMARY:Элементы теории вероятности и линейной алгебры
LOCATION:4 к. 308-2
END:VEVENT
BEGIN:VEVENT
UID:szmv@192.168.245.71:3006
SEQUENCE:0
DTSTAMP:20260425T105305Z
DTSTART:20251106T090000Z
DTEND:20251106T104000Z
SUMMARY:Элементы теории вероятности и линейной алгебры
LOCATION:4 к. 308-2
END:VEVENT
BEGIN:VEVENT
UID:pyqt@192.168.245.71:3006
SEQUENCE:0
DTSTAMP:20260425T105305Z
DTSTART:20251106T110000Z
DTEND:20251106T124000Z
SUMMARY:Управление знаниями и технологии баз данных
LOCATION:4 к. 307
END:VEVENT
BEGIN:VEVENT
UID:o4tv@192.168.245.71:3006
SEQUENCE:0
DTSTAMP:20260425T105305Z
DTSTART:20251106T130000Z
DTEND:20251106T135000Z
SUMMARY:Управление знаниями и технологии баз данных
LOCATION:4 к. 308-2
END:VEVENT
BEGIN:VEVENT
UID:1qiy@192.168.245.71:3006
SEQUENCE:0
DTSTAMP:20260425T105305Z
DTSTART:20251107T130000Z
DTEND:20251107T135000Z
SUMMARY:Статистический анализ данных
LOCATION:11 к. 322
END:VEVENT
END:VCALENDAR