BEGIN:VCALENDAR
VERSION:2.0
PRODID:-//spbstu.ru//ical//RU
NAME:Расписание группы 5140201/50301
X-WR-CALNAME:Расписание группы 5140201/50301
TIMEZONE-ID:Europe/Moscow
X-WR-TIMEZONE:Europe/Moscow
BEGIN:VEVENT
UID:7v2q@192.168.245.71:3006
SEQUENCE:0
DTSTAMP:20260423T061206Z
DTSTART:20260112T130000Z
DTEND:20260112T144000Z
SUMMARY:Машинное обучение
LOCATION:DL Дистанционно
END:VEVENT
BEGIN:VEVENT
UID:9g2m@192.168.245.71:3006
SEQUENCE:0
DTSTAMP:20260423T061206Z
DTSTART:20260113T070000Z
DTEND:20260113T140000Z
SUMMARY:Машинное обучение
LOCATION:НИК А1.08
END:VEVENT
BEGIN:VEVENT
UID:prs4@192.168.245.71:3006
SEQUENCE:0
DTSTAMP:20260423T061206Z
DTSTART:20260116T130000Z
DTEND:20260116T144000Z
SUMMARY:Статистический анализ данных
LOCATION:11 к. 328
END:VEVENT
BEGIN:VEVENT
UID:3e3b@192.168.245.71:3006
SEQUENCE:0
DTSTAMP:20260423T061206Z
DTSTART:20260117T070000Z
DTEND:20260117T140000Z
SUMMARY:Статистический анализ данных
LOCATION:11 к. 328
END:VEVENT
END:VCALENDAR