BEGIN:VCALENDAR
VERSION:2.0
PRODID:-//spbstu.ru//ical//RU
NAME:Расписание группы 5140201/50301
X-WR-CALNAME:Расписание группы 5140201/50301
TIMEZONE-ID:Europe/Moscow
X-WR-TIMEZONE:Europe/Moscow
BEGIN:VEVENT
UID:cfba@192.168.245.71:3006
SEQUENCE:0
DTSTAMP:20260421T132239Z
DTSTART:20260413T100000Z
DTEND:20260413T120000Z
SUMMARY:Элементы теории вероятности и линейной алгебры
LOCATION:11 к. 143
END:VEVENT
BEGIN:VEVENT
UID:zg93@192.168.245.71:3006
SEQUENCE:0
DTSTAMP:20260421T132239Z
DTSTART:20260415T070000Z
DTEND:20260415T084000Z
SUMMARY:Глубокое машинное обучение
LOCATION:4 к. 308-2
END:VEVENT
BEGIN:VEVENT
UID:jud3@192.168.245.71:3006
SEQUENCE:0
DTSTAMP:20260421T132239Z
DTSTART:20260415T090000Z
DTEND:20260415T104000Z
SUMMARY:Глубокое машинное обучение
LOCATION:4 к. 305-2
END:VEVENT
BEGIN:VEVENT
UID:889u@192.168.245.71:3006
SEQUENCE:0
DTSTAMP:20260421T132239Z
DTSTART:20260415T110000Z
DTEND:20260415T124000Z
SUMMARY:Статистика больших данных
LOCATION:4 к. 308-2
END:VEVENT
BEGIN:VEVENT
UID:7p47@192.168.245.71:3006
SEQUENCE:0
DTSTAMP:20260421T132239Z
DTSTART:20260415T130000Z
DTEND:20260415T144000Z
SUMMARY:Глубокое машинное обучение
LOCATION:4 к. 305-2
END:VEVENT
BEGIN:VEVENT
UID:807o@192.168.245.71:3006
SEQUENCE:0
DTSTAMP:20260421T132239Z
DTSTART:20260416T070000Z
DTEND:20260416T075000Z
SUMMARY:Архитектура приложений с элементами искусственного интеллекта
LOCATION:11 к. 143
END:VEVENT
BEGIN:VEVENT
UID:mzfb@192.168.245.71:3006
SEQUENCE:0
DTSTAMP:20260421T132239Z
DTSTART:20260416T090000Z
DTEND:20260416T104000Z
SUMMARY:Архитектура приложений с элементами искусственного интеллекта
LOCATION:11 к. 329
END:VEVENT
BEGIN:VEVENT
UID:bwqk@192.168.245.71:3006
SEQUENCE:0
DTSTAMP:20260421T132239Z
DTSTART:20260416T110000Z
DTEND:20260416T115000Z
SUMMARY:Анализ больших данных
LOCATION:11 к. 107
END:VEVENT
BEGIN:VEVENT
UID:2uk1@192.168.245.71:3006
SEQUENCE:0
DTSTAMP:20260421T132239Z
DTSTART:20260416T120000Z
DTEND:20260416T134000Z
SUMMARY:Анализ больших данных
LOCATION:11 к. 107
END:VEVENT
BEGIN:VEVENT
UID:2m9x@192.168.245.71:3006
SEQUENCE:0
DTSTAMP:20260421T132239Z
DTSTART:20260416T140000Z
DTEND:20260416T145000Z
SUMMARY:Архитектура приложений с элементами искусственного интеллекта
LOCATION:11 к. 329
END:VEVENT
BEGIN:VEVENT
UID:6baa@192.168.245.71:3006
SEQUENCE:0
DTSTAMP:20260421T132239Z
DTSTART:20260417T060000Z
DTEND:20260417T065000Z
SUMMARY:Топологический анализ данных
LOCATION:НИК А1.08
END:VEVENT
BEGIN:VEVENT
UID:jjhq@192.168.245.71:3006
SEQUENCE:0
DTSTAMP:20260421T132239Z
DTSTART:20260417T070000Z
DTEND:20260417T075000Z
SUMMARY:Топологический анализ данных
LOCATION:НИК А1.08
END:VEVENT
BEGIN:VEVENT
UID:xfi4@192.168.245.71:3006
SEQUENCE:0
DTSTAMP:20260421T132239Z
DTSTART:20260417T110000Z
DTEND:20260417T115000Z
SUMMARY:Методы оптимизации
LOCATION:НИК А1.08
END:VEVENT
BEGIN:VEVENT
UID:ta4j@192.168.245.71:3006
SEQUENCE:0
DTSTAMP:20260421T132239Z
DTSTART:20260417T120000Z
DTEND:20260417T125000Z
SUMMARY:Методы оптимизации
LOCATION:НИК А1.08
END:VEVENT
BEGIN:VEVENT
UID:ooh0@192.168.245.71:3006
SEQUENCE:0
DTSTAMP:20260421T132239Z
DTSTART:20260417T130000Z
DTEND:20260417T144000Z
SUMMARY:Топологический анализ данных
LOCATION:НИК А1.08
END:VEVENT
END:VCALENDAR