BEGIN:VCALENDAR
VERSION:2.0
PRODID:-//spbstu.ru//ical//RU
NAME:Расписание группы 5140201/50301
X-WR-CALNAME:Расписание группы 5140201/50301
TIMEZONE-ID:Europe/Moscow
X-WR-TIMEZONE:Europe/Moscow
BEGIN:VEVENT
UID:243v@192.168.245.71:3006
SEQUENCE:0
DTSTAMP:20260421T234855Z
DTSTART:20260506T070000Z
DTEND:20260506T084000Z
SUMMARY:Глубокое машинное обучение
LOCATION:4 к. 308-2
END:VEVENT
BEGIN:VEVENT
UID:y2eq@192.168.245.71:3006
SEQUENCE:0
DTSTAMP:20260421T234855Z
DTSTART:20260506T090000Z
DTEND:20260506T104000Z
SUMMARY:Глубокое машинное обучение
LOCATION:4 к. 305-2
END:VEVENT
BEGIN:VEVENT
UID:k13v@192.168.245.71:3006
SEQUENCE:0
DTSTAMP:20260421T234855Z
DTSTART:20260506T110000Z
DTEND:20260506T124000Z
SUMMARY:Статистика больших данных
LOCATION:4 к. 308-2
END:VEVENT
BEGIN:VEVENT
UID:aonl@192.168.245.71:3006
SEQUENCE:0
DTSTAMP:20260421T234855Z
DTSTART:20260507T090000Z
DTEND:20260507T104000Z
SUMMARY:Архитектура приложений с элементами искусственного интеллекта
LOCATION:11 к. 329
END:VEVENT
BEGIN:VEVENT
UID:k31m@192.168.245.71:3006
SEQUENCE:0
DTSTAMP:20260421T234855Z
DTSTART:20260507T110000Z
DTEND:20260507T115000Z
SUMMARY:Анализ больших данных
LOCATION:11 к. 107
END:VEVENT
BEGIN:VEVENT
UID:futj@192.168.245.71:3006
SEQUENCE:0
DTSTAMP:20260421T234855Z
DTSTART:20260507T120000Z
DTEND:20260507T134000Z
SUMMARY:Анализ больших данных
LOCATION:11 к. 107
END:VEVENT
BEGIN:VEVENT
UID:em8v@192.168.245.71:3006
SEQUENCE:0
DTSTAMP:20260421T234855Z
DTSTART:20260508T060000Z
DTEND:20260508T065000Z
SUMMARY:Топологический анализ данных
LOCATION:НИК А1.08
END:VEVENT
BEGIN:VEVENT
UID:wk1k@192.168.245.71:3006
SEQUENCE:0
DTSTAMP:20260421T234855Z
DTSTART:20260508T070000Z
DTEND:20260508T075000Z
SUMMARY:Топологический анализ данных
LOCATION:НИК А1.08
END:VEVENT
BEGIN:VEVENT
UID:5zrj@192.168.245.71:3006
SEQUENCE:0
DTSTAMP:20260421T234855Z
DTSTART:20260508T110000Z
DTEND:20260508T115000Z
SUMMARY:Методы оптимизации
LOCATION:НИК А1.08
END:VEVENT
BEGIN:VEVENT
UID:7xmk@192.168.245.71:3006
SEQUENCE:0
DTSTAMP:20260421T234855Z
DTSTART:20260508T120000Z
DTEND:20260508T125000Z
SUMMARY:Методы оптимизации
LOCATION:НИК А1.08
END:VEVENT
BEGIN:VEVENT
UID:3kq7@192.168.245.71:3006
SEQUENCE:0
DTSTAMP:20260421T234855Z
DTSTART:20260508T130000Z
DTEND:20260508T144000Z
SUMMARY:Топологический анализ данных
LOCATION:НИК А1.08
END:VEVENT
END:VCALENDAR